BEGIN:VCALENDAR
VERSION:2.0
PRODID:-//Qld District - ECPv6.6.2//NONSGML v1.0//EN
CALSCALE:GREGORIAN
METHOD:PUBLISH
X-WR-CALNAME:Qld District
X-ORIGINAL-URL:https://qld.lca.org.au
X-WR-CALDESC:Events for Qld District
REFRESH-INTERVAL;VALUE=DURATION:PT1H
X-Robots-Tag:noindex
X-PUBLISHED-TTL:PT1H
BEGIN:VTIMEZONE
TZID:Australia/Brisbane
BEGIN:STANDARD
TZOFFSETFROM:+1000
TZOFFSETTO:+1000
TZNAME:AEST
DTSTART:20230101T000000
END:STANDARD
END:VTIMEZONE
BEGIN:VEVENT
DTSTART;TZID=Australia/Brisbane:20231209T080000
DTEND;TZID=Australia/Brisbane:20231215T170000
DTSTAMP:20260421T131046
CREATED:20221109T015302Z
LAST-MODIFIED:20221109T015302Z
UID:15013-1702108800-1702659600@qld.lca.org.au
SUMMARY:LYQ Family Camp 2023
DESCRIPTION:Details to come.
URL:https://qld.lca.org.au/event/lyq-family-camp-2023/
CATEGORIES:Event
ORGANIZER;CN="Lutheran Youth Queensland":MAILTO:office@lyq.org.au
END:VEVENT
BEGIN:VEVENT
DTSTART;TZID=Australia/Brisbane:20231210T080000
DTEND;TZID=Australia/Brisbane:20231215T170000
DTSTAMP:20260421T131046
CREATED:20221109T015431Z
LAST-MODIFIED:20221109T015431Z
UID:15015-1702195200-1702659600@qld.lca.org.au
SUMMARY:LYQ Senior Blast Camp
DESCRIPTION:Details to come.
URL:https://qld.lca.org.au/event/lyq-senior-blast-camp/
CATEGORIES:Event
ORGANIZER;CN="Lutheran Youth Queensland":MAILTO:office@lyq.org.au
END:VEVENT
BEGIN:VEVENT
DTSTART;TZID=Australia/Brisbane:20231210T080000
DTEND;TZID=Australia/Brisbane:20231215T170000
DTSTAMP:20260421T131046
CREATED:20221109T015535Z
LAST-MODIFIED:20221109T015535Z
UID:15018-1702195200-1702659600@qld.lca.org.au
SUMMARY:LYQ Junior Blast Camp
DESCRIPTION:Details to come.
URL:https://qld.lca.org.au/event/lyq-junior-blast-camp/
CATEGORIES:Event
ORGANIZER;CN="Lutheran Youth Queensland":MAILTO:office@lyq.org.au
END:VEVENT
BEGIN:VEVENT
DTSTART;TZID=Australia/Brisbane:20231211T190000
DTEND;TZID=Australia/Brisbane:20231211T223000
DTSTAMP:20260421T131046
CREATED:20221220T051420Z
LAST-MODIFIED:20221220T051420Z
UID:15237-1702321200-1702333800@qld.lca.org.au
SUMMARY:Council for Lutheran Services Meeting
DESCRIPTION:For Council for Lutheran Services members\nSupport Centre Prenzler Meeting Room\nLutheran Services Governance Administration
URL:https://qld.lca.org.au/event/council-for-lutheran-services-meeting-11/
CATEGORIES:Meeting
END:VEVENT
BEGIN:VEVENT
DTSTART;TZID=Australia/Brisbane:20231214T170000
DTEND;TZID=Australia/Brisbane:20231214T193000
DTSTAMP:20260421T131046
CREATED:20221109T004434Z
LAST-MODIFIED:20221109T004434Z
UID:14991-1702573200-1702582200@qld.lca.org.au
SUMMARY:Risk\, Audit and Finance Committee (RAFC) Meeting
DESCRIPTION:
URL:https://qld.lca.org.au/event/risk-audit-and-finance-committee-rafc-meeting-11/
LOCATION:Zoom
CATEGORIES:Meeting
END:VEVENT
BEGIN:VEVENT
DTSTART;TZID=Australia/Brisbane:20231218T190000
DTEND;TZID=Australia/Brisbane:20231218T203000
DTSTAMP:20260421T131046
CREATED:20221220T053602Z
LAST-MODIFIED:20221220T053602Z
UID:15259-1702926000-1702931400@qld.lca.org.au
SUMMARY:CLS Executive Meeting
DESCRIPTION:Meeting of the Council of Lutheran Services Executive\nSupport Centre Hanley Meeting Room\nLutheran Services Governance Administration
URL:https://qld.lca.org.au/event/cls-executive-meeting-11/
CATEGORIES:Meeting
END:VEVENT
BEGIN:VEVENT
DTSTART;TZID=Australia/Brisbane:20231220T130000
DTEND;TZID=Australia/Brisbane:20231220T203000
DTSTAMP:20260421T131046
CREATED:20220929T045614Z
LAST-MODIFIED:20220929T045614Z
UID:14742-1703077200-1703104200@qld.lca.org.au
SUMMARY:District Church Board (DCB)
DESCRIPTION:DCB Exec meetings will be held as required to address matters referred from the full DCB.
URL:https://qld.lca.org.au/event/district-church-board-dcb-13/
LOCATION:24 McDougall Street\, Milton\, 24 McDougall Street\, Milton\, Brisbane\, Queensland\, 4064\, Australia
CATEGORIES:Governance Council Meeting
ORGANIZER;CN="LCAQD":MAILTO:district@qld.lca.org.au
END:VEVENT
END:VCALENDAR