BEGIN:VCALENDAR
VERSION:2.0
PRODID:-//Qld District - ECPv6.6.2//NONSGML v1.0//EN
CALSCALE:GREGORIAN
METHOD:PUBLISH
X-WR-CALNAME:Qld District
X-ORIGINAL-URL:https://qld.lca.org.au
X-WR-CALDESC:Events for Qld District
REFRESH-INTERVAL;VALUE=DURATION:PT1H
X-Robots-Tag:noindex
X-PUBLISHED-TTL:PT1H
BEGIN:VTIMEZONE
TZID:UTC
BEGIN:STANDARD
TZOFFSETFROM:+0000
TZOFFSETTO:+0000
TZNAME:UTC
DTSTART:20190101T000000
END:STANDARD
END:VTIMEZONE
BEGIN:VEVENT
DTSTART;TZID=UTC:20190902T180000
DTEND;TZID=UTC:20190902T210000
DTSTAMP:20260421T130840
CREATED:20190724T180538Z
LAST-MODIFIED:20190724T180550Z
UID:9800-1567447200-1567458000@qld.lca.org.au
SUMMARY:Constitutions Committee Meeting
DESCRIPTION:
URL:https://qld.lca.org.au/event/constitutions-committee-meeting/
END:VEVENT
BEGIN:VEVENT
DTSTART;TZID=UTC:20190828T153000
DTEND;TZID=UTC:20190828T210000
DTSTAMP:20260421T130840
CREATED:20190724T165349Z
LAST-MODIFIED:20191204T144049Z
UID:9784-1567006200-1567026000@qld.lca.org.au
SUMMARY:District Church Board Meeting
DESCRIPTION:
URL:https://qld.lca.org.au/event/district-church-board-meeting/
LOCATION:24 McDougall Street\, Milton\, 24 McDougall Street\, Milton\, Brisbane\, Queensland\, 4064\, Australia
CATEGORIES:Governance Council Meeting
END:VEVENT
BEGIN:VEVENT
DTSTART;TZID=UTC:20190827T080000
DTEND;TZID=UTC:20190829T170000
DTSTAMP:20260421T130840
CREATED:20190619T145059Z
LAST-MODIFIED:20190619T145059Z
UID:9538-1566892800-1567098000@qld.lca.org.au
SUMMARY:New Horizons
DESCRIPTION:New Horizons 2018 was a blessing to many. The theme for this 2019 is much needed and coincides with the release of a new book and associated video resources by Noel Due and Steen Olsen\, called  Spirit Filled: Normal Christian Living. The focus will be on missional leadership with particular reference to the person and work of the Spirit.
URL:https://qld.lca.org.au/event/new-horizons/
LOCATION:Nunyara Conference Centre\, 5 Burnell Drive\, Belair\, South Australia\, 5052
ATTACH;FMTTYPE=image/jpeg:https://qld.lca.org.au/wp-content/uploads/sites/16/2019/06/NewHorizons.jpg
END:VEVENT
BEGIN:VEVENT
DTSTART;TZID=UTC:20190804T063000
DTEND;TZID=UTC:20190804T170000
DTSTAMP:20260421T130840
CREATED:20190619T142653Z
LAST-MODIFIED:20190619T142653Z
UID:9522-1564900200-1564938000@qld.lca.org.au
SUMMARY:Walk My Way - Sunshine Coast
DESCRIPTION:Walk My Way Queensland!\nWe’re so excited you’re joining us to help refugee children go to school! \nEvent Details\nWhen: Sunday 4 August 2019\nStart: Good Shepherd Lutheran College\, 115 Eumundi Rd\, Noosaville\n6:30am registration and breakfast\n7:30am official start\nFinish: Luther Heights Youth Camp\, David Low Way\, Coolum Beach \nFor more information\, please visit the event website listed below.
URL:https://qld.lca.org.au/event/walk-my-way-sunshine-coast/
LOCATION:Luther Heights Youth Camp\, 1592-1606 David Low Way\, Coolum Beach\, Queensland\, 4573\, Australia
ATTACH;FMTTYPE=image/png:https://qld.lca.org.au/wp-content/uploads/sites/16/2019/06/walkmyway-e1560990386758.png
END:VEVENT
BEGIN:VEVENT
DTSTART;TZID=UTC:20190731T153000
DTEND;TZID=UTC:20190731T210000
DTSTAMP:20260421T130840
CREATED:20190724T164337Z
LAST-MODIFIED:20191204T144208Z
UID:9777-1564587000-1564606800@qld.lca.org.au
SUMMARY:District Church Board (Executive)
DESCRIPTION:
URL:https://qld.lca.org.au/event/district-church-board-executive/
LOCATION:24 McDougall Street\, Milton\, 24 McDougall Street\, Milton\, Brisbane\, Queensland\, 4064\, Australia
CATEGORIES:Governance Council Meeting
END:VEVENT
BEGIN:VEVENT
DTSTART;TZID=UTC:20190729T190000
DTEND;TZID=UTC:20190729T190000
DTSTAMP:20260421T130840
CREATED:20190623T090035Z
LAST-MODIFIED:20190623T170934Z
UID:9535-1564426800-1564426800@qld.lca.org.au
SUMMARY:Luminate Open Night
DESCRIPTION:Interested in a gap year with purpose? Been out of school for a few years but wanting to grow deeper in your faith? Come along to the Luminate Open Night to find out how the program might be right for you. Luminate is a gap year program for 17 – 22 year olds\, designed to explore who you are and who God is. If you want more information before the night about the program\, head on over to www.luminate.org.au to find out more.
URL:https://qld.lca.org.au/event/luminate-open-night/
LOCATION:St Paul’s Lutheran Church Hall\, Corner Buckland Rd & Atthow Parade\, Nundah\, Brisbane\, Queensland\, 4012\, Australia
CATEGORIES:Conferences & other events
ATTACH;FMTTYPE=image/jpeg:https://qld.lca.org.au/wp-content/uploads/sites/16/2019/06/facebook-banner-1.jpeg
END:VEVENT
BEGIN:VEVENT
DTSTART;VALUE=DATE:20190718
DTEND;VALUE=DATE:20190720
DTSTAMP:20260421T130840
CREATED:20190321T192513Z
LAST-MODIFIED:20190321T192513Z
UID:9226-1563408000-1563580799@qld.lca.org.au
SUMMARY:Lutheran Education Australia Conference: God talk in schools and ECSs
DESCRIPTION:
URL:https://qld.lca.org.au/event/lutheran-education-australia-conference-god-talk-in-schools-and-ecss/
LOCATION:Australian Catholic University
END:VEVENT
BEGIN:VEVENT
DTSTART;TZID=UTC:20190601T061500
DTEND;TZID=UTC:20190601T213000
DTSTAMP:20260421T130840
CREATED:20190410T163801Z
LAST-MODIFIED:20190515T114037Z
UID:9307-1559369700-1559424600@qld.lca.org.au
SUMMARY:LCAQD Synod Dinner 2019
DESCRIPTION:The guest speaker for Synod Dinner 2019 is local member for Toowoomba South\, David Janetzki.
URL:https://qld.lca.org.au/event/lcaqd-synod-2019-dinner/
LOCATION:North Ipswich Reserve Corporate Centre\, 43 The Terrace\, North Ipswich\, Queensland\, 4064\, Australia
END:VEVENT
BEGIN:VEVENT
DTSTART;TZID=UTC:20190531T170000
DTEND;TZID=UTC:20190602T153000
DTSTAMP:20260421T130840
CREATED:20181024T142812Z
LAST-MODIFIED:20190520T145811Z
UID:7944-1559322000-1559489400@qld.lca.org.au
SUMMARY:LCAQD Convention of Synod 2019
DESCRIPTION:
URL:https://qld.lca.org.au/event/queensland-district-synod/
LOCATION:Bethany Lutheran Church\, 86 Raceview Street\, Raceview\, Qld\, 4305\, Australia
CATEGORIES:Conferences & other events
END:VEVENT
BEGIN:VEVENT
DTSTART;VALUE=DATE:20190529
DTEND;VALUE=DATE:20190601
DTSTAMP:20260421T130840
CREATED:20190321T193725Z
LAST-MODIFIED:20190506T204012Z
UID:9232-1559088000-1559347199@qld.lca.org.au
SUMMARY:LCAQD Pastors Conference days 2-4
DESCRIPTION:
URL:https://qld.lca.org.au/event/lcaqd-pastors-conference-days-2-4/
LOCATION:Lord Lamington Suite\, Dovetails Restaurant\, 88 Limestone Street\, Ipswich
END:VEVENT
BEGIN:VEVENT
DTSTART;TZID=UTC:20190528T083000
DTEND;TZID=UTC:20190528T153000
DTSTAMP:20260421T130840
CREATED:20190321T193218Z
LAST-MODIFIED:20190321T193218Z
UID:9229-1559032200-1559057400@qld.lca.org.au
SUMMARY:LCAQD Ministry Summit
DESCRIPTION:
URL:https://qld.lca.org.au/event/lcaqd-ministry-summit/
LOCATION:North Ipswich Reserve Corporate Centre\, 2B Pine Street (off ‘The Terrace’)\, North Ipswich\, 2B Pine Street (off 'The Terrace')\, North Ipswich
END:VEVENT
BEGIN:VEVENT
DTSTART;TZID=UTC:20190405T130000
DTEND;TZID=UTC:20190406T160000
DTSTAMP:20260421T130840
CREATED:20190129T162559Z
LAST-MODIFIED:20190129T162559Z
UID:8687-1554469200-1554566400@qld.lca.org.au
SUMMARY:Aged Care and Community Services Gathering
DESCRIPTION:Registration is free. \nLimited parking is available. \nR.S.V.P. by 4 March 2019 to Tania Nelson via cma@lca.org.au \nPlease indicate your attendance at all or part of the Gathering\, your attendance at the Friday night dinner and any dietary requirements.
URL:https://qld.lca.org.au/event/aged-care-and-community-services-gathering/
LOCATION:St Paul’s Lutheran Church Hall\, Corner Buckland Rd & Atthow Parade\, Nundah\, Brisbane\, Queensland\, 4012\, Australia
END:VEVENT
BEGIN:VEVENT
DTSTART;TZID=UTC:20190316T084500
DTEND;TZID=UTC:20190316T163000
DTSTAMP:20260421T130840
CREATED:20190129T162103Z
LAST-MODIFIED:20190129T162722Z
UID:8684-1552725900-1552753800@qld.lca.org.au
SUMMARY:Elevation Training
DESCRIPTION:Registration: \nEarly Bird pricing ends 25 February 2019 ($55 including all training\, morning tea & lunch). \nRegistrations close Monday 11 March 2019. \n  \nThere is a $10 discount for students and pensioners. \n  \n 
URL:https://qld.lca.org.au/event/elevation-training/
LOCATION:Cannon Hill Anglican College\, Junction Road\, Cannon Hill\, Brisbane\, Queensland\, 4170\, Australia
END:VEVENT
BEGIN:VEVENT
DTSTART;TZID=UTC:20190214T170000
DTEND;TZID=UTC:20190214T190000
DTSTAMP:20260421T130840
CREATED:20190129T163305Z
LAST-MODIFIED:20191204T145150Z
UID:8693-1550163600-1550170800@qld.lca.org.au
SUMMARY:Risk Audit & Finance Committee (RAFC) Meeting
DESCRIPTION:
URL:https://qld.lca.org.au/event/risk-audit-finane-committee-rafc-meeting/
LOCATION:24 McDougall Street\, Milton\, 24 McDougall Street\, Milton\, Brisbane\, Queensland\, 4064\, Australia
CATEGORIES:Meeting
END:VEVENT
BEGIN:VEVENT
DTSTART;TZID=UTC:20190213T180000
DTEND;TZID=UTC:20190213T213000
DTSTAMP:20260421T130840
CREATED:20190129T165540Z
LAST-MODIFIED:20191124T192110Z
UID:8700-1550080800-1550093400@qld.lca.org.au
SUMMARY:Council for Lutheran Youth of Queensland (LYQ) Meeting
DESCRIPTION:
URL:https://qld.lca.org.au/event/council-for-lutheran-youth-of-queensland-lyq-meeting/
LOCATION:24 McDougall Street\, Milton\, 24 McDougall Street\, Milton\, Brisbane\, Queensland\, 4064\, Australia
END:VEVENT
BEGIN:VEVENT
DTSTART;TZID=UTC:20190211T180000
DTEND;TZID=UTC:20190211T220000
DTSTAMP:20260421T130840
CREATED:20190129T151012Z
LAST-MODIFIED:20191204T145609Z
UID:8660-1549908000-1549922400@qld.lca.org.au
SUMMARY:Council of Lutheran Services Meeting
DESCRIPTION:
URL:https://qld.lca.org.au/event/council-of-lutheran-services-meeting/
CATEGORIES:Governance Council Meeting
END:VEVENT
BEGIN:VEVENT
DTSTART;TZID=UTC:20190211T170000
DTEND;TZID=UTC:20190211T200000
DTSTAMP:20260421T130840
CREATED:20190129T143420Z
LAST-MODIFIED:20201029T181848Z
UID:8639-1549904400-1549915200@qld.lca.org.au
SUMMARY:Council for Ministry and Mission Meeting
DESCRIPTION:
URL:https://qld.lca.org.au/event/council-for-ministry-and-mission-meeting/
LOCATION:24 McDougall Street\, Milton\, 24 McDougall Street\, Milton\, Brisbane\, Queensland\, 4064\, Australia
CATEGORIES:Meeting
END:VEVENT
BEGIN:VEVENT
DTSTART;TZID=UTC:20190205T170000
DTEND;TZID=UTC:20190205T200000
DTSTAMP:20260421T130840
CREATED:20190129T150219Z
LAST-MODIFIED:20191124T192525Z
UID:8656-1549386000-1549396800@qld.lca.org.au
SUMMARY:Council of Lutheran Education Queensland (CLEQ) Meeting
DESCRIPTION:
URL:https://qld.lca.org.au/event/council-of-lutheran-education-queensland-qleq-meeting/
LOCATION:24 McDougall Street\, Milton\, 24 McDougall Street\, Milton\, Brisbane\, Queensland\, 4064\, Australia
CATEGORIES:Governance Council Meeting
END:VEVENT
BEGIN:VEVENT
DTSTART;TZID=UTC:20190129T180000
DTEND;TZID=UTC:20190129T200000
DTSTAMP:20260421T130840
CREATED:20190129T154943Z
LAST-MODIFIED:20191211T125057Z
UID:8663-1548784800-1548792000@qld.lca.org.au
SUMMARY:Council for Lutheran Services Meeting - Executive
DESCRIPTION:
URL:https://qld.lca.org.au/event/council-for-lutheran-services-executive/
LOCATION:24 McDougall Street\, Milton\, 24 McDougall Street\, Milton\, Brisbane\, Queensland\, 4064\, Australia
END:VEVENT
BEGIN:VEVENT
DTSTART;TZID=UTC:20190123T153000
DTEND;TZID=UTC:20190123T173000
DTSTAMP:20260421T130840
CREATED:20190129T161210Z
LAST-MODIFIED:20190724T185112Z
UID:8679-1548257400-1548264600@qld.lca.org.au
SUMMARY:District Church Council Meeting
DESCRIPTION:
URL:https://qld.lca.org.au/event/district-church-council-meeting/
END:VEVENT
BEGIN:VEVENT
DTSTART;TZID=UTC:20190109T150000
DTEND;TZID=UTC:20190109T170000
DTSTAMP:20260421T130840
CREATED:20190129T160345Z
LAST-MODIFIED:20190724T184855Z
UID:8666-1547046000-1547053200@qld.lca.org.au
SUMMARY:District Church Council Meeting - Executive
DESCRIPTION:
URL:https://qld.lca.org.au/event/district-church-council-meeting-executive/
LOCATION:24 McDougall Street\, Milton\, 24 McDougall Street\, Milton\, Brisbane\, Queensland\, 4064\, Australia
END:VEVENT
END:VCALENDAR