BEGIN:VCALENDAR
VERSION:2.0
PRODID:-//Qld District - ECPv6.6.2//NONSGML v1.0//EN
CALSCALE:GREGORIAN
METHOD:PUBLISH
X-WR-CALNAME:Qld District
X-ORIGINAL-URL:https://qld.lca.org.au
X-WR-CALDESC:Events for Qld District
REFRESH-INTERVAL;VALUE=DURATION:PT1H
X-Robots-Tag:noindex
X-PUBLISHED-TTL:PT1H
BEGIN:VTIMEZONE
TZID:UTC
BEGIN:STANDARD
TZOFFSETFROM:+0000
TZOFFSETTO:+0000
TZNAME:UTC
DTSTART:20200101T000000
END:STANDARD
TZID:Australia/Brisbane
BEGIN:STANDARD
TZOFFSETFROM:+1000
TZOFFSETTO:+1000
TZNAME:AEST
DTSTART:20210101T000000
END:STANDARD
END:VTIMEZONE
BEGIN:VEVENT
DTSTART;TZID=UTC:20210508T083000
DTEND;TZID=UTC:20210508T113000
DTSTAMP:20260421T034328
CREATED:20210118T153531Z
LAST-MODIFIED:20210118T153531Z
UID:11818-1620462600-1620473400@qld.lca.org.au
SUMMARY:Governance Workshop Hosted by LEQ
DESCRIPTION:Free workshop for all LCAQD Members. \nCouncil members\, as well as Principals and Business Managers\, are encouraged to join one of these Workshops to support their professional learning. \nContact Sandra.McCullough@leq.lutheran.edu.au for more information.
URL:https://qld.lca.org.au/event/governance-workshop-hosted-by-leq-2/
LOCATION:Queensland
CATEGORIES:Training & Development
END:VEVENT
BEGIN:VEVENT
DTSTART;TZID=Australia/Brisbane:20210320T083000
DTEND;TZID=Australia/Brisbane:20210320T120000
DTSTAMP:20260421T034328
CREATED:20210218T003340Z
LAST-MODIFIED:20210218T003340Z
UID:11987-1616229000-1616241600@qld.lca.org.au
SUMMARY:LEQ Schools Assembly (Zoom)
DESCRIPTION:
URL:https://qld.lca.org.au/event/leq-schools-assembly-zoom/
LOCATION:Queensland
CATEGORIES:Meeting
END:VEVENT
BEGIN:VEVENT
DTSTART;TZID=UTC:20210320T083000
DTEND;TZID=UTC:20210320T120000
DTSTAMP:20260421T034328
CREATED:20191204T200955Z
LAST-MODIFIED:20210118T153409Z
UID:10342-1616229000-1616241600@qld.lca.org.au
SUMMARY:LEQ Event: Schools Assembly (Zoom)
DESCRIPTION:This event involves Principals\, Business Managers and Council Chairs. \nIf you are planning an event with these attendees\, please avoid this date. \nFor more information\, please contact Sandra McCullough <Sandra.McCullough@leq.lutheran.edu.au>.
URL:https://qld.lca.org.au/event/leq-event-schools-assembly/
LOCATION:Zoom
CATEGORIES:Conferences & other events
END:VEVENT
BEGIN:VEVENT
DTSTART;TZID=Australia/Brisbane:20210225T130000
DTEND;TZID=Australia/Brisbane:20210225T130000
DTSTAMP:20260421T034328
CREATED:20210218T004100Z
LAST-MODIFIED:20210309T222309Z
UID:11997-1614258000-1614258000@qld.lca.org.au
SUMMARY:District Church Board (DCB) Meeting
DESCRIPTION:
URL:https://qld.lca.org.au/event/district-church-board-dcb-meeting/
LOCATION:24 McDougall Street\, Milton\, 24 McDougall Street\, Milton\, Brisbane\, Queensland\, 4064\, Australia
CATEGORIES:Meeting
END:VEVENT
BEGIN:VEVENT
DTSTART;TZID=Australia/Brisbane:20210223T000000
DTEND;TZID=Australia/Brisbane:20210223T000000
DTSTAMP:20260421T034328
CREATED:20210218T002421Z
LAST-MODIFIED:20210218T002501Z
UID:11943-1614038400-1614038400@qld.lca.org.au
SUMMARY:Lutheran Services Finance Audit and Risk Management Sub-Committee (FARM) Meeting
DESCRIPTION:
URL:https://qld.lca.org.au/event/finance-audit-and-risk-management-sub-committee-farm-meeting/
LOCATION:Queensland
CATEGORIES:Meeting
END:VEVENT
BEGIN:VEVENT
DTSTART;TZID=Australia/Brisbane:20210220T090000
DTEND;TZID=Australia/Brisbane:20210220T120000
DTSTAMP:20260421T034328
CREATED:20210128T233420Z
LAST-MODIFIED:20210128T233420Z
UID:11848-1613811600-1613822400@qld.lca.org.au
SUMMARY:Continuing our conversation on ordaining both women and men in the LCNZA
DESCRIPTION:INVITATION \nContinuing our conversation on ordaining both women and men in the LCNZA \nWHAT: A workshop addressing key ways forward in the conversation on ordaining both women and men in the LCNZA\, guiding Bishop Paul Smith’s input to the 2021 College of Bishops meeting with the GCB on this topic. \nWHERE: Bethany Lutheran Church\, 86 Raceview St\, Raceview\, Ipswich. \nWHEN: Saturday February 20th\, 2021. \nTIME: 9am – 12pm. \nREGISTRATION: Only registered attendees can participate due to COVID19 restrictions. \nYou are invited to join Bishop Paul Smith at the Bethany Lutheran Church\, Raceview\, Ipswich on Saturday February 20th between 9am and 12pm for a second workshop on ways forward regarding the conversation of ordaining both men and women in our Church. \nThis workshop has been commissioned by our District Church Board of the LCAQD. \nThe workshop is to enable Bishop Paul to bring guided reflection from a cross-section of LCAQD members to the next joint meeting of the GCB and the College of Bishops\, which will address the way forward on the ordination question in our Church. \nThere is a limit on the number of participants who may attend\, on account of COVID 19 restrictions.  Therefore pre-registration is essential.  It will not be possible to register on the day of the event. Those who would like to participate please register through Bronagh Quinn: \nBronagh.quinn@qld.lca.org.au (07 35114049). \nThere is no cost to attend this event. \nPre-meeting reading: https://www.lca.org.au/lcanz-leaders-report-on-ordination-deliberations/
URL:https://qld.lca.org.au/event/continuing-our-conversation-on-ordaining-both-women-and-men-in-the-lcnza/
LOCATION:Bethany Lutheran Church\, 86 Raceview Street\, Raceview\, Qld\, 4305\, Australia
CATEGORIES:Conferences & other events
END:VEVENT
BEGIN:VEVENT
DTSTART;TZID=Australia/Brisbane:20210211T170000
DTEND;TZID=Australia/Brisbane:20210211T170000
DTSTAMP:20260421T034328
CREATED:20210216T055321Z
LAST-MODIFIED:20210216T055321Z
UID:11905-1613062800-1613062800@qld.lca.org.au
SUMMARY:Finance Audit and Risk Management Committee (RAFC) Meeting
DESCRIPTION:
URL:https://qld.lca.org.au/event/finance-audit-and-risk-management-committee-rafc-meeting/
LOCATION:Queensland
CATEGORIES:Meeting
END:VEVENT
BEGIN:VEVENT
DTSTART;TZID=Australia/Brisbane:20210210T180000
DTEND;TZID=Australia/Brisbane:20210210T213000
DTSTAMP:20260421T034328
CREATED:20210218T003234Z
LAST-MODIFIED:20210218T003234Z
UID:11975-1612980000-1612992600@qld.lca.org.au
SUMMARY:Council of Lutheran Youth of Queenland (CLYQ) Meeting
DESCRIPTION:
URL:https://qld.lca.org.au/event/council-of-lutheran-youth-of-queenland-clyq-meeting/
LOCATION:24 McDougall Street\, Milton\, 24 McDougall Street\, Milton\, Brisbane\, Queensland\, 4064\, Australia
CATEGORIES:Meeting
END:VEVENT
BEGIN:VEVENT
DTSTART;TZID=Australia/Brisbane:20210209T000000
DTEND;TZID=Australia/Brisbane:20210209T000000
DTSTAMP:20260421T034328
CREATED:20210218T002617Z
LAST-MODIFIED:20210218T002617Z
UID:11952-1612828800-1612828800@qld.lca.org.au
SUMMARY:Lutheran Services Clinical Governance Sub-Committee
DESCRIPTION:
URL:https://qld.lca.org.au/event/lutheran-services-clinical-governance-sub-committee/
LOCATION:Queensland
CATEGORIES:Meeting
END:VEVENT
BEGIN:VEVENT
DTSTART;TZID=Australia/Brisbane:20210208T080000
DTEND;TZID=Australia/Brisbane:20210208T170000
DTSTAMP:20260421T034328
CREATED:20210216T054824Z
LAST-MODIFIED:20211027T023816Z
UID:11898-1612771200-1612803600@qld.lca.org.au
SUMMARY:Council of Ministry & Mission (M&M) Meeting
DESCRIPTION:
URL:https://qld.lca.org.au/event/council-of-ministry-mission-mm-meeting/
LOCATION:Queensland
CATEGORIES:Meeting
ORGANIZER;CN="Ministry &amp%3B Mission":MAILTO:david.schmidt@qld.lca.org.au
END:VEVENT
BEGIN:VEVENT
DTSTART;TZID=Australia/Brisbane:20210208T000000
DTEND;TZID=Australia/Brisbane:20210208T000000
DTSTAMP:20260421T034328
CREATED:20210218T005132Z
LAST-MODIFIED:20210218T005132Z
UID:12006-1612742400-1612742400@qld.lca.org.au
SUMMARY:Council for Lutheran Services (CLS) Meeting
DESCRIPTION:
URL:https://qld.lca.org.au/event/council-for-lutheran-services-cls-meeting/
LOCATION:Queensland
CATEGORIES:Meeting
END:VEVENT
BEGIN:VEVENT
DTSTART;TZID=Australia/Brisbane:20210208T000000
DTEND;TZID=Australia/Brisbane:20210208T000000
DTSTAMP:20260421T034328
CREATED:20210218T003020Z
LAST-MODIFIED:20210218T003020Z
UID:11963-1612742400-1612742400@qld.lca.org.au
SUMMARY:QLECS Council Meeting
DESCRIPTION:
URL:https://qld.lca.org.au/event/qlecs-council-meeting/
LOCATION:Queensland
CATEGORIES:Meeting
END:VEVENT
BEGIN:VEVENT
DTSTART;TZID=Australia/Brisbane:20210203T000000
DTEND;TZID=Australia/Brisbane:20210203T000000
DTSTAMP:20260421T034328
CREATED:20210218T002745Z
LAST-MODIFIED:20210218T002745Z
UID:11958-1612310400-1612310400@qld.lca.org.au
SUMMARY:Lutheran Services Lutheran Identity and Mission Sub-Committee
DESCRIPTION:
URL:https://qld.lca.org.au/event/lutheran-services-lutheran-identity-and-mission-sub-committee/
LOCATION:Queensland
CATEGORIES:Meeting
END:VEVENT
BEGIN:VEVENT
DTSTART;TZID=UTC:20210202T170000
DTEND;TZID=UTC:20210202T190000
DTSTAMP:20260421T034328
CREATED:20210118T152552Z
LAST-MODIFIED:20210118T152552Z
UID:11799-1612285200-1612292400@qld.lca.org.au
SUMMARY:Council of Lutheran Education Queensland (CLEQ) Meeting
DESCRIPTION:LEQ\, Level 2\, 24 McDougall Street\, Milton \nContact: Sandra McCullough <Sandra.McCullough@leq.lutheran.edu.au>
URL:https://qld.lca.org.au/event/council-of-lutheran-education-queensland-cleq-meeting/
LOCATION:24 McDougall Street\, Milton\, 24 McDougall Street\, Milton\, Brisbane\, Queensland\, 4064\, Australia
CATEGORIES:Governance Council Meeting
END:VEVENT
BEGIN:VEVENT
DTSTART;TZID=Australia/Brisbane:20210127T130000
DTEND;TZID=Australia/Brisbane:20210127T130000
DTSTAMP:20260421T034328
CREATED:20210218T003706Z
LAST-MODIFIED:20210218T003706Z
UID:11991-1611752400-1611752400@qld.lca.org.au
SUMMARY:District Church Board Executive (DCB Exec) Meeting
DESCRIPTION:
URL:https://qld.lca.org.au/event/district-church-board-executive-dcb-exec-meeting/
LOCATION:Queensland
CATEGORIES:Meeting
END:VEVENT
BEGIN:VEVENT
DTSTART;TZID=Australia/Brisbane:20210118T000000
DTEND;TZID=Australia/Brisbane:20210118T000000
DTSTAMP:20260421T034328
CREATED:20210218T001128Z
LAST-MODIFIED:20210218T001716Z
UID:11913-1610928000-1610928000@qld.lca.org.au
SUMMARY:Council for Lutheran Services Executive Committee (CLS Exec) Meeting
DESCRIPTION:
URL:https://qld.lca.org.au/event/council-for-lutheran-services-executive-committee-cls-exec-meeting/
LOCATION:Prenzler meeting room\, Level 2\, 24 McDougall Street Milton
CATEGORIES:Meeting
END:VEVENT
BEGIN:VEVENT
DTSTART;TZID=UTC:20201107T183000
DTEND;TZID=UTC:20201107T223000
DTSTAMP:20260421T034328
CREATED:20200309T153316Z
LAST-MODIFIED:20200629T172244Z
UID:10837-1604773800-1604788200@qld.lca.org.au
SUMMARY:Redeemer Lutheran College 40th Anniversary Gala Dinner
DESCRIPTION:You are invited to join us as we celebrate the 40th anniversary of Redeemer Lutheran College. \nFormer Australian Wallaby player and Redeemer past student\, David Giffin (‘91)\, will be our MC for the evening as we honour the past and look to the future at Redeemer Lutheran College. Please join us for a night of reminiscing\, celebrating\, live music and dancing! \nNEW DATE: Saturday 7 November 2020\n\n6.30pm for pre-dinner drinks\nVenue: Great Room\, W Brisbane\, 81 North Quay\, Brisbane\nTickets: $150 (adult 18+ event)\nIncludes: 3 course sit down dinner and drinks provided\nDress: Cocktail/Lounge Suit\nTables: Why not get a group together and book a table of 10! If organising your own table\, simply come up with a name for your table (e.g. ‘Class of 1984’ or the person’s name who is organising the table) and add their name into the table host field when placing your online booking.\nTransport: A free shuttle service is being offered on the Redeemer Bus\, departing the College at 6.00pm and returning at 9.30pm and at the end of the night at 10.30pm. Please indicate your interest in this when placing your online booking.\nPurchasing Tickets: Book a table of 10 now via the booking form below (or click here). RSVP by 5.00pm\, 30 October 2020.\n\nWe have a great night planned as we honour the past and look to the future!\n\nPre-dinner drinks upon arrival featuring Redeemer’s String Quartet\nFormer Australian Wallaby player and Redeemer past student\, David Giffin (’91) will be our MC for the night.\nLive music from our 6-piece band\, Red Tie Entertainment.\nAudio Visual presentations as we reminisce about the past 40 years at Redeemer Lutheran College.\nA glimpse of the future at Redeemer and the 2020-2024 Strategic Plan from our Principal\, Tanya Crooks.\nPlus a delicious 3 course sit down dinner and all of your drinks provided!\nLucky Door Prizes:\n\n2 x The Glen Hotel $100 vouchers and a bottle of wine\n2 x Verve Portraits photography vouchers and a box of chocolates\n1 x Food hamper thanks to Corrine McMillan MP\, Member for Mansfield\n\n\nLive Auction Items:\n\nNight for two at W Brisbane with breakfast (valued at $450)\nSigned Wallabies jersey (valued at $150)\nMixed six pack of super-premium South Australian red wines and a copy of The Champagne Guide 2020-2021 by Tyson Stelzer\, donated by Wine Press (valued at $1\,033)\nLimited edition Redeemer artwork to be painted live on the night by Redeemer Alumni\, Kareen Haddad (’19)\n\n\n\nFor more information: Raquel McCready\, Foundation Liaison & Events Coordinator\, rmccready@redeemer.com.au or phone 3340 8815 (Tuesday-Thursday). \n\nFollow this event on Facebook\n\n\nThe 40th Anniversary Gala Dinner is an activity of Redeemer Foundation. Find out more at www.redeemer.com.au/community/foundation
URL:https://qld.lca.org.au/event/redeemer-lutheran-college-40th-anniversary-gala-dinner/
LOCATION:W Brisbane\, 81 North Quay\, Brisbane City\, Queensland\, 4000\, Australia
CATEGORIES:Event
END:VEVENT
BEGIN:VEVENT
DTSTART;TZID=UTC:20201016T080000
DTEND;TZID=UTC:20201016T170000
DTSTAMP:20260421T034328
CREATED:20191204T200821Z
LAST-MODIFIED:20191204T200821Z
UID:10338-1602835200-1602867600@qld.lca.org.au
SUMMARY:LEQ Event: Inspired Learning for Leaders
DESCRIPTION:
URL:https://qld.lca.org.au/event/leq-event-inspired-learning-for-leaders/
LOCATION:Queensland
CATEGORIES:Training & Development
END:VEVENT
BEGIN:VEVENT
DTSTART;TZID=UTC:20201010T080000
DTEND;TZID=UTC:20201010T170000
DTSTAMP:20260421T034328
CREATED:20190710T135114Z
LAST-MODIFIED:20200817T155253Z
UID:9667-1602316800-1602349200@qld.lca.org.au
SUMMARY:LCAQD Synod 2020 CANCELLED
DESCRIPTION:Announcement from District Church Board August 17\nIn the light of the current pandemic circumstances\, and in response to the advice of the LCAQD Constitutions Committee\, the District Church Board has resolved to:\na. extend the current synodical term (2019-2020) to June 2021 thus cancelling the proposed October 10th\, 2020 convention.\nb. attend to the necessary interim matters required in the light of this resolution \nMore information on the Synod page
URL:https://qld.lca.org.au/event/lcaqd-synod-2020/
LOCATION:Queensland
CATEGORIES:Conferences & other events
ATTACH;FMTTYPE=image/png:https://qld.lca.org.au/wp-content/uploads/sites/16/2020/08/website-banner-1055-x-350px-2.png
ORGANIZER;CN="LCAQD":MAILTO:district@qld.lca.org.au
END:VEVENT
BEGIN:VEVENT
DTSTART;VALUE=DATE:20201010
DTEND;VALUE=DATE:20201011
DTSTAMP:20260421T034328
CREATED:20200603T123800Z
LAST-MODIFIED:20200910T120930Z
UID:11246-1602288000-1602374399@qld.lca.org.au
SUMMARY:LWQ Convention cancelled
DESCRIPTION:The Lutheran Women Queensland Convention planned for 10th October 2020 in Laidley has been cancelled. \nFor more details\, contact contact@lwq.org.au
URL:https://qld.lca.org.au/event/lwq-convention/
LOCATION:Queensland
CATEGORIES:Conferences & other events
END:VEVENT
BEGIN:VEVENT
DTSTART;TZID=UTC:20201009T090000
DTEND;TZID=UTC:20201009T150000
DTSTAMP:20260421T034328
CREATED:20200914T192130Z
LAST-MODIFIED:20200914T192130Z
UID:11537-1602234000-1602255600@qld.lca.org.au
SUMMARY:District Pastors’ Conference 2020
DESCRIPTION:What: Lutheran Church of Australia Queensland District Pastors’ Conference 2020 \nWhen: Friday 9 October\, 2020\, 9am-3pm \nWho: All pastors in active service are asked to attend District Pastors’ Conference annually. If you are in active service and cannot attend\, please register your apology\, stating your reason for non-attendance with the District Pastors’ Conference Secretary\, Nathan Glover: nathan.glover@lca.org.au All emeriti pastors are welcome to attend. \nHow: Via Zoom (log-in details sent upon registration) \nHow Much: There is no cost for this online conference.
URL:https://qld.lca.org.au/event/district-pastors-conference-2020/
LOCATION:Queensland
CATEGORIES:Conference,Event
ORGANIZER;CN="LCAQD":MAILTO:district@qld.lca.org.au
END:VEVENT
BEGIN:VEVENT
DTSTART;TZID=UTC:20200928T110000
DTEND;TZID=UTC:20201002T130000
DTSTAMP:20260421T034328
CREATED:20200224T193542Z
LAST-MODIFIED:20200224T193638Z
UID:10793-1601290800-1601643600@qld.lca.org.au
SUMMARY:CLW Tannum Sands
DESCRIPTION:Christian Life Week (CLW) is a five day camp for high school aged students that is centred on an unforgettable experience of faith\, friendship and fun. \nFree for Life: A Story Worth Knowing\nThis year\, campers will be exploring the story our faith is founded on\, the Gospel message: Jesus’s life\, death and sacrifice for us which sets us free for life. It’s a story worth knowing\, worth hearing again and again\, and worth sharing\, because it’s a true and life giving story! \n\n\nChristian Life Week (CLW) is a five day camp for high school aged students that is centred on an unforgettable experience of faith\, friendship and fun. Every year up to five CLWs take place throughout South-East and Central Queensland during the June-July and September School Holidays. \nEach camp’s program contains worship\, small groups\, games\, various activities and personal challenges. They each take on a unique flavour\, dependent upon location\, camp facilities\, leadership team and size of the camp. \nCheck out our Winter Kid Camp for Year 3-6 which will run 29 June- 3 July alongside first week CLW camps.. \nWant to find out information about the Spring CLW in Central Queensland? Check out www.lyq.org.au/cqclw
URL:https://qld.lca.org.au/event/cq-clw-tannum-sands-2020/
LOCATION:Tanyalla Conference Centre\, 1 Canoe Point Road\,\, Tannum Sands\, QLD\, 4680
CATEGORIES:Event
ORGANIZER;CN="Lutheran Youth Queensland":MAILTO:office@lyq.org.au
END:VEVENT
BEGIN:VEVENT
DTSTART;VALUE=DATE:20200916
DTEND;VALUE=DATE:20200917
DTSTAMP:20260421T034328
CREATED:20191204T200857Z
LAST-MODIFIED:20191204T200857Z
UID:10340-1600214400-1600300799@qld.lca.org.au
SUMMARY:LEQ Annual Dinner
DESCRIPTION:
URL:https://qld.lca.org.au/event/leq-annual-dinner/
LOCATION:Queensland
CATEGORIES:Event
END:VEVENT
BEGIN:VEVENT
DTSTART;TZID=UTC:20200826T080000
DTEND;TZID=UTC:20200828T170000
DTSTAMP:20260421T034328
CREATED:20191218T185120Z
LAST-MODIFIED:20191218T185120Z
UID:10432-1598428800-1598634000@qld.lca.org.au
SUMMARY:New Horizons 2020
DESCRIPTION:
URL:https://qld.lca.org.au/event/new-horizons-2020/
LOCATION:Queensland
CATEGORIES:Conference
END:VEVENT
BEGIN:VEVENT
DTSTART;TZID=UTC:20200822T080000
DTEND;TZID=UTC:20200822T170000
DTSTAMP:20260421T034328
CREATED:20200506T150250Z
LAST-MODIFIED:20200506T150250Z
UID:11141-1598083200-1598115600@qld.lca.org.au
SUMMARY:LCAQD District Assembly
DESCRIPTION:More details to come.
URL:https://qld.lca.org.au/event/lcaqd-district-assembly/
LOCATION:Queensland
CATEGORIES:Conference,Meeting
END:VEVENT
BEGIN:VEVENT
DTSTART;VALUE=DATE:20200817
DTEND;VALUE=DATE:20200820
DTSTAMP:20260421T034328
CREATED:20191204T200639Z
LAST-MODIFIED:20191204T200639Z
UID:10333-1597622400-1597881599@qld.lca.org.au
SUMMARY:Restorative Practices 3 Day Intensive Training
DESCRIPTION:Open to all. \nContact Sandra.McCullough@leq.lutheran.edu.au for more information. \nCost involved.
URL:https://qld.lca.org.au/event/restorative-practices-3-day-intensive-training/
LOCATION:Queensland
END:VEVENT
BEGIN:VEVENT
DTSTART;TZID=UTC:20200801T080000
DTEND;TZID=UTC:20200801T170000
DTSTAMP:20260421T034328
CREATED:20191208T173423Z
LAST-MODIFIED:20200525T161619Z
UID:10375-1596268800-1596301200@qld.lca.org.au
SUMMARY:Walk YOUR Way 2020 Gold Coast
DESCRIPTION:COVID-19 restrictions have postponed ALWS Walk My Way Gold Coast\, but now you can: \n\n\n\n\n\nWalk YOUR Way \nIn Walk your Way\, you register as normal. \nAsk people to support you as normal. Receive a T-shirt\, LLL Sweat Towel and African Carry-Bag as normal\, but you do Walk your Way on your own – or with friends and family\, if current Health Advice allows. \nYou can do Walk your Way on the original day – Saturday 1st August. Or at a time that suits you better. \nYou can follow our proposed Gold Coast map\, or walk close to home.  If 26 kilometres is too far\, you can do less. \nYou can… \n\nWheel your Way with a walker\, wheelchair or pram…\nWoof your Way with your dog…\nOr even Toddle your Way like Brisbane toddler Hazel! (Watch her in action here)\n\nWhat makes Walk Your Way Gold Coast special? \nA 26km Walk from St Andrews Lutheran College\, Tallebudgera\, to Rainbow Bay.\nEnjoy mangrove boardwalks\, world-renowned views\, and beautiful parklands. You may even spot a koala or bearded dragon!\nYou’ll be helping refugee children in East Africa go to school!
URL:https://qld.lca.org.au/event/walk-your-way-2020/
LOCATION:St Andrews Lutheran College\, 111-175 Tallebudgera Creek Rd\, Tallebudgera\, Queensland\, 4228\, Australia
CATEGORIES:Event
ATTACH;FMTTYPE=image/png:https://qld.lca.org.au/wp-content/uploads/sites/16/2019/12/WalkMyWay2020GCBanner.png
END:VEVENT
BEGIN:VEVENT
DTSTART;TZID=UTC:20200717T160000
DTEND;TZID=UTC:20200719T130000
DTSTAMP:20260421T034328
CREATED:20200309T145132Z
LAST-MODIFIED:20200506T151237Z
UID:10834-1595001600-1595163600@qld.lca.org.au
SUMMARY:LWQ Retreat/Convention 2020 - CANCELLED
DESCRIPTION:This event has been cancelled due to COVID-19 restrictions. \n  \nFri 17th July 4 pm – Sunday 19 July finishing 1 pm \nTheme : “Courage to tell our Story” \nLocation: Maroochy Waterfront Camp and Conference Centre \n42 David Low Way Diddilibah Q \nRegistration Form and more details on LWQ website – click on Events page. \nRegistrations must be in by 18th June 2020
URL:https://qld.lca.org.au/event/lwq-retreat-convention-2020/
LOCATION:Maroochy Waterfront Camp and Conference Centre\, 42 David Low Way\, Diddilibah\, Queensland\, 4559\, Australia
CATEGORIES:Conference
END:VEVENT
BEGIN:VEVENT
DTSTART;TZID=UTC:20200605T080000
DTEND;TZID=UTC:20200605T170000
DTSTAMP:20260421T034328
CREATED:20191204T200522Z
LAST-MODIFIED:20200326T195743Z
UID:10331-1591344000-1591376400@qld.lca.org.au
SUMMARY:LCAQD Ministry Summit: POSTPONED
DESCRIPTION:
URL:https://qld.lca.org.au/event/lcaqd-ministry-summit-2/
LOCATION:Queensland
CATEGORIES:Conference
END:VEVENT
BEGIN:VEVENT
DTSTART;VALUE=DATE:20200602
DTEND;VALUE=DATE:20200605
DTSTAMP:20260421T034328
CREATED:20191208T173507Z
LAST-MODIFIED:20200326T195634Z
UID:10378-1591056000-1591315199@qld.lca.org.au
SUMMARY:District Pastors Conference: POSTPONED
DESCRIPTION:
URL:https://qld.lca.org.au/event/district-pastors-conference/
LOCATION:Queensland
CATEGORIES:Conference
END:VEVENT
END:VCALENDAR