BEGIN:VCALENDAR
VERSION:2.0
PRODID:-//Qld District - ECPv6.6.2//NONSGML v1.0//EN
CALSCALE:GREGORIAN
METHOD:PUBLISH
X-WR-CALNAME:Qld District
X-ORIGINAL-URL:https://qld.lca.org.au
X-WR-CALDESC:Events for Qld District
REFRESH-INTERVAL;VALUE=DURATION:PT1H
X-Robots-Tag:noindex
X-PUBLISHED-TTL:PT1H
BEGIN:VTIMEZONE
TZID:Australia/Brisbane
BEGIN:STANDARD
TZOFFSETFROM:+1000
TZOFFSETTO:+1000
TZNAME:AEST
DTSTART:20210101T000000
END:STANDARD
TZID:UTC
BEGIN:STANDARD
TZOFFSETFROM:+0000
TZOFFSETTO:+0000
TZNAME:UTC
DTSTART:20210101T000000
END:STANDARD
END:VTIMEZONE
BEGIN:VEVENT
DTSTART;TZID=Australia/Brisbane:20211011T000000
DTEND;TZID=Australia/Brisbane:20211011T000000
DTSTAMP:20260420T223650
CREATED:20210218T003020Z
LAST-MODIFIED:20210218T003020Z
UID:11972-1633910400-1633910400@qld.lca.org.au
SUMMARY:QLECS Council Meeting
DESCRIPTION:
URL:https://qld.lca.org.au/event/qlecs-council-meeting-2021-10-11/
CATEGORIES:Meeting
END:VEVENT
BEGIN:VEVENT
DTSTART;TZID=Australia/Brisbane:20211010T080000
DTEND;TZID=Australia/Brisbane:20211010T170000
DTSTAMP:20260420T223650
CREATED:20211012T002258Z
LAST-MODIFIED:20211012T002258Z
UID:12962-1633852800-1633885200@qld.lca.org.au
SUMMARY:Walk Sterny's Way Hervey Bay
DESCRIPTION:Walk Sterny’s Way Hervey Bay
URL:https://qld.lca.org.au/event/walk-sternys-way-hervey-bay/
CATEGORIES:Event
END:VEVENT
BEGIN:VEVENT
DTSTART;TZID=Australia/Brisbane:20211006T170000
DTEND;TZID=Australia/Brisbane:20211006T190000
DTSTAMP:20260420T223650
CREATED:20210803T001916Z
LAST-MODIFIED:20210803T001916Z
UID:12633-1633539600-1633546800@qld.lca.org.au
SUMMARY:Constitutions Committee 2021
DESCRIPTION:
URL:https://qld.lca.org.au/event/constitutions-committee-2021-2021-10-06/
CATEGORIES:Meeting
END:VEVENT
BEGIN:VEVENT
DTSTART;TZID=UTC:20211005T170000
DTEND;TZID=UTC:20211005T190000
DTSTAMP:20260420T223650
CREATED:20210118T152552Z
LAST-MODIFIED:20210118T152552Z
UID:11809-1633453200-1633460400@qld.lca.org.au
SUMMARY:Council of Lutheran Education Queensland (CLEQ) Meeting
DESCRIPTION:LEQ\, Level 2\, 24 McDougall Street\, Milton \nContact: Sandra McCullough <Sandra.McCullough@leq.lutheran.edu.au>
URL:https://qld.lca.org.au/event/council-of-lutheran-education-queensland-cleq-meeting-2021-10-05/
LOCATION:24 McDougall Street\, Milton\, 24 McDougall Street\, Milton\, Brisbane\, Queensland\, 4064\, Australia
CATEGORIES:Governance Council Meeting
END:VEVENT
BEGIN:VEVENT
DTSTART;VALUE=DATE:20211001
DTEND;VALUE=DATE:20211003
DTSTAMP:20260420T223650
CREATED:20210921T221742Z
LAST-MODIFIED:20210921T221742Z
UID:12884-1633046400-1633219199@qld.lca.org.au
SUMMARY:Lutheran Church of Australia Convention of Synod
DESCRIPTION:
URL:https://qld.lca.org.au/event/lutheran-church-of-australia-convention-of-synod/
END:VEVENT
BEGIN:VEVENT
DTSTART;TZID=Australia/Brisbane:20210929T080000
DTEND;TZID=Australia/Brisbane:20210929T170000
DTSTAMP:20260420T223650
CREATED:20211005T000022Z
LAST-MODIFIED:20211005T000022Z
UID:12893-1632902400-1632934800@qld.lca.org.au
SUMMARY:National Police Remembrance Day
DESCRIPTION:29th September
URL:https://qld.lca.org.au/event/national-police-remembrance-day/
CATEGORIES:Other
END:VEVENT
BEGIN:VEVENT
DTSTART;TZID=Australia/Brisbane:20210927T000000
DTEND;TZID=Australia/Brisbane:20210927T000000
DTSTAMP:20260420T223650
CREATED:20210218T001128Z
LAST-MODIFIED:20210218T001739Z
UID:11931-1632700800-1632700800@qld.lca.org.au
SUMMARY:Council for Lutheran Services Executive Committee (CLS Exec) Meeting
DESCRIPTION:
URL:https://qld.lca.org.au/event/council-for-lutheran-services-executive-committee-cls-exec-meeting-2021-09-27/
LOCATION:Prenzler meeting room\, Level 2\, 24 McDougall Street Milton
CATEGORIES:Meeting
END:VEVENT
BEGIN:VEVENT
DTSTART;TZID=Australia/Brisbane:20210922T130000
DTEND;TZID=Australia/Brisbane:20210922T130000
DTSTAMP:20260420T223650
CREATED:20210218T003706Z
LAST-MODIFIED:20210218T003706Z
UID:11995-1632315600-1632315600@qld.lca.org.au
SUMMARY:District Church Board Executive (DCB Exec) Meeting
DESCRIPTION:
URL:https://qld.lca.org.au/event/district-church-board-executive-dcb-exec-meeting-2021-09-22/
CATEGORIES:Meeting
END:VEVENT
BEGIN:VEVENT
DTSTART;TZID=Australia/Brisbane:20210921T080000
DTEND;TZID=Australia/Brisbane:20210921T170000
DTSTAMP:20260420T223650
CREATED:20210921T032020Z
LAST-MODIFIED:20210921T032020Z
UID:12853-1632211200-1632243600@qld.lca.org.au
SUMMARY:CONVENTION OF GENERAL SYNOD
DESCRIPTION:Online sessions |  1-2 October (with livestreamed worship 3 October) 2021\nREAD MORE
URL:https://qld.lca.org.au/event/convention-of-general-synod/
END:VEVENT
BEGIN:VEVENT
DTSTART;TZID=Australia/Brisbane:20210919T140000
DTEND;TZID=Australia/Brisbane:20210919T160000
DTSTAMP:20260420T223650
CREATED:20210702T062636Z
LAST-MODIFIED:20210907T044059Z
UID:12385-1632060000-1632067200@qld.lca.org.au
SUMMARY:Installation of Rev Mark Vainikka as Bishop LCAQD
DESCRIPTION:At our recent Convention of Synod\, Rev. Mark Vainikka was elected to serve as the next Bishop\, Lutheran Church of Australia\, Queensland District.  \nHis installation as Bishop\, LCAQD\, will take place at a special service in the chapel of Redeemer Lutheran College\, 745 Rochedale Road\, Rochedale at 2:00pm on Sunday 19th September 2021. The Bishop of the Lutheran Church of Australia & New Zealand\, Rev. John Henderson will be presiding over the rite of installation. \nThe offering received at Bishop’s installation to the ALWS for their work at Kakuma Refugee Camp\, Kenya.
URL:https://qld.lca.org.au/event/installation-of-rev-mark-vainikka-as-bishop-lcaqd/
LOCATION:Our Saviour Lutheran Church\, 745 Rochedale Rd\, Rochedale\, Brisbane\, Queensland\, 4123\, Australia
CATEGORIES:Event
END:VEVENT
BEGIN:VEVENT
DTSTART;TZID=Australia/Brisbane:20210917T080000
DTEND;TZID=Australia/Brisbane:20210919T170000
DTSTAMP:20260420T223650
CREATED:20210426T235627Z
LAST-MODIFIED:20210426T235654Z
UID:12231-1631865600-1632070800@qld.lca.org.au
SUMMARY:Replenish Women's Retreat 2021
DESCRIPTION:Sometimes you need to take a moment…or a weekend…to stop\, unwind\, and step away from the chaos that is your daily routine. This September\, our Replenish retreat is just for you … no cooking\, no cleaning\, no pressure. \nJoin us in picturesque Coolum on the Sunshine Coast for a weekend where you can do as much – or as little – as you like. Enjoy the comfort and breathtaking views of Ocean Outlook\, our newest accommodation at Luther Heights. We’ve designed our Replenish retreat to be a place where you can come and set the schedule. We’ll provide your accommodation\, most meals (except Saturday lunch\, which you can source in and around Coolum!) and a brief guide with suggestions for how to fill your time in and around Coolum. We’re also planning a delicious feast for Saturday night where you can unwind from your day and enjoy the company of other retreaters. \nUltimately\, though\, what you do over this weekend is up to you. \nBring a book\, bring some friends\, bring that project that you’ve been meaning to get back to for ages but have never quite found the time. Bring your tiredness\, bring your Bible\, but most of all\, just bring yourself. \nThis retreat is just for women over 18 years of age\, up to any age. It’s a chance to gently build community\, have a weekend away with the girls\, or take two days entirely to yourself with absolutely no distractions. \nGrace Laced\n“Grace Laced” a retreat for LCAQD Pastors wives will be running in parallel during this weekend. The Grace Laced group will have special sessions on Saturday morning\, and will otherwise just be ‘some of the girls\,’ free to go with the flow. \nSeptember 17-19\, 2021 … hope to see you there. Contact kathy.matuschka@qld.lca.org.au to find out more.
URL:https://qld.lca.org.au/event/replenish-womens-retreat/
LOCATION:Luther Heights Youth Camp\, 1592-1606 David Low Way\, Coolum Beach\, Queensland\, 4573\, Australia
CATEGORIES:Conferences & other events,Event
ATTACH;FMTTYPE=image/png:https://qld.lca.org.au/wp-content/uploads/sites/16/2021/04/replenish_website_1_0_1.png
ORGANIZER;CN="LCAQD":MAILTO:district@qld.lca.org.au
END:VEVENT
BEGIN:VEVENT
DTSTART;TZID=Australia/Brisbane:20210913T000000
DTEND;TZID=Australia/Brisbane:20210913T000000
DTSTAMP:20260420T223650
CREATED:20210218T005132Z
LAST-MODIFIED:20210218T005132Z
UID:12014-1631491200-1631491200@qld.lca.org.au
SUMMARY:Council for Lutheran Services (CLS) Meeting
DESCRIPTION:
URL:https://qld.lca.org.au/event/council-for-lutheran-services-cls-meeting-2021-09-13/
CATEGORIES:Meeting
END:VEVENT
BEGIN:VEVENT
DTSTART;TZID=Australia/Brisbane:20210913T000000
DTEND;TZID=Australia/Brisbane:20210913T000000
DTSTAMP:20260420T223650
CREATED:20210218T003020Z
LAST-MODIFIED:20210218T003020Z
UID:11971-1631491200-1631491200@qld.lca.org.au
SUMMARY:QLECS Council Meeting
DESCRIPTION:
URL:https://qld.lca.org.au/event/qlecs-council-meeting-2021-09-13/
CATEGORIES:Meeting
END:VEVENT
BEGIN:VEVENT
DTSTART;TZID=Australia/Brisbane:20210908T180000
DTEND;TZID=Australia/Brisbane:20210908T213000
DTSTAMP:20260420T223650
CREATED:20210218T003234Z
LAST-MODIFIED:20210218T003234Z
UID:11983-1631124000-1631136600@qld.lca.org.au
SUMMARY:Council of Lutheran Youth of Queenland (CLYQ) Meeting
DESCRIPTION:
URL:https://qld.lca.org.au/event/council-of-lutheran-youth-of-queenland-clyq-meeting-2021-09-08/
LOCATION:24 McDougall Street\, Milton\, 24 McDougall Street\, Milton\, Brisbane\, Queensland\, 4064\, Australia
CATEGORIES:Meeting
END:VEVENT
BEGIN:VEVENT
DTSTART;TZID=Australia/Brisbane:20210901T170000
DTEND;TZID=Australia/Brisbane:20210901T190000
DTSTAMP:20260420T223650
CREATED:20210803T001916Z
LAST-MODIFIED:20210803T001916Z
UID:12632-1630515600-1630522800@qld.lca.org.au
SUMMARY:Constitutions Committee 2021
DESCRIPTION:
URL:https://qld.lca.org.au/event/constitutions-committee-2021-2021-09-01/
CATEGORIES:Meeting
END:VEVENT
BEGIN:VEVENT
DTSTART;TZID=UTC:20210831T170000
DTEND;TZID=UTC:20210831T190000
DTSTAMP:20260420T223650
CREATED:20210118T152552Z
LAST-MODIFIED:20210118T152552Z
UID:11808-1630429200-1630436400@qld.lca.org.au
SUMMARY:Council of Lutheran Education Queensland (CLEQ) Meeting
DESCRIPTION:LEQ\, Level 2\, 24 McDougall Street\, Milton \nContact: Sandra McCullough <Sandra.McCullough@leq.lutheran.edu.au>
URL:https://qld.lca.org.au/event/council-of-lutheran-education-queensland-cleq-meeting-2021-08-31/
LOCATION:24 McDougall Street\, Milton\, 24 McDougall Street\, Milton\, Brisbane\, Queensland\, 4064\, Australia
CATEGORIES:Governance Council Meeting
END:VEVENT
BEGIN:VEVENT
DTSTART;TZID=Australia/Brisbane:20210830T000000
DTEND;TZID=Australia/Brisbane:20210830T000000
DTSTAMP:20260420T223650
CREATED:20210218T001128Z
LAST-MODIFIED:20210218T001718Z
UID:11930-1630281600-1630281600@qld.lca.org.au
SUMMARY:Council for Lutheran Services Executive Committee (CLS Exec) Meeting
DESCRIPTION:
URL:https://qld.lca.org.au/event/council-for-lutheran-services-executive-committee-cls-exec-meeting-2021-08-30/
LOCATION:Prenzler meeting room\, Level 2\, 24 McDougall Street Milton
CATEGORIES:Meeting
END:VEVENT
BEGIN:VEVENT
DTSTART;TZID=Australia/Brisbane:20210826T153000
DTEND;TZID=Australia/Brisbane:20210826T170000
DTSTAMP:20260420T223650
CREATED:20210803T002409Z
LAST-MODIFIED:20210803T002409Z
UID:12636-1629991800-1629997200@qld.lca.org.au
SUMMARY:SRGC Meeting (Support Review Grow Committee)
DESCRIPTION:
URL:https://qld.lca.org.au/event/srgc-meeting-support-review-grow-committee/
CATEGORIES:Meeting
END:VEVENT
BEGIN:VEVENT
DTSTART;TZID=Australia/Brisbane:20210825T130000
DTEND;TZID=Australia/Brisbane:20210825T130000
DTSTAMP:20260420T223650
CREATED:20210218T004100Z
LAST-MODIFIED:20210309T222310Z
UID:12001-1629896400-1629896400@qld.lca.org.au
SUMMARY:District Church Board (DCB) Meeting
DESCRIPTION:
URL:https://qld.lca.org.au/event/district-church-board-dcb-meeting-2021-08-25/
LOCATION:24 McDougall Street\, Milton\, 24 McDougall Street\, Milton\, Brisbane\, Queensland\, 4064\, Australia
CATEGORIES:Meeting
END:VEVENT
BEGIN:VEVENT
DTSTART;TZID=Australia/Brisbane:20210824T000000
DTEND;TZID=Australia/Brisbane:20210824T000000
DTSTAMP:20260420T223650
CREATED:20210218T002421Z
LAST-MODIFIED:20210218T002502Z
UID:11946-1629763200-1629763200@qld.lca.org.au
SUMMARY:Lutheran Services Finance Audit and Risk Management Sub-Committee (FARM) Meeting
DESCRIPTION:
URL:https://qld.lca.org.au/event/finance-audit-and-risk-management-sub-committee-farm-meeting-2021-08-24/
CATEGORIES:Meeting
END:VEVENT
BEGIN:VEVENT
DTSTART;TZID=Australia/Brisbane:20210822T090000
DTEND;TZID=Australia/Brisbane:20210822T103000
DTSTAMP:20260420T223650
CREATED:20210702T063020Z
LAST-MODIFIED:20210706T062322Z
UID:12387-1629622800-1629628200@qld.lca.org.au
SUMMARY:Installation of Rev Ben Hentschke as 1st Assistant Bishop LCAQD
DESCRIPTION:
URL:https://qld.lca.org.au/event/installation-of-rev-ben-hentschke-as-1st-assistant-bishop-lcaqd/
LOCATION:Arise Lutheran Congregation\, 42 Wellness Way\, Springfield\, Qld\, 4300\, Australia
CATEGORIES:Event
END:VEVENT
BEGIN:VEVENT
DTSTART;TZID=Australia/Brisbane:20210813T080000
DTEND;TZID=Australia/Brisbane:20210818T170000
DTSTAMP:20260420T223650
CREATED:20210713T000141Z
LAST-MODIFIED:20210713T000141Z
UID:12463-1628841600-1629306000@qld.lca.org.au
SUMMARY:August 13 – 18th College of Bishops Retreat
DESCRIPTION:
URL:https://qld.lca.org.au/event/august-13-18th-college-of-bishops-retreat/
CATEGORIES:Conference
END:VEVENT
BEGIN:VEVENT
DTSTART;TZID=Australia/Brisbane:20210804T170000
DTEND;TZID=Australia/Brisbane:20210804T190000
DTSTAMP:20260420T223650
CREATED:20210803T001916Z
LAST-MODIFIED:20210803T001916Z
UID:12630-1628096400-1628103600@qld.lca.org.au
SUMMARY:Constitutions Committee 2021
DESCRIPTION:
URL:https://qld.lca.org.au/event/constitutions-committee-2021/
CATEGORIES:Meeting
END:VEVENT
BEGIN:VEVENT
DTSTART;TZID=Australia/Brisbane:20210725T133000
DTEND;TZID=Australia/Brisbane:20210725T153000
DTSTAMP:20260420T223650
CREATED:20210702T062524Z
LAST-MODIFIED:20210713T040433Z
UID:12382-1627219800-1627227000@qld.lca.org.au
SUMMARY:Farewell to Rev Paul Smith as Bishop LCAQD
DESCRIPTION:
URL:https://qld.lca.org.au/event/farewell-to-rev-paul-smith-as-bishop-lcaqd/
LOCATION:St Peters Lutheran Church Indooroopilly\, Chapel Rd (off Lambert Rd)\, Indooroopilly\, QLD\, 4068
CATEGORIES:Event
ATTACH;FMTTYPE=image/png:https://qld.lca.org.au/wp-content/uploads/sites/16/2021/07/Service-invitation-7x5-1.png
END:VEVENT
BEGIN:VEVENT
DTSTART;TZID=Australia/Brisbane:20210718T090000
DTEND;TZID=Australia/Brisbane:20210718T103000
DTSTAMP:20260420T223650
CREATED:20210702T062050Z
LAST-MODIFIED:20210702T062050Z
UID:12380-1626598800-1626604200@qld.lca.org.au
SUMMARY:Farewell to Rev Ben Hentschke from his parish role
DESCRIPTION:The role of First Assistant Bishop is a full time one\, which means that Rev Ben Hentschke will be leaving his role within Ipswich Lutheran Parish.
URL:https://qld.lca.org.au/event/farewell-to-rev-ben-hentschke-from-his-parish-role/
LOCATION:Bethany Lutheran Church\, 86 Raceview Street\, Raceview\, Qld\, 4305\, Australia
CATEGORIES:Event
END:VEVENT
BEGIN:VEVENT
DTSTART;TZID=Australia/Brisbane:20210714T120000
DTEND;TZID=Australia/Brisbane:20210714T130000
DTSTAMP:20260420T223650
CREATED:20210713T000346Z
LAST-MODIFIED:20210713T011552Z
UID:12465-1626264000-1626267600@qld.lca.org.au
SUMMARY:Installation Mr Anton Prinsloo and Pastor Thomas Bohmert
DESCRIPTION:Including the Installation for Mr Anton Prinsloo\, Head of College\, and Rev Thomas Böhmert\, College Pastor\nWednesday 14 July 2021\, 12pm\, Concordia Chapel\nA light lunch will follow in the Function Centre. We hope you can join us for this special occasion.\nRSVP Friday 9 July to Sonya.Herndon@concordia.qld.edu.au \nView invitiation. \n 
URL:https://qld.lca.org.au/event/installation-mr-anton-prinsloo-and-pastor-thomas-bohmert/
LOCATION:Toowoomba\, Toowoomba\, Queensland\, 4350\, Australia
CATEGORIES:Event
END:VEVENT
BEGIN:VEVENT
DTSTART;TZID=UTC:20210604T170000
DTEND;TZID=UTC:20210606T153000
DTSTAMP:20260420T223650
CREATED:20190710T135253Z
LAST-MODIFIED:20210406T053810Z
UID:9671-1622826000-1622993400@qld.lca.org.au
SUMMARY:LCAQD Synod 2021
DESCRIPTION:Lutheran Church of Australia Queensland District Synod Conference: Friday 4 June 2021 to Sunday 6 June 2021 at Brisbane Technology Park Conference and Exhibition Centre\, 1 Clunies Ross Ct\, Eight Mile Plains. \nTheme: ‘Clothed in Christ’ \nTheme passage: “for all of you who were baptized into Christ have clothed yourselves with Christ.”’ (Gal.3:37). \nAccommodation\nSee Brisbane Technology Park’s list of nearby accommodation options. \nQuest Eight Mile Plains has kindly offered a 15% discount for the LCAQD Pastors conference and Synod. Please ensure you book your accommodation early to avoid disappointment \n\n\n\nLCAQD Pastors Conference and Synod \nQuest apartment hotels discount offer \n\nwww.questeightmileplains.com.au\nSelect stay dates\nClick “Promo/Corporate Code Button”\nEnter Promo code *Contact district@qld.lca.org.au for the promo code\nComplete the booking by choosing the room type/s\n\n15% OFF All Apartment Types \nStudio | One Bedroom | Two Bedroom | Three Bedroom \nPhone Bookings – 07 3736 2800 \nNo payment required until arrival \n24 hour cancellation
URL:https://qld.lca.org.au/event/lcaqd-synod-2021/
LOCATION:Brisbane Technology Park\, Eight Mile Plains\, 3 Clunies Ross Ct\, Eight Mile Plains\, Queensland\, 4113\, Australia
CATEGORIES:Conference,LCAQD Feature
ATTACH;FMTTYPE=image/png:https://qld.lca.org.au/wp-content/uploads/sites/16/2021/03/website-banner-1055-x-350px-5.png
ORGANIZER;CN="LCAQD":MAILTO:district@qld.lca.org.au
END:VEVENT
BEGIN:VEVENT
DTSTART;TZID=Australia/Brisbane:20210602T083000
DTEND;TZID=Australia/Brisbane:20210604T133000
DTSTAMP:20260420T223650
CREATED:20210303T225423Z
LAST-MODIFIED:20210309T012713Z
UID:12039-1622622600-1622813400@qld.lca.org.au
SUMMARY:LCAQD Pastors Conference 2021
DESCRIPTION:Lutheran Church of Australia Queensland District Pastors’ Conference: Wednesday 2 June to Friday 4 June 2021 at Brisbane Technology Park Conference and Exhibition Centre\, 1 Clunies Ross Ct\, Eight Mile Plains. \nTheme: ‘Wellbeing.’ \nTheme passage: ‘Come to me\, all you that are weary and are carrying heavy burdens…’ (Matt.11:28-30). \nSee Brisbane Technology Park’s list of nearby accommodation options. \nQuest Eight Mile Plains has kindly offered a 15% discount for the LCAQD Pastors conference and Synod. Please ensure you book your accommodation early to avoid disappointment \n  \n\n\n\nLCAQD Pastors Conference and Synod \nQuest apartment hotels discount offer \n\nwww.questeightmileplains.com.au\nSelect stay dates\nClick “Promo/Corporate Code Button”\nEnter Promo code *Contact district@qld.lca.org.au for the promo code\nComplete the booking by choosing the room type/s\n\n15% OFF All Apartment Types \nStudio | One Bedroom | Two Bedroom | Three Bedroom \n  \nPhone Bookings – 07 3736 2800 \nNo payment required until arrival \n24 hour cancellation
URL:https://qld.lca.org.au/event/lcaqd-pastors-conference-2021/
LOCATION:Brisbane Technology Park\, Eight Mile Plains\, 3 Clunies Ross Ct\, Eight Mile Plains\, Queensland\, 4113\, Australia
CATEGORIES:Conference
ORGANIZER;CN="LCAQD":MAILTO:district@qld.lca.org.au
END:VEVENT
BEGIN:VEVENT
DTSTART;TZID=UTC:20210529T083000
DTEND;TZID=UTC:20210529T113000
DTSTAMP:20260420T223650
CREATED:20210118T153720Z
LAST-MODIFIED:20210118T153720Z
UID:11823-1622277000-1622287800@qld.lca.org.au
SUMMARY:Governance Workshop Hosted by LEQ
DESCRIPTION:Free workshop for all LCAQD Members. \nCouncil members\, as well as Principals and Business Managers\, are encouraged to join one of these Workshops to support their professional learning. \nContact Sandra.McCullough@leq.lutheran.edu.au for more information.
URL:https://qld.lca.org.au/event/governance-workshop-hosted-by-leq-3/
CATEGORIES:Training & Development
END:VEVENT
BEGIN:VEVENT
DTSTART;TZID=UTC:20210515T083000
DTEND;TZID=UTC:20210515T113000
DTSTAMP:20260420T223650
CREATED:20210118T153632Z
LAST-MODIFIED:20210118T153632Z
UID:11821-1621067400-1621078200@qld.lca.org.au
SUMMARY:Governance Workshop Hosted by LEQ (Zoom)
DESCRIPTION:Free workshop for all LCAQD Members. \nCouncil members\, as well as Principals and Business Managers\, are encouraged to join one of these Workshops to support their professional learning. \nContact Sandra.McCullough@leq.lutheran.edu.au for more information.
URL:https://qld.lca.org.au/event/governance-workshop-hosted-by-leq-zoom/
CATEGORIES:Training & Development
END:VEVENT
END:VCALENDAR