BEGIN:VCALENDAR
VERSION:2.0
PRODID:-//Qld District - ECPv6.6.2//NONSGML v1.0//EN
CALSCALE:GREGORIAN
METHOD:PUBLISH
X-WR-CALNAME:Qld District
X-ORIGINAL-URL:https://qld.lca.org.au
X-WR-CALDESC:Events for Qld District
REFRESH-INTERVAL;VALUE=DURATION:PT1H
X-Robots-Tag:noindex
X-PUBLISHED-TTL:PT1H
BEGIN:VTIMEZONE
TZID:Australia/Brisbane
BEGIN:STANDARD
TZOFFSETFROM:+1000
TZOFFSETTO:+1000
TZNAME:AEST
DTSTART:20230101T000000
END:STANDARD
END:VTIMEZONE
BEGIN:VEVENT
DTSTART;TZID=Australia/Brisbane:20231023T190000
DTEND;TZID=Australia/Brisbane:20231023T203000
DTSTAMP:20260422T051455
CREATED:20221220T053237Z
LAST-MODIFIED:20221220T053237Z
UID:15255-1698087600-1698093000@qld.lca.org.au
SUMMARY:CLS Executive Meeting
DESCRIPTION:Meeting of the Council of Lutheran Services Executive\nSupport Centre Hanley Meeting Room\nLutheran Services Governance Administration
URL:https://qld.lca.org.au/event/cls-executive-meeting-9/
LOCATION:Queensland
CATEGORIES:Meeting
END:VEVENT
BEGIN:VEVENT
DTSTART;TZID=Australia/Brisbane:20231025T130000
DTEND;TZID=Australia/Brisbane:20231025T203000
DTSTAMP:20260422T051455
CREATED:20220929T045155Z
LAST-MODIFIED:20220929T045155Z
UID:14738-1698238800-1698265800@qld.lca.org.au
SUMMARY:District Church Board (DCB)
DESCRIPTION:DCB Exec meetings will be held as required to address matters referred from the full DCB.
URL:https://qld.lca.org.au/event/district-church-board-dcb-11/
LOCATION:24 McDougall Street\, Milton\, 24 McDougall Street\, Milton\, Brisbane\, Queensland\, 4064\, Australia
CATEGORIES:Governance Council Meeting
ORGANIZER;CN="LCAQD":MAILTO:district@qld.lca.org.au
END:VEVENT
BEGIN:VEVENT
DTSTART;TZID=Australia/Brisbane:20231109T170000
DTEND;TZID=Australia/Brisbane:20231109T193000
DTSTAMP:20260422T051455
CREATED:20221109T004303Z
LAST-MODIFIED:20221109T004303Z
UID:14989-1699549200-1699558200@qld.lca.org.au
SUMMARY:Risk\, Audit and Finance Committee (RAFC) Meeting
DESCRIPTION:
URL:https://qld.lca.org.au/event/risk-audit-and-finance-committee-rafc-meeting-10/
LOCATION:Zoom
CATEGORIES:Meeting
END:VEVENT
BEGIN:VEVENT
DTSTART;TZID=Australia/Brisbane:20231113T190000
DTEND;TZID=Australia/Brisbane:20231113T223000
DTSTAMP:20260422T051455
CREATED:20221220T051230Z
LAST-MODIFIED:20221220T051230Z
UID:15235-1699902000-1699914600@qld.lca.org.au
SUMMARY:Council for Lutheran Services Meeting
DESCRIPTION:For Council for Lutheran Services members\nSupport Centre Prenzler Meeting Room\nLutheran Services Governance Administration
URL:https://qld.lca.org.au/event/council-for-lutheran-services-meeting-10/
LOCATION:Queensland
CATEGORIES:Meeting
END:VEVENT
BEGIN:VEVENT
DTSTART;TZID=Australia/Brisbane:20231118T084500
DTEND;TZID=Australia/Brisbane:20231118T130000
DTSTAMP:20260422T051455
CREATED:20231027T042331Z
LAST-MODIFIED:20231027T042331Z
UID:17065-1700297100-1700312400@qld.lca.org.au
SUMMARY:LCAQD District Assembly
DESCRIPTION:
URL:https://qld.lca.org.au/event/lcaqd-district-assembly-2/
LOCATION:Queensland
END:VEVENT
BEGIN:VEVENT
DTSTART;TZID=Australia/Brisbane:20231127T190000
DTEND;TZID=Australia/Brisbane:20231127T203000
DTSTAMP:20260422T051455
CREATED:20221220T053416Z
LAST-MODIFIED:20221220T053416Z
UID:15257-1701111600-1701117000@qld.lca.org.au
SUMMARY:CLS Executive Meeting
DESCRIPTION:Meeting of the Council of Lutheran Services Executive\nSupport Centre Hanley Meeting Room\nLutheran Services Governance Administration
URL:https://qld.lca.org.au/event/cls-executive-meeting-10/
LOCATION:Queensland
CATEGORIES:Meeting
END:VEVENT
BEGIN:VEVENT
DTSTART;TZID=Australia/Brisbane:20231129T130000
DTEND;TZID=Australia/Brisbane:20231129T203000
DTSTAMP:20260422T051455
CREATED:20220929T045402Z
LAST-MODIFIED:20231027T013642Z
UID:14740-1701262800-1701289800@qld.lca.org.au
SUMMARY:District Church Board (DCB)
DESCRIPTION:
URL:https://qld.lca.org.au/event/district-church-board-dcb-12/
LOCATION:24 McDougall Street\, Milton\, 24 McDougall Street\, Milton\, Brisbane\, Queensland\, 4064\, Australia
CATEGORIES:Governance Council Meeting
ORGANIZER;CN="LCAQD":MAILTO:district@qld.lca.org.au
END:VEVENT
BEGIN:VEVENT
DTSTART;TZID=Australia/Brisbane:20231209T080000
DTEND;TZID=Australia/Brisbane:20231215T170000
DTSTAMP:20260422T051455
CREATED:20221109T015302Z
LAST-MODIFIED:20221109T015302Z
UID:15013-1702108800-1702659600@qld.lca.org.au
SUMMARY:LYQ Family Camp 2023
DESCRIPTION:Details to come.
URL:https://qld.lca.org.au/event/lyq-family-camp-2023/
LOCATION:Queensland
CATEGORIES:Event
ORGANIZER;CN="Lutheran Youth Queensland":MAILTO:office@lyq.org.au
END:VEVENT
BEGIN:VEVENT
DTSTART;TZID=Australia/Brisbane:20231210T080000
DTEND;TZID=Australia/Brisbane:20231215T170000
DTSTAMP:20260422T051455
CREATED:20221109T015431Z
LAST-MODIFIED:20221109T015431Z
UID:15015-1702195200-1702659600@qld.lca.org.au
SUMMARY:LYQ Senior Blast Camp
DESCRIPTION:Details to come.
URL:https://qld.lca.org.au/event/lyq-senior-blast-camp/
LOCATION:Queensland
CATEGORIES:Event
ORGANIZER;CN="Lutheran Youth Queensland":MAILTO:office@lyq.org.au
END:VEVENT
BEGIN:VEVENT
DTSTART;TZID=Australia/Brisbane:20231210T080000
DTEND;TZID=Australia/Brisbane:20231215T170000
DTSTAMP:20260422T051455
CREATED:20221109T015535Z
LAST-MODIFIED:20221109T015535Z
UID:15018-1702195200-1702659600@qld.lca.org.au
SUMMARY:LYQ Junior Blast Camp
DESCRIPTION:Details to come.
URL:https://qld.lca.org.au/event/lyq-junior-blast-camp/
LOCATION:Queensland
CATEGORIES:Event
ORGANIZER;CN="Lutheran Youth Queensland":MAILTO:office@lyq.org.au
END:VEVENT
BEGIN:VEVENT
DTSTART;TZID=Australia/Brisbane:20231211T190000
DTEND;TZID=Australia/Brisbane:20231211T223000
DTSTAMP:20260422T051455
CREATED:20221220T051420Z
LAST-MODIFIED:20221220T051420Z
UID:15237-1702321200-1702333800@qld.lca.org.au
SUMMARY:Council for Lutheran Services Meeting
DESCRIPTION:For Council for Lutheran Services members\nSupport Centre Prenzler Meeting Room\nLutheran Services Governance Administration
URL:https://qld.lca.org.au/event/council-for-lutheran-services-meeting-11/
LOCATION:Queensland
CATEGORIES:Meeting
END:VEVENT
BEGIN:VEVENT
DTSTART;TZID=Australia/Brisbane:20231214T170000
DTEND;TZID=Australia/Brisbane:20231214T193000
DTSTAMP:20260422T051455
CREATED:20221109T004434Z
LAST-MODIFIED:20221109T004434Z
UID:14991-1702573200-1702582200@qld.lca.org.au
SUMMARY:Risk\, Audit and Finance Committee (RAFC) Meeting
DESCRIPTION:
URL:https://qld.lca.org.au/event/risk-audit-and-finance-committee-rafc-meeting-11/
LOCATION:Zoom
CATEGORIES:Meeting
END:VEVENT
BEGIN:VEVENT
DTSTART;TZID=Australia/Brisbane:20231218T190000
DTEND;TZID=Australia/Brisbane:20231218T203000
DTSTAMP:20260422T051455
CREATED:20221220T053602Z
LAST-MODIFIED:20221220T053602Z
UID:15259-1702926000-1702931400@qld.lca.org.au
SUMMARY:CLS Executive Meeting
DESCRIPTION:Meeting of the Council of Lutheran Services Executive\nSupport Centre Hanley Meeting Room\nLutheran Services Governance Administration
URL:https://qld.lca.org.au/event/cls-executive-meeting-11/
LOCATION:Queensland
CATEGORIES:Meeting
END:VEVENT
BEGIN:VEVENT
DTSTART;TZID=Australia/Brisbane:20231220T130000
DTEND;TZID=Australia/Brisbane:20231220T203000
DTSTAMP:20260422T051455
CREATED:20220929T045614Z
LAST-MODIFIED:20220929T045614Z
UID:14742-1703077200-1703104200@qld.lca.org.au
SUMMARY:District Church Board (DCB)
DESCRIPTION:DCB Exec meetings will be held as required to address matters referred from the full DCB.
URL:https://qld.lca.org.au/event/district-church-board-dcb-13/
LOCATION:24 McDougall Street\, Milton\, 24 McDougall Street\, Milton\, Brisbane\, Queensland\, 4064\, Australia
CATEGORIES:Governance Council Meeting
ORGANIZER;CN="LCAQD":MAILTO:district@qld.lca.org.au
END:VEVENT
BEGIN:VEVENT
DTSTART;TZID=Australia/Brisbane:20240131T130000
DTEND;TZID=Australia/Brisbane:20240131T203000
DTSTAMP:20260422T051455
CREATED:20231108T034114Z
LAST-MODIFIED:20231108T051905Z
UID:17138-1706706000-1706733000@qld.lca.org.au
SUMMARY:District Church Board (DCB)
DESCRIPTION:
URL:https://qld.lca.org.au/event/district-church-board/
LOCATION:24 McDougall Street\, Milton\, 24 McDougall Street\, Milton\, Brisbane\, Queensland\, 4064\, Australia
CATEGORIES:Governance Council Meeting
ORGANIZER;CN="LCAQD":MAILTO:district@qld.lca.org.au
END:VEVENT
BEGIN:VEVENT
DTSTART;TZID=Australia/Brisbane:20240202T080000
DTEND;TZID=Australia/Brisbane:20240204T170000
DTSTAMP:20260422T051455
CREATED:20231108T041713Z
LAST-MODIFIED:20231108T041713Z
UID:17166-1706860800-1707066000@qld.lca.org.au
SUMMARY:District Church Board (DCB) Retreat
DESCRIPTION:Dates: Friday 2 – Sunday 4 February 2024 \nVenue: Luther Heights\, Coolum \n(for DCB members and consultants)
URL:https://qld.lca.org.au/event/district-church-board-dcb-retreat/
LOCATION:Luther Heights Youth Camp\, 1592-1606 David Low Way\, Coolum Beach\, Queensland\, 4573\, Australia
CATEGORIES:Other
ORGANIZER;CN="LCAQD":MAILTO:district@qld.lca.org.au
END:VEVENT
BEGIN:VEVENT
DTSTART;TZID=Australia/Brisbane:20240227T130000
DTEND;TZID=Australia/Brisbane:20240227T203000
DTSTAMP:20260422T051455
CREATED:20231108T034439Z
LAST-MODIFIED:20231108T051915Z
UID:17142-1709038800-1709065800@qld.lca.org.au
SUMMARY:District Church Board (DCB)
DESCRIPTION:
URL:https://qld.lca.org.au/event/district-church-board-dcb-14/
LOCATION:24 McDougall Street\, Milton\, 24 McDougall Street\, Milton\, Brisbane\, Queensland\, 4064\, Australia
CATEGORIES:Governance Council Meeting
ORGANIZER;CN="LCAQD":MAILTO:district@qld.lca.org.au
END:VEVENT
BEGIN:VEVENT
DTSTART;TZID=Australia/Brisbane:20240308T080000
DTEND;TZID=Australia/Brisbane:20240310T170000
DTSTAMP:20260422T051455
CREATED:20230706T001843Z
LAST-MODIFIED:20230706T005125Z
UID:16396-1709884800-1710090000@qld.lca.org.au
SUMMARY:LWQ Retreat
DESCRIPTION:Date Claimer: \nLWQ RETREAT: 2nd weekend in March 8th 9th 10th 2024 \nVenue: Maroochy Waterfront Camp and Conference Centre
URL:https://qld.lca.org.au/event/lwq-retreat/
LOCATION:Maroochy Waterfront Camp and Conference Centre\, 42 David Low Way\, Diddilibah\, Queensland\, 4559\, Australia
CATEGORIES:Conferences & other events
END:VEVENT
BEGIN:VEVENT
DTSTART;TZID=Australia/Brisbane:20240319T130000
DTEND;TZID=Australia/Brisbane:20240319T203000
DTSTAMP:20260422T051455
CREATED:20231108T034624Z
LAST-MODIFIED:20231108T051924Z
UID:17144-1710853200-1710880200@qld.lca.org.au
SUMMARY:District Church Board (DCB)
DESCRIPTION:
URL:https://qld.lca.org.au/event/district-church-board-dcb-15/
LOCATION:24 McDougall Street\, Milton\, 24 McDougall Street\, Milton\, Brisbane\, Queensland\, 4064\, Australia
CATEGORIES:Governance Council Meeting
ORGANIZER;CN="LCAQD":MAILTO:district@qld.lca.org.au
END:VEVENT
BEGIN:VEVENT
DTSTART;TZID=Australia/Brisbane:20240424T130000
DTEND;TZID=Australia/Brisbane:20240424T203000
DTSTAMP:20260422T051455
CREATED:20231108T035020Z
LAST-MODIFIED:20231108T051932Z
UID:17146-1713963600-1713990600@qld.lca.org.au
SUMMARY:District Church Board (DCB)
DESCRIPTION:
URL:https://qld.lca.org.au/event/district-church-board-dcb-16/
LOCATION:24 McDougall Street\, Milton\, 24 McDougall Street\, Milton\, Brisbane\, Queensland\, 4064\, Australia
CATEGORIES:Governance Council Meeting
ORGANIZER;CN="LCAQD":MAILTO:district@qld.lca.org.au
END:VEVENT
BEGIN:VEVENT
DTSTART;TZID=Australia/Brisbane:20240511T130000
DTEND;TZID=Australia/Brisbane:20240511T170000
DTSTAMP:20260422T051455
CREATED:20231121T235607Z
LAST-MODIFIED:20231121T235607Z
UID:17217-1715432400-1715446800@qld.lca.org.au
SUMMARY:ALWS Walk My Way Brisbane
DESCRIPTION:ALWS Walk My Way is coming back our Way\nWalk for Ukraine in Brisbane CBD! \nSave the date: Saturday 11 May\, 2024\, from 1pm until 5pm. \nPlease help spread the word! Read more and download the flyer!
URL:https://qld.lca.org.au/event/alws-walk-my-way-brisbane/
LOCATION:Queensland
CATEGORIES:Event
END:VEVENT
BEGIN:VEVENT
DTSTART;TZID=Australia/Brisbane:20240522T130000
DTEND;TZID=Australia/Brisbane:20240522T203000
DTSTAMP:20260422T051455
CREATED:20231108T035310Z
LAST-MODIFIED:20231108T051939Z
UID:17148-1716382800-1716409800@qld.lca.org.au
SUMMARY:District Church Board (DCB)
DESCRIPTION:
URL:https://qld.lca.org.au/event/district-church-board-dcb-17/
LOCATION:24 McDougall Street\, Milton\, 24 McDougall Street\, Milton\, Brisbane\, Queensland\, 4064\, Australia
CATEGORIES:Governance Council Meeting
ORGANIZER;CN="LCAQD":MAILTO:district@qld.lca.org.au
END:VEVENT
BEGIN:VEVENT
DTSTART;TZID=Australia/Brisbane:20240531T080000
DTEND;TZID=Australia/Brisbane:20240602T170000
DTSTAMP:20260422T051455
CREATED:20231108T041126Z
LAST-MODIFIED:20231108T041126Z
UID:17164-1717142400-1717347600@qld.lca.org.au
SUMMARY:56th Convention of LCAQD Synod
DESCRIPTION:Details will be posted closer to the date – please check https://qld.lca.org.au/events/synod/
URL:https://qld.lca.org.au/event/56th-convention-of-lcaqd-synod/
LOCATION:Highfields Cultural Centre\, Obrien Rd\, Highfields\, Toowoomba\, QLD\, 4352\, Australia
CATEGORIES:Conference,Conferences & other events,Event
ORGANIZER;CN="LCAQD":MAILTO:district@qld.lca.org.au
END:VEVENT
BEGIN:VEVENT
DTSTART;TZID=Australia/Brisbane:20240626T130000
DTEND;TZID=Australia/Brisbane:20240626T203000
DTSTAMP:20260422T051455
CREATED:20231108T035458Z
LAST-MODIFIED:20231108T052015Z
UID:17150-1719406800-1719433800@qld.lca.org.au
SUMMARY:District Church Board (DCB)
DESCRIPTION:
URL:https://qld.lca.org.au/event/district-church-board-dcb-18/
LOCATION:24 McDougall Street\, Milton\, 24 McDougall Street\, Milton\, Brisbane\, Queensland\, 4064\, Australia
CATEGORIES:Governance Council Meeting
ORGANIZER;CN="LCAQD":MAILTO:district@qld.lca.org.au
END:VEVENT
BEGIN:VEVENT
DTSTART;TZID=Australia/Brisbane:20240724T130000
DTEND;TZID=Australia/Brisbane:20240724T203000
DTSTAMP:20260422T051455
CREATED:20231108T035640Z
LAST-MODIFIED:20231108T052022Z
UID:17152-1721826000-1721853000@qld.lca.org.au
SUMMARY:District Church Board (DCB)
DESCRIPTION:
URL:https://qld.lca.org.au/event/district-church-board-dcb-19/
LOCATION:24 McDougall Street\, Milton\, 24 McDougall Street\, Milton\, Brisbane\, Queensland\, 4064\, Australia
CATEGORIES:Governance Council Meeting
ORGANIZER;CN="LCAQD":MAILTO:district@qld.lca.org.au
END:VEVENT
BEGIN:VEVENT
DTSTART;VALUE=DATE:20240824
DTEND;VALUE=DATE:20240825
DTSTAMP:20260422T051455
CREATED:20231108T014143Z
LAST-MODIFIED:20231108T014143Z
UID:17131-1724457600-1724543999@qld.lca.org.au
SUMMARY:Ipswich Parish Prayer Conference Save-the-Date
DESCRIPTION:Save the date – more details to come.
URL:https://qld.lca.org.au/event/ipswich-parish-prayer-conference-save-the-date/
LOCATION:Queensland
CATEGORIES:Conference
ORGANIZER;CN="Ipswich Lutheran Parish":MAILTO:chair@ipswich.church
END:VEVENT
BEGIN:VEVENT
DTSTART;TZID=Australia/Brisbane:20240828T130000
DTEND;TZID=Australia/Brisbane:20240828T203000
DTSTAMP:20260422T051455
CREATED:20231108T035831Z
LAST-MODIFIED:20231108T052030Z
UID:17154-1724850000-1724877000@qld.lca.org.au
SUMMARY:District Church Board (DCB)
DESCRIPTION:
URL:https://qld.lca.org.au/event/district-church-board-dcb-20/
LOCATION:24 McDougall Street\, Milton\, 24 McDougall Street\, Milton\, Brisbane\, Queensland\, 4064\, Australia
CATEGORIES:Governance Council Meeting
ORGANIZER;CN="LCAQD":MAILTO:district@qld.lca.org.au
END:VEVENT
BEGIN:VEVENT
DTSTART;TZID=Australia/Brisbane:20240907T103000
DTEND;TZID=Australia/Brisbane:20240907T123000
DTSTAMP:20260422T051455
CREATED:20240911T064800Z
LAST-MODIFIED:20240911T064800Z
UID:18473-1725705000-1725712200@qld.lca.org.au
SUMMARY:Way Forward Face-to-face Gathering
DESCRIPTION:7th September\, 10.30am – 12.30pm – Bethania Lutheran Church \n5-17 Church Road\nBethania Qld 4205\n07 3200 5357 \nRefreshments available.
URL:https://qld.lca.org.au/event/way-forward-face-to-face-gathering/
LOCATION:Bethania Lutheran Church\, 5-17 Church Road\, Bethania\, QLD\, 4205\, Australia
CATEGORIES:Meeting
END:VEVENT
BEGIN:VEVENT
DTSTART;TZID=Australia/Brisbane:20240914T103000
DTEND;TZID=Australia/Brisbane:20240914T123000
DTSTAMP:20260422T051455
CREATED:20240911T065250Z
LAST-MODIFIED:20240911T065320Z
UID:18476-1726309800-1726317000@qld.lca.org.au
SUMMARY:Way Forward Face-to-face Gathering
DESCRIPTION:14th September\, 10.30am – 12.30pm – Concordia Lutheran College\, Toowoomba \nRefreshments available \nAlso avalaible to watch via livestream: \n\nhttps://www.youtube.com/@EmmanuelToowoomba\nunder the title “LCAQD Way Forward Information Meeting – Toowoomba”.\n\nWhy not gather some of your community to watch and discuss together?\n\n\nTo register your attendance\, please email district@qld.lca.org.au
URL:https://qld.lca.org.au/event/way-forward-face-to-face-gathering-2/
LOCATION:Concordia College Toowoomba\, 154 Stephen St\, Harristown\, QLD\, 4350\, Australia
CATEGORIES:Meeting
END:VEVENT
BEGIN:VEVENT
DTSTART;VALUE=DATE:20240916
DTEND;VALUE=DATE:20240928
DTSTAMP:20260422T051455
CREATED:20240619T043809Z
LAST-MODIFIED:20240619T043809Z
UID:18207-1726444800-1727481599@qld.lca.org.au
SUMMARY:Spring CLW Camps - Cairns and Yeppoon
DESCRIPTION:CLW Spring Camp Registrations – Cairns & Yeppoon!\nRegistrations are now open for LYQ’s Christian Life Week Spring Camps\, but spaces are filling quickly! To enrol your child\, go to lyq.org.au  Registrations open until 1 September 2024. Camper places may fill earlier.
URL:https://qld.lca.org.au/event/spring-clw-camps-cairns-and-yeppoon/
LOCATION:Queensland
CATEGORIES:Event
ORGANIZER;CN="Lutheran Youth Queensland":MAILTO:office@lyq.org.au
END:VEVENT
END:VCALENDAR