BEGIN:VCALENDAR
VERSION:2.0
PRODID:-//Qld District - ECPv6.6.2//NONSGML v1.0//EN
CALSCALE:GREGORIAN
METHOD:PUBLISH
X-WR-CALNAME:Qld District
X-ORIGINAL-URL:https://qld.lca.org.au
X-WR-CALDESC:Events for Qld District
REFRESH-INTERVAL;VALUE=DURATION:PT1H
X-Robots-Tag:noindex
X-PUBLISHED-TTL:PT1H
BEGIN:VTIMEZONE
TZID:Australia/Brisbane
BEGIN:STANDARD
TZOFFSETFROM:+1000
TZOFFSETTO:+1000
TZNAME:AEST
DTSTART:20210101T000000
END:STANDARD
TZID:UTC
BEGIN:STANDARD
TZOFFSETFROM:+0000
TZOFFSETTO:+0000
TZNAME:UTC
DTSTART:20210101T000000
END:STANDARD
END:VTIMEZONE
BEGIN:VEVENT
DTSTART;TZID=Australia/Brisbane:20220201T170000
DTEND;TZID=Australia/Brisbane:20220201T210000
DTSTAMP:20260420T142958
CREATED:20211214T051534Z
LAST-MODIFIED:20211214T051534Z
UID:13312-1643734800-1643749200@qld.lca.org.au
SUMMARY:Council for Lutheran Education Queensland (CLEQ)
DESCRIPTION:1st Tuesday of the month (with some exceptions)
URL:https://qld.lca.org.au/event/council-for-lutheran-education-queensland-cleq/
LOCATION:Prenzler meeting room\, Level 2\, 24 McDougall Street Milton
CATEGORIES:Meeting
END:VEVENT
BEGIN:VEVENT
DTSTART;TZID=Australia/Brisbane:20220127T130000
DTEND;TZID=Australia/Brisbane:20220127T203000
DTSTAMP:20260420T142958
CREATED:20211214T043731Z
LAST-MODIFIED:20211214T043758Z
UID:13273-1643288400-1643315400@qld.lca.org.au
SUMMARY:District Church Board (DCB)
DESCRIPTION:DCB Exec meetings will be held as required to address matters referred from the full DCB.
URL:https://qld.lca.org.au/event/district-church-board-dcb/
LOCATION:24 McDougall Street\, Milton\, 24 McDougall Street\, Milton\, Brisbane\, Queensland\, 4064\, Australia
CATEGORIES:Governance Council Meeting
ORGANIZER;CN="LCAQD":MAILTO:district@qld.lca.org.au
END:VEVENT
BEGIN:VEVENT
DTSTART;TZID=Australia/Brisbane:20220117T080000
DTEND;TZID=Australia/Brisbane:20220121T170000
DTSTAMP:20260420T142958
CREATED:20211214T064002Z
LAST-MODIFIED:20211214T064002Z
UID:13395-1642406400-1642784400@qld.lca.org.au
SUMMARY:LYQ Enthuse
DESCRIPTION:In-Schools Team
URL:https://qld.lca.org.au/event/lyq-enthuse/
CATEGORIES:Training & Development
END:VEVENT
BEGIN:VEVENT
DTSTART;TZID=Australia/Brisbane:20220111T080000
DTEND;TZID=Australia/Brisbane:20220114T170000
DTSTAMP:20260420T142958
CREATED:20211214T063859Z
LAST-MODIFIED:20211214T063859Z
UID:13393-1641888000-1642179600@qld.lca.org.au
SUMMARY:LYQ Momentum
DESCRIPTION:In-Schools Team
URL:https://qld.lca.org.au/event/lyq-momentum/
CATEGORIES:Training & Development
END:VEVENT
BEGIN:VEVENT
DTSTART;TZID=Australia/Brisbane:20220110T080000
DTEND;TZID=Australia/Brisbane:20220114T170000
DTSTAMP:20260420T142958
CREATED:20211012T002920Z
LAST-MODIFIED:20211019T020134Z
UID:12973-1641801600-1642179600@qld.lca.org.au
SUMMARY:Summer Kids Camp Darling Downs
DESCRIPTION:Date\n\n10-14 January 2022\n\n\n\n\n\nTime\n\n10:30AM Monday – 1:30PM Friday\n\n\n\n\n\nAge\n\nGrades 3-6 in 2021\n\n\n\n\n\nLocation\n\n\n\nKoojarewon Youth Camps\n\nBorghardt Rd\n\nHighfields QLD 4352
URL:https://qld.lca.org.au/event/summer-kids-camp-darling-downs/
CATEGORIES:Event
END:VEVENT
BEGIN:VEVENT
DTSTART;TZID=Australia/Brisbane:20220110T080000
DTEND;TZID=Australia/Brisbane:20220114T170000
DTSTAMP:20260420T142958
CREATED:20211012T002851Z
LAST-MODIFIED:20211012T002851Z
UID:12972-1641801600-1642179600@qld.lca.org.au
SUMMARY:Summer Kids Camp Coolum
DESCRIPTION:Date\n\n10-14 January 2022\n\n\n\n\n\nTime\n\n10:30AM Monday – 1:30PM Friday\n\n\n\n\n\nAge\n\nGrades 3-6 in 2021\n\n\n\n\n\nLocation\n\n\n\nLuther Heights Youth Camp\n\n1592 David Low Way\n\nCoolum Beach QLD 4573
URL:https://qld.lca.org.au/event/summer-kids-camp-coolum/
CATEGORIES:Event
END:VEVENT
BEGIN:VEVENT
DTSTART;TZID=Australia/Brisbane:20211227T080000
DTEND;TZID=Australia/Brisbane:20220101T170000
DTSTAMP:20260420T142958
CREATED:20211019T003535Z
LAST-MODIFIED:20211019T003535Z
UID:12994-1640592000-1641056400@qld.lca.org.au
SUMMARY:LYQ Family Camp 2021 – 2022
DESCRIPTION:Family Camp Weekend – Friday 12 – Sunday 14 November\nFamily Camp Week 1 (6 nights) – Saturday 11 – Friday 17 December\nFamily Camp Week 2 (5 nights) – Monday 27 December – Saturday 1 January
URL:https://qld.lca.org.au/event/lyq-family-camp-2021-2022-2/
CATEGORIES:Event
ORGANIZER;CN="Lutheran Youth Queensland":MAILTO:office@lyq.org.au
END:VEVENT
BEGIN:VEVENT
DTSTART;TZID=Australia/Brisbane:20211215T130000
DTEND;TZID=Australia/Brisbane:20211215T130000
DTSTAMP:20260420T142958
CREATED:20210218T004100Z
LAST-MODIFIED:20210309T222310Z
UID:12003-1639573200-1639573200@qld.lca.org.au
SUMMARY:District Church Board (DCB) Meeting
DESCRIPTION:
URL:https://qld.lca.org.au/event/district-church-board-dcb-meeting-2021-12-15/
LOCATION:24 McDougall Street\, Milton\, 24 McDougall Street\, Milton\, Brisbane\, Queensland\, 4064\, Australia
CATEGORIES:Meeting
END:VEVENT
BEGIN:VEVENT
DTSTART;TZID=Australia/Brisbane:20211213T000000
DTEND;TZID=Australia/Brisbane:20211213T000000
DTSTAMP:20260420T142958
CREATED:20210218T005132Z
LAST-MODIFIED:20210218T005132Z
UID:12017-1639353600-1639353600@qld.lca.org.au
SUMMARY:Council for Lutheran Services (CLS) Meeting
DESCRIPTION:
URL:https://qld.lca.org.au/event/council-for-lutheran-services-cls-meeting-2021-12-13/
CATEGORIES:Meeting
END:VEVENT
BEGIN:VEVENT
DTSTART;TZID=Australia/Brisbane:20211213T000000
DTEND;TZID=Australia/Brisbane:20211213T000000
DTSTAMP:20260420T142958
CREATED:20210218T001128Z
LAST-MODIFIED:20210218T001128Z
UID:11937-1639353600-1639353600@qld.lca.org.au
SUMMARY:Council for Lutheran Services Executive Committee (CLS Exec) Meeting
DESCRIPTION:
URL:https://qld.lca.org.au/event/council-for-lutheran-services-executive-committee-cls-exec-meeting-2021-12-13/
LOCATION:Prenzler meeting room\, Level 2\, 24 McDougall Street Milton
CATEGORIES:Meeting
END:VEVENT
BEGIN:VEVENT
DTSTART;TZID=Australia/Brisbane:20211212T080000
DTEND;TZID=Australia/Brisbane:20211217T170000
DTSTAMP:20260420T142958
CREATED:20211012T002727Z
LAST-MODIFIED:20211012T002727Z
UID:12966-1639296000-1639760400@qld.lca.org.au
SUMMARY:SENIOR BLAST 2021
DESCRIPTION:Date\n\n12-17 December 2021\n\n\n\n\n\nTime\n\n10:30am arrival on Sunday and 1:30pm departure on Friday.\n\n\n\n\n\nAge\n\nGrades 7-12\n\n\n\n\n\nLocation\n\n\n\nLuther Heights Youth Camp\n\n1592 David Low Way\n\nCoolum Beach QLD 4573
URL:https://qld.lca.org.au/event/senior-blast-2021/
CATEGORIES:Event
END:VEVENT
BEGIN:VEVENT
DTSTART;TZID=Australia/Brisbane:20211211T080000
DTEND;TZID=Australia/Brisbane:20211217T170000
DTSTAMP:20260420T142958
CREATED:20211019T003608Z
LAST-MODIFIED:20211019T003608Z
UID:12995-1639209600-1639760400@qld.lca.org.au
SUMMARY:LYQ Family Camp 2021 – 2022
DESCRIPTION:Family Camp Weekend – Friday 12 – Sunday 14 November\nFamily Camp Week 1 (6 nights) – Saturday 11 – Friday 17 December\nFamily Camp Week 2 (5 nights) – Monday 27 December – Saturday 1 January
URL:https://qld.lca.org.au/event/lyq-family-camp-2021-2022-3/
CATEGORIES:Event
END:VEVENT
BEGIN:VEVENT
DTSTART;TZID=Australia/Brisbane:20211209T170000
DTEND;TZID=Australia/Brisbane:20211209T170000
DTSTAMP:20260420T142958
CREATED:20210216T055321Z
LAST-MODIFIED:20210216T055321Z
UID:11911-1639069200-1639069200@qld.lca.org.au
SUMMARY:Finance Audit and Risk Management Committee (RAFC) Meeting
DESCRIPTION:
URL:https://qld.lca.org.au/event/finance-audit-and-risk-management-committee-rafc-meeting-2021-12-09/
CATEGORIES:Meeting
END:VEVENT
BEGIN:VEVENT
DTSTART;TZID=Australia/Brisbane:20211208T180000
DTEND;TZID=Australia/Brisbane:20211208T213000
DTSTAMP:20260420T142958
CREATED:20210218T003234Z
LAST-MODIFIED:20210218T003234Z
UID:11986-1638986400-1638999000@qld.lca.org.au
SUMMARY:Council of Lutheran Youth of Queenland (CLYQ) Meeting
DESCRIPTION:
URL:https://qld.lca.org.au/event/council-of-lutheran-youth-of-queenland-clyq-meeting-2021-12-08/
LOCATION:24 McDougall Street\, Milton\, 24 McDougall Street\, Milton\, Brisbane\, Queensland\, 4064\, Australia
CATEGORIES:Meeting
END:VEVENT
BEGIN:VEVENT
DTSTART;TZID=Australia/Brisbane:20211206T000000
DTEND;TZID=Australia/Brisbane:20211206T000000
DTSTAMP:20260420T142958
CREATED:20210218T003020Z
LAST-MODIFIED:20210218T003020Z
UID:11974-1638748800-1638748800@qld.lca.org.au
SUMMARY:QLECS Council Meeting
DESCRIPTION:
URL:https://qld.lca.org.au/event/qlecs-council-meeting-2021-12-06/
CATEGORIES:Meeting
END:VEVENT
BEGIN:VEVENT
DTSTART;TZID=Australia/Brisbane:20211205T080000
DTEND;TZID=Australia/Brisbane:20211205T170000
DTSTAMP:20260420T142958
CREATED:20210216T054824Z
LAST-MODIFIED:20210216T054824Z
UID:13037-1638691200-1638723600@qld.lca.org.au
SUMMARY:Council of Ministry & Mission (M&M) Meeting
DESCRIPTION:
URL:https://qld.lca.org.au/event/council-of-ministry-mission-mm-meeting-2021-12-05/
CATEGORIES:Meeting
ORGANIZER;CN="Ministry &amp%3B Mission":MAILTO:david.schmidt@qld.lca.org.au
END:VEVENT
BEGIN:VEVENT
DTSTART;TZID=Australia/Brisbane:20211201T170000
DTEND;TZID=Australia/Brisbane:20211201T190000
DTSTAMP:20260420T142958
CREATED:20210803T001916Z
LAST-MODIFIED:20210803T001916Z
UID:12635-1638378000-1638385200@qld.lca.org.au
SUMMARY:Constitutions Committee 2021
DESCRIPTION:
URL:https://qld.lca.org.au/event/constitutions-committee-2021-2021-12-01/
CATEGORIES:Meeting
END:VEVENT
BEGIN:VEVENT
DTSTART;TZID=UTC:20211130T170000
DTEND;TZID=UTC:20211130T190000
DTSTAMP:20260420T142958
CREATED:20210118T152552Z
LAST-MODIFIED:20210118T152552Z
UID:11811-1638291600-1638298800@qld.lca.org.au
SUMMARY:Council of Lutheran Education Queensland (CLEQ) Meeting
DESCRIPTION:LEQ\, Level 2\, 24 McDougall Street\, Milton \nContact: Sandra McCullough <Sandra.McCullough@leq.lutheran.edu.au>
URL:https://qld.lca.org.au/event/council-of-lutheran-education-queensland-cleq-meeting-2021-11-30/
LOCATION:24 McDougall Street\, Milton\, 24 McDougall Street\, Milton\, Brisbane\, Queensland\, 4064\, Australia
CATEGORIES:Governance Council Meeting
END:VEVENT
BEGIN:VEVENT
DTSTART;TZID=Australia/Brisbane:20211129T000000
DTEND;TZID=Australia/Brisbane:20211129T000000
DTSTAMP:20260420T142958
CREATED:20210218T001128Z
LAST-MODIFIED:20210218T001739Z
UID:11924-1638144000-1638144000@qld.lca.org.au
SUMMARY:Council for Lutheran Services Executive Committee (CLS Exec) Meeting
DESCRIPTION:
URL:https://qld.lca.org.au/event/council-for-lutheran-services-executive-committee-cls-exec-meeting-2021-11-29/
LOCATION:Prenzler meeting room\, Level 2\, 24 McDougall Street Milton
CATEGORIES:Meeting
END:VEVENT
BEGIN:VEVENT
DTSTART;TZID=Australia/Brisbane:20211124T130000
DTEND;TZID=Australia/Brisbane:20211124T130000
DTSTAMP:20260420T142958
CREATED:20210218T003706Z
LAST-MODIFIED:20210218T003706Z
UID:11996-1637758800-1637758800@qld.lca.org.au
SUMMARY:District Church Board Executive (DCB Exec) Meeting
DESCRIPTION:
URL:https://qld.lca.org.au/event/district-church-board-executive-dcb-exec-meeting-2021-11-24/
CATEGORIES:Meeting
END:VEVENT
BEGIN:VEVENT
DTSTART;TZID=Australia/Brisbane:20211124T000000
DTEND;TZID=Australia/Brisbane:20211124T000000
DTSTAMP:20260420T142958
CREATED:20210218T002421Z
LAST-MODIFIED:20210218T002502Z
UID:11947-1637712000-1637712000@qld.lca.org.au
SUMMARY:Lutheran Services Finance Audit and Risk Management Sub-Committee (FARM) Meeting
DESCRIPTION:
URL:https://qld.lca.org.au/event/finance-audit-and-risk-management-sub-committee-farm-meeting-2021-11-24/
CATEGORIES:Meeting
END:VEVENT
BEGIN:VEVENT
DTSTART;TZID=Australia/Brisbane:20211121T080000
DTEND;TZID=Australia/Brisbane:20211130T170000
DTSTAMP:20260420T142958
CREATED:20211012T002533Z
LAST-MODIFIED:20211012T002533Z
UID:12964-1637481600-1638291600@qld.lca.org.au
SUMMARY:Young Adult Discipleship Retreat 2021
DESCRIPTION:Encounter God\, Know yourself\, Live for change\n\nDate 21-30 November 2021 \n\nAge 18 – 27 yrs old \n\nLocation QCCC Brookfield \n\n179 Gold Creek Road\nBrookfield QLD 4069
URL:https://qld.lca.org.au/event/young-adult-discipleship-retreat-2021/
CATEGORIES:Event
END:VEVENT
BEGIN:VEVENT
DTSTART;TZID=Australia/Brisbane:20211112T080000
DTEND;TZID=Australia/Brisbane:20211114T170000
DTSTAMP:20260420T142958
CREATED:20211012T004233Z
LAST-MODIFIED:20211012T004233Z
UID:12976-1636704000-1636909200@qld.lca.org.au
SUMMARY:LYQ Family Camp 2021 - 2022
DESCRIPTION:Family Camp Weekend – Friday 12 – Sunday 14 November\nFamily Camp Week 1 (6 nights) – Saturday 11 – Friday 17 December\nFamily Camp Week 2 (5 nights) – Monday 27 December – Saturday 1 January
URL:https://qld.lca.org.au/event/lyq-family-camp-2021-2022/
LOCATION:Luther Heights Youth Camp\, 1592-1606 David Low Way\, Coolum Beach\, Queensland\, 4573\, Australia
CATEGORIES:Event
ORGANIZER;CN="Lutheran Youth Queensland":MAILTO:office@lyq.org.au
END:VEVENT
BEGIN:VEVENT
DTSTART;TZID=Australia/Brisbane:20211110T180000
DTEND;TZID=Australia/Brisbane:20211110T213000
DTSTAMP:20260420T142958
CREATED:20210218T003234Z
LAST-MODIFIED:20210218T003234Z
UID:11985-1636567200-1636579800@qld.lca.org.au
SUMMARY:Council of Lutheran Youth of Queenland (CLYQ) Meeting
DESCRIPTION:
URL:https://qld.lca.org.au/event/council-of-lutheran-youth-of-queenland-clyq-meeting-2021-11-10/
LOCATION:24 McDougall Street\, Milton\, 24 McDougall Street\, Milton\, Brisbane\, Queensland\, 4064\, Australia
CATEGORIES:Meeting
END:VEVENT
BEGIN:VEVENT
DTSTART;TZID=Australia/Brisbane:20211108T000000
DTEND;TZID=Australia/Brisbane:20211108T000000
DTSTAMP:20260420T142958
CREATED:20210218T005132Z
LAST-MODIFIED:20210218T005132Z
UID:12016-1636329600-1636329600@qld.lca.org.au
SUMMARY:Council for Lutheran Services (CLS) Meeting
DESCRIPTION:
URL:https://qld.lca.org.au/event/council-for-lutheran-services-cls-meeting-2021-11-08/
CATEGORIES:Meeting
END:VEVENT
BEGIN:VEVENT
DTSTART;TZID=Australia/Brisbane:20211108T000000
DTEND;TZID=Australia/Brisbane:20211108T000000
DTSTAMP:20260420T142958
CREATED:20210218T003020Z
LAST-MODIFIED:20210218T003020Z
UID:11973-1636329600-1636329600@qld.lca.org.au
SUMMARY:QLECS Council Meeting
DESCRIPTION:
URL:https://qld.lca.org.au/event/qlecs-council-meeting-2021-11-08/
CATEGORIES:Meeting
END:VEVENT
BEGIN:VEVENT
DTSTART;TZID=Australia/Brisbane:20211103T170000
DTEND;TZID=Australia/Brisbane:20211103T190000
DTSTAMP:20260420T142958
CREATED:20210803T001916Z
LAST-MODIFIED:20210803T001916Z
UID:12634-1635958800-1635966000@qld.lca.org.au
SUMMARY:Constitutions Committee 2021
DESCRIPTION:
URL:https://qld.lca.org.au/event/constitutions-committee-2021-2021-11-03/
CATEGORIES:Meeting
END:VEVENT
BEGIN:VEVENT
DTSTART;TZID=Australia/Brisbane:20211103T000000
DTEND;TZID=Australia/Brisbane:20211103T000000
DTSTAMP:20260420T142958
CREATED:20210218T002745Z
LAST-MODIFIED:20210218T002745Z
UID:11962-1635897600-1635897600@qld.lca.org.au
SUMMARY:Lutheran Services Lutheran Identity and Mission Sub-Committee
DESCRIPTION:
URL:https://qld.lca.org.au/event/lutheran-services-lutheran-identity-and-mission-sub-committee-2021-11-03/
CATEGORIES:Meeting
END:VEVENT
BEGIN:VEVENT
DTSTART;TZID=UTC:20211102T170000
DTEND;TZID=UTC:20211102T190000
DTSTAMP:20260420T142958
CREATED:20210118T152552Z
LAST-MODIFIED:20210118T152552Z
UID:11810-1635872400-1635879600@qld.lca.org.au
SUMMARY:Council of Lutheran Education Queensland (CLEQ) Meeting
DESCRIPTION:LEQ\, Level 2\, 24 McDougall Street\, Milton \nContact: Sandra McCullough <Sandra.McCullough@leq.lutheran.edu.au>
URL:https://qld.lca.org.au/event/council-of-lutheran-education-queensland-cleq-meeting-2021-11-02/
LOCATION:24 McDougall Street\, Milton\, 24 McDougall Street\, Milton\, Brisbane\, Queensland\, 4064\, Australia
CATEGORIES:Governance Council Meeting
END:VEVENT
BEGIN:VEVENT
DTSTART;TZID=Australia/Brisbane:20211027T130000
DTEND;TZID=Australia/Brisbane:20211027T130000
DTSTAMP:20260420T142958
CREATED:20210218T004100Z
LAST-MODIFIED:20210309T222310Z
UID:12002-1635339600-1635339600@qld.lca.org.au
SUMMARY:District Church Board (DCB) Meeting
DESCRIPTION:
URL:https://qld.lca.org.au/event/district-church-board-dcb-meeting-2021-10-27/
LOCATION:24 McDougall Street\, Milton\, 24 McDougall Street\, Milton\, Brisbane\, Queensland\, 4064\, Australia
CATEGORIES:Meeting
END:VEVENT
END:VCALENDAR