BEGIN:VCALENDAR
VERSION:2.0
PRODID:-//Qld District - ECPv6.6.2//NONSGML v1.0//EN
CALSCALE:GREGORIAN
METHOD:PUBLISH
X-WR-CALNAME:Qld District
X-ORIGINAL-URL:https://qld.lca.org.au
X-WR-CALDESC:Events for Qld District
REFRESH-INTERVAL;VALUE=DURATION:PT1H
X-Robots-Tag:noindex
X-PUBLISHED-TTL:PT1H
BEGIN:VTIMEZONE
TZID:Australia/Brisbane
BEGIN:STANDARD
TZOFFSETFROM:+1000
TZOFFSETTO:+1000
TZNAME:AEST
DTSTART:20220101T000000
END:STANDARD
END:VTIMEZONE
BEGIN:VEVENT
DTSTART;TZID=Australia/Brisbane:20220517T080000
DTEND;TZID=Australia/Brisbane:20220517T170000
DTSTAMP:20260420T070417
CREATED:20211214T052148Z
LAST-MODIFIED:20211214T052148Z
UID:13329-1652774400-1652806800@qld.lca.org.au
SUMMARY:Council for Lutheran Education Queensland (CLEQ) Executive Committee
DESCRIPTION:3rd Thursday of the month (with some exceptions)
URL:https://qld.lca.org.au/event/council-for-lutheran-education-queensland-cleq-executive-committee-2022-05-17/
LOCATION:Prenzler meeting room\, Level 2\, 24 McDougall Street Milton
CATEGORIES:Meeting
END:VEVENT
BEGIN:VEVENT
DTSTART;VALUE=DATE:20220512
DTEND;VALUE=DATE:20220513
DTSTAMP:20260420T070417
CREATED:20211214T044356Z
LAST-MODIFIED:20211214T044356Z
UID:13302-1652313600-1652399999@qld.lca.org.au
SUMMARY:Risk\, Audit and Finance Committee (RAFC)
DESCRIPTION:
URL:https://qld.lca.org.au/event/risk-audit-and-finance-committee-rafc-2022-05-12/
LOCATION:Zoom
CATEGORIES:Meeting
ORGANIZER;CN="LCAQD":MAILTO:district@qld.lca.org.au
END:VEVENT
BEGIN:VEVENT
DTSTART;TZID=Australia/Brisbane:20220511T180000
DTEND;TZID=Australia/Brisbane:20220511T213000
DTSTAMP:20260420T070418
CREATED:20211214T054023Z
LAST-MODIFIED:20211214T054023Z
UID:13357-1652292000-1652304600@qld.lca.org.au
SUMMARY:Council for Lutheran Youth of Queensland (LYQ)
DESCRIPTION:2nd Wednesday Every Month
URL:https://qld.lca.org.au/event/council-for-lutheran-youth-of-queensland-lyq-2022-05-11/
LOCATION:24 McDougall Street\, Milton\, 24 McDougall Street\, Milton\, Brisbane\, Queensland\, 4064\, Australia
CATEGORIES:Meeting
ORGANIZER;CN="Lutheran Youth Queensland":MAILTO:office@lyq.org.au
END:VEVENT
BEGIN:VEVENT
DTSTART;TZID=Australia/Brisbane:20220509T150000
DTEND;TZID=Australia/Brisbane:20220509T150000
DTSTAMP:20260420T070418
CREATED:20211214T053725Z
LAST-MODIFIED:20211214T053725Z
UID:13345-1652108400-1652108400@qld.lca.org.au
SUMMARY:Council for QLECS
DESCRIPTION:
URL:https://qld.lca.org.au/event/council-for-qlecs-2022-05-09/
LOCATION:QLECS\, Level 2\, 24 McDougall St\, Brisbane\, QLD\, 4064\, Australia
CATEGORIES:Meeting
END:VEVENT
BEGIN:VEVENT
DTSTART;VALUE=DATE:20220507
DTEND;VALUE=DATE:20220508
DTSTAMP:20260420T070418
CREATED:20211214T055153Z
LAST-MODIFIED:20211214T055153Z
UID:13375-1651881600-1651967999@qld.lca.org.au
SUMMARY:LEQ Governance Workshops
DESCRIPTION:
URL:https://qld.lca.org.au/event/leq-governance-workshops/
LOCATION:Queensland
CATEGORIES:Training & Development
END:VEVENT
BEGIN:VEVENT
DTSTART;TZID=Australia/Brisbane:20220504T130000
DTEND;TZID=Australia/Brisbane:20220504T203000
DTSTAMP:20260420T070418
CREATED:20211214T043731Z
LAST-MODIFIED:20220408T050230Z
UID:13277-1651669200-1651696200@qld.lca.org.au
SUMMARY:District Church Board (DCB)
DESCRIPTION:DCB Exec meetings will be held as required to address matters referred from the full DCB.
URL:https://qld.lca.org.au/event/district-church-board-dcb-2022-04-27/
LOCATION:24 McDougall Street\, Milton\, 24 McDougall Street\, Milton\, Brisbane\, Queensland\, 4064\, Australia
CATEGORIES:Governance Council Meeting
ORGANIZER;CN="LCAQD":MAILTO:district@qld.lca.org.au
END:VEVENT
BEGIN:VEVENT
DTSTART;TZID=Australia/Brisbane:20220501T170000
DTEND;TZID=Australia/Brisbane:20220501T210000
DTSTAMP:20260420T070418
CREATED:20211214T051534Z
LAST-MODIFIED:20211214T051534Z
UID:13317-1651424400-1651438800@qld.lca.org.au
SUMMARY:Council for Lutheran Education Queensland (CLEQ)
DESCRIPTION:1st Tuesday of the month (with some exceptions)
URL:https://qld.lca.org.au/event/council-for-lutheran-education-queensland-cleq-2022-05-01/
LOCATION:Prenzler meeting room\, Level 2\, 24 McDougall Street Milton
CATEGORIES:Meeting
END:VEVENT
BEGIN:VEVENT
DTSTART;TZID=Australia/Brisbane:20220417T080000
DTEND;TZID=Australia/Brisbane:20220417T170000
DTSTAMP:20260420T070418
CREATED:20211214T052148Z
LAST-MODIFIED:20211214T052148Z
UID:13328-1650182400-1650214800@qld.lca.org.au
SUMMARY:Council for Lutheran Education Queensland (CLEQ) Executive Committee
DESCRIPTION:3rd Thursday of the month (with some exceptions)
URL:https://qld.lca.org.au/event/council-for-lutheran-education-queensland-cleq-executive-committee-2022-04-17/
LOCATION:Prenzler meeting room\, Level 2\, 24 McDougall Street Milton
CATEGORIES:Meeting
END:VEVENT
BEGIN:VEVENT
DTSTART;VALUE=DATE:20220414
DTEND;VALUE=DATE:20220415
DTSTAMP:20260420T070418
CREATED:20211214T044356Z
LAST-MODIFIED:20211214T044356Z
UID:13301-1649894400-1649980799@qld.lca.org.au
SUMMARY:Risk\, Audit and Finance Committee (RAFC)
DESCRIPTION:
URL:https://qld.lca.org.au/event/risk-audit-and-finance-committee-rafc-2022-04-14/
LOCATION:Zoom
CATEGORIES:Meeting
ORGANIZER;CN="LCAQD":MAILTO:district@qld.lca.org.au
END:VEVENT
BEGIN:VEVENT
DTSTART;TZID=Australia/Brisbane:20220413T180000
DTEND;TZID=Australia/Brisbane:20220413T213000
DTSTAMP:20260420T070418
CREATED:20211214T054023Z
LAST-MODIFIED:20211214T054023Z
UID:13356-1649872800-1649885400@qld.lca.org.au
SUMMARY:Council for Lutheran Youth of Queensland (LYQ)
DESCRIPTION:2nd Wednesday Every Month
URL:https://qld.lca.org.au/event/council-for-lutheran-youth-of-queensland-lyq-2022-04-13/
LOCATION:24 McDougall Street\, Milton\, 24 McDougall Street\, Milton\, Brisbane\, Queensland\, 4064\, Australia
CATEGORIES:Meeting
ORGANIZER;CN="Lutheran Youth Queensland":MAILTO:office@lyq.org.au
END:VEVENT
BEGIN:VEVENT
DTSTART;TZID=Australia/Brisbane:20220411T170000
DTEND;TZID=Australia/Brisbane:20220411T200000
DTSTAMP:20260420T070418
CREATED:20211214T054302Z
LAST-MODIFIED:20211214T054302Z
UID:13368-1649696400-1649707200@qld.lca.org.au
SUMMARY:Council for Ministry & Mission (M&M)
DESCRIPTION:2 monthly on 2nd Monday
URL:https://qld.lca.org.au/event/council-for-ministry-mission-mm-2022-04-11/
LOCATION:24 McDougall Street\, Milton\, 24 McDougall Street\, Milton\, Brisbane\, Queensland\, 4064\, Australia
CATEGORIES:Meeting
END:VEVENT
BEGIN:VEVENT
DTSTART;TZID=Australia/Brisbane:20220411T150000
DTEND;TZID=Australia/Brisbane:20220411T150000
DTSTAMP:20260420T070418
CREATED:20211214T053725Z
LAST-MODIFIED:20211214T053725Z
UID:13344-1649689200-1649689200@qld.lca.org.au
SUMMARY:Council for QLECS
DESCRIPTION:
URL:https://qld.lca.org.au/event/council-for-qlecs-2022-04-11/
LOCATION:QLECS\, Level 2\, 24 McDougall St\, Brisbane\, QLD\, 4064\, Australia
CATEGORIES:Meeting
END:VEVENT
BEGIN:VEVENT
DTSTART;TZID=Australia/Brisbane:20220401T170000
DTEND;TZID=Australia/Brisbane:20220401T210000
DTSTAMP:20260420T070418
CREATED:20211214T051534Z
LAST-MODIFIED:20211214T051534Z
UID:13316-1648832400-1648846800@qld.lca.org.au
SUMMARY:Council for Lutheran Education Queensland (CLEQ)
DESCRIPTION:1st Tuesday of the month (with some exceptions)
URL:https://qld.lca.org.au/event/council-for-lutheran-education-queensland-cleq-2022-04-01/
LOCATION:Prenzler meeting room\, Level 2\, 24 McDougall Street Milton
CATEGORIES:Meeting
END:VEVENT
BEGIN:VEVENT
DTSTART;TZID=Australia/Brisbane:20220331T130000
DTEND;TZID=Australia/Brisbane:20220331T203000
DTSTAMP:20260420T070418
CREATED:20211214T043731Z
LAST-MODIFIED:20211214T043759Z
UID:13276-1648731600-1648758600@qld.lca.org.au
SUMMARY:District Church Board (DCB)
DESCRIPTION:DCB Exec meetings will be held as required to address matters referred from the full DCB.
URL:https://qld.lca.org.au/event/district-church-board-dcb-2022-03-31/
LOCATION:24 McDougall Street\, Milton\, 24 McDougall Street\, Milton\, Brisbane\, Queensland\, 4064\, Australia
CATEGORIES:Governance Council Meeting
ORGANIZER;CN="LCAQD":MAILTO:district@qld.lca.org.au
END:VEVENT
BEGIN:VEVENT
DTSTART;TZID=Australia/Brisbane:20220326T123000
DTEND;TZID=Australia/Brisbane:20220326T170000
DTSTAMP:20260420T070418
CREATED:20220124T233309Z
LAST-MODIFIED:20220124T233309Z
UID:13430-1648297800-1648314000@qld.lca.org.au
SUMMARY:LCA Child Safety Standards (CSS) Webinar
DESCRIPTION:26 March 2022\n12:30pm Brisbane (1:30 pm AEDT)\nWebinar\nChild Safety Standards for Congregations to update congregation leaders on the implementation of the Child Safety Standards for Congregations \nContact Elizabeth Kloeden Professional Standards Officer E: elizabeth.kloeden@lca.org.au P: 0437 252 736 for more information.
URL:https://qld.lca.org.au/event/lca-child-safety-standards-css-webinar/
LOCATION:Queensland
CATEGORIES:Training & Development
ATTACH;FMTTYPE=image/png:https://qld.lca.org.au/wp-content/uploads/sites/16/2021/10/169-Cover-Photos-For-ArticlesNotice-2.png
END:VEVENT
BEGIN:VEVENT
DTSTART;TZID=Australia/Brisbane:20220326T080000
DTEND;TZID=Australia/Brisbane:20220326T170000
DTSTAMP:20260420T070418
CREATED:20211213T224306Z
LAST-MODIFIED:20211213T224306Z
UID:13243-1648281600-1648314000@qld.lca.org.au
SUMMARY:LCA Child Safety Standards Webinar
DESCRIPTION:
URL:https://qld.lca.org.au/event/lca-child-safety-standards-webinar/
LOCATION:Queensland
CATEGORIES:Training & Development
ORGANIZER;CN="Professional Standards QLD":MAILTO:Elizabeth.Kloeden@lca.org.au
END:VEVENT
BEGIN:VEVENT
DTSTART;TZID=Australia/Brisbane:20220317T080000
DTEND;TZID=Australia/Brisbane:20220317T170000
DTSTAMP:20260420T070418
CREATED:20211214T052148Z
LAST-MODIFIED:20211214T052148Z
UID:13327-1647504000-1647536400@qld.lca.org.au
SUMMARY:Council for Lutheran Education Queensland (CLEQ) Executive Committee
DESCRIPTION:3rd Thursday of the month (with some exceptions)
URL:https://qld.lca.org.au/event/council-for-lutheran-education-queensland-cleq-executive-committee-2022-03-17/
LOCATION:Prenzler meeting room\, Level 2\, 24 McDougall Street Milton
CATEGORIES:Meeting
END:VEVENT
BEGIN:VEVENT
DTSTART;TZID=Australia/Brisbane:20220314T150000
DTEND;TZID=Australia/Brisbane:20220314T150000
DTSTAMP:20260420T070418
CREATED:20211214T053725Z
LAST-MODIFIED:20211214T053725Z
UID:13343-1647270000-1647270000@qld.lca.org.au
SUMMARY:Council for QLECS
DESCRIPTION:
URL:https://qld.lca.org.au/event/council-for-qlecs-2022-03-14/
LOCATION:QLECS\, Level 2\, 24 McDougall St\, Brisbane\, QLD\, 4064\, Australia
CATEGORIES:Meeting
END:VEVENT
BEGIN:VEVENT
DTSTART;TZID=Australia/Brisbane:20220314T090000
DTEND;TZID=Australia/Brisbane:20220314T103000
DTSTAMP:20260420T070418
CREATED:20211130T055013Z
LAST-MODIFIED:20220209T013408Z
UID:13215-1647248400-1647253800@qld.lca.org.au
SUMMARY:LCAQD: Navigating our Future together
DESCRIPTION:Monday March 14\, 2022\,  9:00-10:30am \nThis event is for anyone involved in service & ministry (voluntary or paid) in an LCAQD congregation or agency: \n\nAn online gathering ahead of our LCAQD Ministry Summit on September 12\, 2022.\nHear Bishop Mark Vainikka share his thoughts on the future of our church and its agencies.\nMeet and build connections with people from other LCAQD agencies.\nReflect on what might be possible as God’s family together.\n\nKeynote speaker: Rev. Dr Bishop Mark Vainikka\, Bishop LCAQD\nBorn in Finland\, Mark is an immigrant\, a family member and a marathon runner. In 2021 Mark completed a PhD and was also elected as LCAQD Bishop. \nMark passionately believes that mission is God’s work through us. As we join in God’s mission we begin to understand our identity as church. \nFor Mark\, the local congregations and agencies are the foundational mission entities of the LCAQD. Hence Mark’s invitation to join him as we navigate the future together! \n  \nRegister here by COB Thursday March 10: https://lca.ucareapp.com/events/13/booknow
URL:https://qld.lca.org.au/event/noft-2022/
LOCATION:Queensland
CATEGORIES:Conference,Event,LCAQD Feature
ATTACH;FMTTYPE=image/png:https://qld.lca.org.au/wp-content/uploads/sites/16/2021/11/Online-Ministry-Summit-event-banner-1055-x-350px.png
ORGANIZER;CN="LCAQD":MAILTO:district@qld.lca.org.au
END:VEVENT
BEGIN:VEVENT
DTSTART;VALUE=DATE:20220310
DTEND;VALUE=DATE:20220311
DTSTAMP:20260420T070418
CREATED:20211214T044356Z
LAST-MODIFIED:20211214T044356Z
UID:13300-1646870400-1646956799@qld.lca.org.au
SUMMARY:Risk\, Audit and Finance Committee (RAFC)
DESCRIPTION:
URL:https://qld.lca.org.au/event/risk-audit-and-finance-committee-rafc-2022-03-10/
LOCATION:Zoom
CATEGORIES:Meeting
ORGANIZER;CN="LCAQD":MAILTO:district@qld.lca.org.au
END:VEVENT
BEGIN:VEVENT
DTSTART;TZID=Australia/Brisbane:20220309T180000
DTEND;TZID=Australia/Brisbane:20220309T213000
DTSTAMP:20260420T070418
CREATED:20211214T054023Z
LAST-MODIFIED:20211214T054023Z
UID:13355-1646848800-1646861400@qld.lca.org.au
SUMMARY:Council for Lutheran Youth of Queensland (LYQ)
DESCRIPTION:2nd Wednesday Every Month
URL:https://qld.lca.org.au/event/council-for-lutheran-youth-of-queensland-lyq-2022-03-09/
LOCATION:24 McDougall Street\, Milton\, 24 McDougall Street\, Milton\, Brisbane\, Queensland\, 4064\, Australia
CATEGORIES:Meeting
ORGANIZER;CN="Lutheran Youth Queensland":MAILTO:office@lyq.org.au
END:VEVENT
BEGIN:VEVENT
DTSTART;TZID=Australia/Brisbane:20220301T170000
DTEND;TZID=Australia/Brisbane:20220301T210000
DTSTAMP:20260420T070418
CREATED:20211214T051534Z
LAST-MODIFIED:20211214T051534Z
UID:13315-1646154000-1646168400@qld.lca.org.au
SUMMARY:Council for Lutheran Education Queensland (CLEQ)
DESCRIPTION:1st Tuesday of the month (with some exceptions)
URL:https://qld.lca.org.au/event/council-for-lutheran-education-queensland-cleq-2022-03-01/
LOCATION:Prenzler meeting room\, Level 2\, 24 McDougall Street Milton
CATEGORIES:Meeting
END:VEVENT
BEGIN:VEVENT
DTSTART;TZID=Australia/Brisbane:20220223T130000
DTEND;TZID=Australia/Brisbane:20220223T203000
DTSTAMP:20260420T070418
CREATED:20211214T043731Z
LAST-MODIFIED:20211214T043759Z
UID:13275-1645621200-1645648200@qld.lca.org.au
SUMMARY:District Church Board (DCB)
DESCRIPTION:DCB Exec meetings will be held as required to address matters referred from the full DCB.
URL:https://qld.lca.org.au/event/district-church-board-dcb-2022-02-23/
LOCATION:24 McDougall Street\, Milton\, 24 McDougall Street\, Milton\, Brisbane\, Queensland\, 4064\, Australia
CATEGORIES:Governance Council Meeting
ORGANIZER;CN="LCAQD":MAILTO:district@qld.lca.org.au
END:VEVENT
BEGIN:VEVENT
DTSTART;TZID=Australia/Brisbane:20220217T080000
DTEND;TZID=Australia/Brisbane:20220217T170000
DTSTAMP:20260420T070418
CREATED:20211214T052148Z
LAST-MODIFIED:20211214T052148Z
UID:13325-1645084800-1645117200@qld.lca.org.au
SUMMARY:Council for Lutheran Education Queensland (CLEQ) Executive Committee
DESCRIPTION:3rd Thursday of the month (with some exceptions)
URL:https://qld.lca.org.au/event/council-for-lutheran-education-queensland-cleq-executive-committee/
LOCATION:Prenzler meeting room\, Level 2\, 24 McDougall Street Milton
CATEGORIES:Meeting
END:VEVENT
BEGIN:VEVENT
DTSTART;TZID=Australia/Brisbane:20220216T080000
DTEND;TZID=Australia/Brisbane:20220219T170000
DTSTAMP:20260420T070418
CREATED:20211130T003648Z
LAST-MODIFIED:20211130T003648Z
UID:13158-1644998400-1645290000@qld.lca.org.au
SUMMARY:ALC Festival of Learning
DESCRIPTION:Speaking many languages\, hearing one voice!
URL:https://qld.lca.org.au/event/alc-festival-of-learning/
LOCATION:Queensland
CATEGORIES:Conference
END:VEVENT
BEGIN:VEVENT
DTSTART;TZID=Australia/Brisbane:20220214T180000
DTEND;TZID=Australia/Brisbane:20220214T220000
DTSTAMP:20260420T070418
CREATED:20211214T053111Z
LAST-MODIFIED:20211214T053111Z
UID:13337-1644861600-1644876000@qld.lca.org.au
SUMMARY:Council for Lutheran Services (CLS)
DESCRIPTION:2nd Monday each month (with some exceptions)
URL:https://qld.lca.org.au/event/council-for-lutheran-services-cls/
LOCATION:Prenzler meeting room\, Level 2\, 24 McDougall Street Milton
CATEGORIES:Meeting
END:VEVENT
BEGIN:VEVENT
DTSTART;TZID=Australia/Brisbane:20220214T170000
DTEND;TZID=Australia/Brisbane:20220214T200000
DTSTAMP:20260420T070418
CREATED:20211214T054302Z
LAST-MODIFIED:20211214T054302Z
UID:13365-1644858000-1644868800@qld.lca.org.au
SUMMARY:Council for Ministry & Mission (M&M)
DESCRIPTION:2 monthly on 2nd Monday
URL:https://qld.lca.org.au/event/council-for-ministry-mission-mm/
LOCATION:24 McDougall Street\, Milton\, 24 McDougall Street\, Milton\, Brisbane\, Queensland\, 4064\, Australia
CATEGORIES:Meeting
END:VEVENT
BEGIN:VEVENT
DTSTART;TZID=Australia/Brisbane:20220214T150000
DTEND;TZID=Australia/Brisbane:20220214T150000
DTSTAMP:20260420T070418
CREATED:20211214T053725Z
LAST-MODIFIED:20211214T053725Z
UID:13339-1644850800-1644850800@qld.lca.org.au
SUMMARY:Council for QLECS
DESCRIPTION:
URL:https://qld.lca.org.au/event/council-for-qlecs/
LOCATION:QLECS\, Level 2\, 24 McDougall St\, Brisbane\, QLD\, 4064\, Australia
CATEGORIES:Meeting
END:VEVENT
BEGIN:VEVENT
DTSTART;VALUE=DATE:20220210
DTEND;VALUE=DATE:20220211
DTSTAMP:20260420T070418
CREATED:20211214T044356Z
LAST-MODIFIED:20211214T044356Z
UID:13298-1644451200-1644537599@qld.lca.org.au
SUMMARY:Risk\, Audit and Finance Committee (RAFC)
DESCRIPTION:
URL:https://qld.lca.org.au/event/risk-audit-and-finance-committee-rafc/
LOCATION:Zoom
CATEGORIES:Meeting
ORGANIZER;CN="LCAQD":MAILTO:district@qld.lca.org.au
END:VEVENT
BEGIN:VEVENT
DTSTART;TZID=Australia/Brisbane:20220209T180000
DTEND;TZID=Australia/Brisbane:20220209T213000
DTSTAMP:20260420T070418
CREATED:20211214T054023Z
LAST-MODIFIED:20211214T054023Z
UID:13353-1644429600-1644442200@qld.lca.org.au
SUMMARY:Council for Lutheran Youth of Queensland (LYQ)
DESCRIPTION:2nd Wednesday Every Month
URL:https://qld.lca.org.au/event/council-for-lutheran-youth-of-queensland-lyq/
LOCATION:24 McDougall Street\, Milton\, 24 McDougall Street\, Milton\, Brisbane\, Queensland\, 4064\, Australia
CATEGORIES:Meeting
ORGANIZER;CN="Lutheran Youth Queensland":MAILTO:office@lyq.org.au
END:VEVENT
END:VCALENDAR