BEGIN:VCALENDAR
VERSION:2.0
PRODID:-//Qld District - ECPv6.6.2//NONSGML v1.0//EN
CALSCALE:GREGORIAN
METHOD:PUBLISH
X-WR-CALNAME:Qld District
X-ORIGINAL-URL:https://qld.lca.org.au
X-WR-CALDESC:Events for Qld District
REFRESH-INTERVAL;VALUE=DURATION:PT1H
X-Robots-Tag:noindex
X-PUBLISHED-TTL:PT1H
BEGIN:VTIMEZONE
TZID:Australia/Brisbane
BEGIN:STANDARD
TZOFFSETFROM:+1000
TZOFFSETTO:+1000
TZNAME:AEST
DTSTART:20220101T000000
END:STANDARD
END:VTIMEZONE
BEGIN:VEVENT
DTSTART;TZID=Australia/Brisbane:20220928T130000
DTEND;TZID=Australia/Brisbane:20220928T203000
DTSTAMP:20260420T001902
CREATED:20211214T043731Z
LAST-MODIFIED:20211214T043800Z
UID:13282-1664370000-1664397000@qld.lca.org.au
SUMMARY:District Church Board (DCB)
DESCRIPTION:DCB Exec meetings will be held as required to address matters referred from the full DCB.
URL:https://qld.lca.org.au/event/district-church-board-dcb-2022-09-28/
LOCATION:24 McDougall Street\, Milton\, 24 McDougall Street\, Milton\, Brisbane\, Queensland\, 4064\, Australia
CATEGORIES:Governance Council Meeting
ORGANIZER;CN="LCAQD":MAILTO:district@qld.lca.org.au
END:VEVENT
BEGIN:VEVENT
DTSTART;TZID=Australia/Brisbane:20220919T170000
DTEND;TZID=Australia/Brisbane:20220919T200000
DTSTAMP:20260420T001902
CREATED:20211214T054302Z
LAST-MODIFIED:20220816T064218Z
UID:13371-1663606800-1663617600@qld.lca.org.au
SUMMARY:Council for Ministry & Mission (M&M)
DESCRIPTION:2 monthly on 2nd Monday
URL:https://qld.lca.org.au/event/council-for-ministry-mission-mm-2022-09-19/
LOCATION:24 McDougall Street\, Milton\, 24 McDougall Street\, Milton\, Brisbane\, Queensland\, 4064\, Australia
CATEGORIES:Meeting
END:VEVENT
BEGIN:VEVENT
DTSTART;TZID=Australia/Brisbane:20220917T080000
DTEND;TZID=Australia/Brisbane:20220917T170000
DTSTAMP:20260420T001902
CREATED:20211214T052148Z
LAST-MODIFIED:20211214T052148Z
UID:13333-1663401600-1663434000@qld.lca.org.au
SUMMARY:Council for Lutheran Education Queensland (CLEQ) Executive Committee
DESCRIPTION:3rd Thursday of the month (with some exceptions)
URL:https://qld.lca.org.au/event/council-for-lutheran-education-queensland-cleq-executive-committee-2022-09-17/
LOCATION:Prenzler meeting room\, Level 2\, 24 McDougall Street Milton
CATEGORIES:Meeting
END:VEVENT
BEGIN:VEVENT
DTSTART;TZID=Australia/Brisbane:20220914T180000
DTEND;TZID=Australia/Brisbane:20220914T213000
DTSTAMP:20260420T001902
CREATED:20211214T054023Z
LAST-MODIFIED:20211214T054023Z
UID:13361-1663178400-1663191000@qld.lca.org.au
SUMMARY:Council for Lutheran Youth of Queensland (LYQ)
DESCRIPTION:2nd Wednesday Every Month
URL:https://qld.lca.org.au/event/council-for-lutheran-youth-of-queensland-lyq-2022-09-14/
LOCATION:24 McDougall Street\, Milton\, 24 McDougall Street\, Milton\, Brisbane\, Queensland\, 4064\, Australia
CATEGORIES:Meeting
ORGANIZER;CN="Lutheran Youth Queensland":MAILTO:office@lyq.org.au
END:VEVENT
BEGIN:VEVENT
DTSTART;TZID=Australia/Brisbane:20220912T150000
DTEND;TZID=Australia/Brisbane:20220912T150000
DTSTAMP:20260420T001902
CREATED:20211214T053725Z
LAST-MODIFIED:20211214T053725Z
UID:13349-1662994800-1662994800@qld.lca.org.au
SUMMARY:Council for QLECS
DESCRIPTION:
URL:https://qld.lca.org.au/event/council-for-qlecs-2022-09-12/
LOCATION:QLECS\, Level 2\, 24 McDougall St\, Brisbane\, QLD\, 4064\, Australia
CATEGORIES:Meeting
END:VEVENT
BEGIN:VEVENT
DTSTART;TZID=Australia/Brisbane:20220912T083000
DTEND;TZID=Australia/Brisbane:20220912T150000
DTSTAMP:20260420T001902
CREATED:20220315T061554Z
LAST-MODIFIED:20220727T003327Z
UID:13694-1662971400-1662994800@qld.lca.org.au
SUMMARY:LCAQD Ministry Summit 2022
DESCRIPTION:As someone involved in Service & Ministry in an LCAQD congregation or agency\, we invite you to be part of the LCAQD Ministry Summit 2022. \n\nTogether we will celebrate the things that God is doing in our communities\, and with an intentional voice identify collaborative opportunities for serving together. \nMore information about the Ministry Summit is here. \nRegistrations for the LCAQD Ministry Summit 2022 are now open: https://bit.ly/3ofW53R \nSubsidies are available for volunteer congregational leaders which will reduce your registration fee to $40. Contact kathy.matuschka@qld.lca.org.au to receive the discount code before you register. \n\nWe thank the LLL for sponsoring this event.
URL:https://qld.lca.org.au/event/lcaqd-ministry-summit-2022/
LOCATION:Brisbane Technology Park\, Eight Mile Plains\, 3 Clunies Ross Ct\, Eight Mile Plains\, Queensland\, 4113\, Australia
CATEGORIES:Conference
ATTACH;FMTTYPE=image/png:https://qld.lca.org.au/wp-content/uploads/sites/16/2022/03/website-banner-1055-x-350px.png
ORGANIZER;CN="LCAQD":MAILTO:district@qld.lca.org.au
END:VEVENT
BEGIN:VEVENT
DTSTART;VALUE=DATE:20220908
DTEND;VALUE=DATE:20220909
DTSTAMP:20260420T001902
CREATED:20211214T044356Z
LAST-MODIFIED:20211214T044356Z
UID:13306-1662595200-1662681599@qld.lca.org.au
SUMMARY:Risk\, Audit and Finance Committee (RAFC)
DESCRIPTION:
URL:https://qld.lca.org.au/event/risk-audit-and-finance-committee-rafc-2022-09-08/
LOCATION:Zoom
CATEGORIES:Meeting
ORGANIZER;CN="LCAQD":MAILTO:district@qld.lca.org.au
END:VEVENT
BEGIN:VEVENT
DTSTART;TZID=Australia/Brisbane:20220901T170000
DTEND;TZID=Australia/Brisbane:20220901T210000
DTSTAMP:20260420T001902
CREATED:20211214T051534Z
LAST-MODIFIED:20211214T051534Z
UID:13321-1662051600-1662066000@qld.lca.org.au
SUMMARY:Council for Lutheran Education Queensland (CLEQ)
DESCRIPTION:1st Tuesday of the month (with some exceptions)
URL:https://qld.lca.org.au/event/council-for-lutheran-education-queensland-cleq-2022-09-01/
LOCATION:Prenzler meeting room\, Level 2\, 24 McDougall Street Milton
CATEGORIES:Meeting
END:VEVENT
BEGIN:VEVENT
DTSTART;TZID=Australia/Brisbane:20220831T130000
DTEND;TZID=Australia/Brisbane:20220831T203000
DTSTAMP:20260420T001902
CREATED:20211214T043731Z
LAST-MODIFIED:20211214T043800Z
UID:13281-1661950800-1661977800@qld.lca.org.au
SUMMARY:District Church Board (DCB)
DESCRIPTION:DCB Exec meetings will be held as required to address matters referred from the full DCB.
URL:https://qld.lca.org.au/event/district-church-board-dcb-2022-08-31/
LOCATION:24 McDougall Street\, Milton\, 24 McDougall Street\, Milton\, Brisbane\, Queensland\, 4064\, Australia
CATEGORIES:Governance Council Meeting
ORGANIZER;CN="LCAQD":MAILTO:district@qld.lca.org.au
END:VEVENT
BEGIN:VEVENT
DTSTART;TZID=Australia/Brisbane:20220817T080000
DTEND;TZID=Australia/Brisbane:20220817T170000
DTSTAMP:20260420T001902
CREATED:20211214T052148Z
LAST-MODIFIED:20211214T052148Z
UID:13332-1660723200-1660755600@qld.lca.org.au
SUMMARY:Council for Lutheran Education Queensland (CLEQ) Executive Committee
DESCRIPTION:3rd Thursday of the month (with some exceptions)
URL:https://qld.lca.org.au/event/council-for-lutheran-education-queensland-cleq-executive-committee-2022-08-17/
LOCATION:Prenzler meeting room\, Level 2\, 24 McDougall Street Milton
CATEGORIES:Meeting
END:VEVENT
BEGIN:VEVENT
DTSTART;VALUE=DATE:20220811
DTEND;VALUE=DATE:20220812
DTSTAMP:20260420T001902
CREATED:20211214T044356Z
LAST-MODIFIED:20211214T044356Z
UID:13305-1660176000-1660262399@qld.lca.org.au
SUMMARY:Risk\, Audit and Finance Committee (RAFC)
DESCRIPTION:
URL:https://qld.lca.org.au/event/risk-audit-and-finance-committee-rafc-2022-08-11/
LOCATION:Zoom
CATEGORIES:Meeting
ORGANIZER;CN="LCAQD":MAILTO:district@qld.lca.org.au
END:VEVENT
BEGIN:VEVENT
DTSTART;TZID=Australia/Brisbane:20220810T180000
DTEND;TZID=Australia/Brisbane:20220810T213000
DTSTAMP:20260420T001902
CREATED:20211214T054023Z
LAST-MODIFIED:20211214T054023Z
UID:13360-1660154400-1660167000@qld.lca.org.au
SUMMARY:Council for Lutheran Youth of Queensland (LYQ)
DESCRIPTION:2nd Wednesday Every Month
URL:https://qld.lca.org.au/event/council-for-lutheran-youth-of-queensland-lyq-2022-08-10/
LOCATION:24 McDougall Street\, Milton\, 24 McDougall Street\, Milton\, Brisbane\, Queensland\, 4064\, Australia
CATEGORIES:Meeting
ORGANIZER;CN="Lutheran Youth Queensland":MAILTO:office@lyq.org.au
END:VEVENT
BEGIN:VEVENT
DTSTART;TZID=Australia/Brisbane:20220808T170000
DTEND;TZID=Australia/Brisbane:20220808T200000
DTSTAMP:20260420T001902
CREATED:20211214T054302Z
LAST-MODIFIED:20211214T054302Z
UID:13370-1659978000-1659988800@qld.lca.org.au
SUMMARY:Council for Ministry & Mission (M&M)
DESCRIPTION:2 monthly on 2nd Monday
URL:https://qld.lca.org.au/event/council-for-ministry-mission-mm-2022-08-08/
LOCATION:24 McDougall Street\, Milton\, 24 McDougall Street\, Milton\, Brisbane\, Queensland\, 4064\, Australia
CATEGORIES:Meeting
END:VEVENT
BEGIN:VEVENT
DTSTART;TZID=Australia/Brisbane:20220808T150000
DTEND;TZID=Australia/Brisbane:20220808T150000
DTSTAMP:20260420T001902
CREATED:20211214T053725Z
LAST-MODIFIED:20211214T053725Z
UID:13348-1659970800-1659970800@qld.lca.org.au
SUMMARY:Council for QLECS
DESCRIPTION:
URL:https://qld.lca.org.au/event/council-for-qlecs-2022-08-08/
LOCATION:QLECS\, Level 2\, 24 McDougall St\, Brisbane\, QLD\, 4064\, Australia
CATEGORIES:Meeting
END:VEVENT
BEGIN:VEVENT
DTSTART;TZID=Australia/Brisbane:20220803T190000
DTEND;TZID=Australia/Brisbane:20220803T203000
DTSTAMP:20260420T001902
CREATED:20220621T070019Z
LAST-MODIFIED:20220621T070019Z
UID:14222-1659553200-1659558600@qld.lca.org.au
SUMMARY:Vital Connections Online Workshop
DESCRIPTION:An excellent online workshop that explores the themes identified in the Young Adult Ministry Report\, during July/Aug 2022.  Each 90 minute online session will be offered twice on consecutive Wednesdays\, at 10am and 7pm. \nDates: July 13th\, 20th\, 27th\, Aug 3rd. \nFind out more information by downloading this flyer or email tom.schmidt@qld.lca.org.au
URL:https://qld.lca.org.au/event/vital-connections-online-workshop4-pm/
LOCATION:Online
CATEGORIES:Training & Development
END:VEVENT
BEGIN:VEVENT
DTSTART;TZID=Australia/Brisbane:20220803T100000
DTEND;TZID=Australia/Brisbane:20220803T113000
DTSTAMP:20260420T001902
CREATED:20220621T065747Z
LAST-MODIFIED:20220621T065947Z
UID:14220-1659520800-1659526200@qld.lca.org.au
SUMMARY:Vital Connections Online Workshop
DESCRIPTION:An excellent online workshop that explores the themes identified in the Young Adult Ministry Report\, during July/Aug 2022.  Each 90 minute online session will be offered twice on consecutive Wednesdays\, at 10am and 7pm. \nDates: July 13th\, 20th\, 27th\, Aug 3rd. \nFind out more information by downloading this flyer or email tom.schmidt@qld.lca.org.au
URL:https://qld.lca.org.au/event/vital-connections-online-workshop4-am/
LOCATION:Online
CATEGORIES:Training & Development
END:VEVENT
BEGIN:VEVENT
DTSTART;TZID=Australia/Brisbane:20220801T170000
DTEND;TZID=Australia/Brisbane:20220801T210000
DTSTAMP:20260420T001902
CREATED:20211214T051534Z
LAST-MODIFIED:20211214T051534Z
UID:13320-1659373200-1659387600@qld.lca.org.au
SUMMARY:Council for Lutheran Education Queensland (CLEQ)
DESCRIPTION:1st Tuesday of the month (with some exceptions)
URL:https://qld.lca.org.au/event/council-for-lutheran-education-queensland-cleq-2022-08-01/
LOCATION:Prenzler meeting room\, Level 2\, 24 McDougall Street Milton
CATEGORIES:Meeting
END:VEVENT
BEGIN:VEVENT
DTSTART;TZID=Australia/Brisbane:20220727T190000
DTEND;TZID=Australia/Brisbane:20220727T203000
DTSTAMP:20260420T001902
CREATED:20220621T065547Z
LAST-MODIFIED:20220621T065547Z
UID:14217-1658948400-1658953800@qld.lca.org.au
SUMMARY:Vital Connections Online Workshop
DESCRIPTION:An excellent online workshop that explores the themes identified in the Young Adult Ministry Report\, during July/Aug 2022.  Each 90 minute online session will be offered twice on consecutive Wednesdays\, at 10am and 7pm. \nDates: July 13th\, 20th\, 27th\, Aug 3rd. \nFind out more information by downloading this flyer or email tom.schmidt@qld.lca.org.au
URL:https://qld.lca.org.au/event/vital-connections-online-workshop3-pm/
LOCATION:Online
CATEGORIES:Training & Development
END:VEVENT
BEGIN:VEVENT
DTSTART;TZID=Australia/Brisbane:20220727T130000
DTEND;TZID=Australia/Brisbane:20220727T203000
DTSTAMP:20260420T001902
CREATED:20211214T043731Z
LAST-MODIFIED:20211214T043759Z
UID:13280-1658926800-1658953800@qld.lca.org.au
SUMMARY:District Church Board (DCB)
DESCRIPTION:DCB Exec meetings will be held as required to address matters referred from the full DCB.
URL:https://qld.lca.org.au/event/district-church-board-dcb-2022-07-27/
LOCATION:24 McDougall Street\, Milton\, 24 McDougall Street\, Milton\, Brisbane\, Queensland\, 4064\, Australia
CATEGORIES:Governance Council Meeting
ORGANIZER;CN="LCAQD":MAILTO:district@qld.lca.org.au
END:VEVENT
BEGIN:VEVENT
DTSTART;TZID=Australia/Brisbane:20220727T100000
DTEND;TZID=Australia/Brisbane:20220727T113000
DTSTAMP:20260420T001902
CREATED:20220621T064830Z
LAST-MODIFIED:20220621T065304Z
UID:14215-1658916000-1658921400@qld.lca.org.au
SUMMARY:Vital Connections Online Workshop
DESCRIPTION:An excellent online workshop that explores the themes identified in the Young Adult Ministry Report\, during July/Aug 2022.  Each 90 minute online session will be offered twice on consecutive Wednesdays\, at 10am and 7pm. \nDates: July 13th\, 20th\, 27th\, Aug 3rd. \nFind out more information by downloading this flyer or email tom.schmidt@qld.lca.org.au
URL:https://qld.lca.org.au/event/vital-connections-online-workshop3-am/
LOCATION:Online
CATEGORIES:Training & Development
END:VEVENT
BEGIN:VEVENT
DTSTART;TZID=Australia/Brisbane:20220720T190000
DTEND;TZID=Australia/Brisbane:20220720T203000
DTSTAMP:20260420T001902
CREATED:20220621T064605Z
LAST-MODIFIED:20220621T064605Z
UID:14213-1658343600-1658349000@qld.lca.org.au
SUMMARY:Vital Connections Online Workshop
DESCRIPTION:An excellent online workshop that explores the themes identified in the Young Adult Ministry Report\, during July/Aug 2022.  Each 90 minute online session will be offered twice on consecutive Wednesdays\, at 10am and 7pm. \nDates: July 13th\, 20th\, 27th\, Aug 3rd. \nFind out more information by downloading this flyer or email tom.schmidt@qld.lca.org.au
URL:https://qld.lca.org.au/event/vital-connections-online-workshop2-pm/
LOCATION:Online
CATEGORIES:Training & Development
END:VEVENT
BEGIN:VEVENT
DTSTART;TZID=Australia/Brisbane:20220720T100000
DTEND;TZID=Australia/Brisbane:20220720T113000
DTSTAMP:20260420T001902
CREATED:20220621T064350Z
LAST-MODIFIED:20220621T064350Z
UID:14211-1658311200-1658316600@qld.lca.org.au
SUMMARY:Vital Connections Online Workshop
DESCRIPTION:An excellent online workshop that explores the themes identified in the Young Adult Ministry Report\, during July/Aug 2022.  Each 90 minute online session will be offered twice on consecutive Wednesdays\, at 10am and 7pm. \nDates: July 13th\, 20th\, 27th\, Aug 3rd. \nFind out more information by downloading this flyer or email tom.schmidt@qld.lca.org.au
URL:https://qld.lca.org.au/event/vital-connections-online-workshop2-am/
LOCATION:Online
CATEGORIES:Training & Development
END:VEVENT
BEGIN:VEVENT
DTSTART;TZID=Australia/Brisbane:20220717T080000
DTEND;TZID=Australia/Brisbane:20220717T170000
DTSTAMP:20260420T001902
CREATED:20211214T052148Z
LAST-MODIFIED:20211214T052148Z
UID:13331-1658044800-1658077200@qld.lca.org.au
SUMMARY:Council for Lutheran Education Queensland (CLEQ) Executive Committee
DESCRIPTION:3rd Thursday of the month (with some exceptions)
URL:https://qld.lca.org.au/event/council-for-lutheran-education-queensland-cleq-executive-committee-2022-07-17/
LOCATION:Prenzler meeting room\, Level 2\, 24 McDougall Street Milton
CATEGORIES:Meeting
END:VEVENT
BEGIN:VEVENT
DTSTART;VALUE=DATE:20220714
DTEND;VALUE=DATE:20220715
DTSTAMP:20260420T001902
CREATED:20211214T044356Z
LAST-MODIFIED:20211214T044356Z
UID:13304-1657756800-1657843199@qld.lca.org.au
SUMMARY:Risk\, Audit and Finance Committee (RAFC)
DESCRIPTION:
URL:https://qld.lca.org.au/event/risk-audit-and-finance-committee-rafc-2022-07-14/
LOCATION:Zoom
CATEGORIES:Meeting
ORGANIZER;CN="LCAQD":MAILTO:district@qld.lca.org.au
END:VEVENT
BEGIN:VEVENT
DTSTART;TZID=Australia/Brisbane:20220713T190000
DTEND;TZID=Australia/Brisbane:20220713T203000
DTSTAMP:20260420T001902
CREATED:20220621T063006Z
LAST-MODIFIED:20220621T063142Z
UID:14209-1657738800-1657744200@qld.lca.org.au
SUMMARY:Vital Connections Online Workshop
DESCRIPTION:An excellent online workshop that explores the themes identified in the Young Adult Ministry Report\, during July/Aug 2022.  Each 90 minute online session will be offered twice on consecutive Wednesdays\, at 10am and 7pm. \nDates: July 13th\, 20th\, 27th\, Aug 3rd. \nFind out more information by downloading this flyer or email tom.schmidt@qld.lca.org.au
URL:https://qld.lca.org.au/event/vital-connections-online-workshop1-pm/
LOCATION:Online
CATEGORIES:Training & Development
END:VEVENT
BEGIN:VEVENT
DTSTART;TZID=Australia/Brisbane:20220713T180000
DTEND;TZID=Australia/Brisbane:20220713T213000
DTSTAMP:20260420T001902
CREATED:20211214T054023Z
LAST-MODIFIED:20211214T054023Z
UID:13359-1657735200-1657747800@qld.lca.org.au
SUMMARY:Council for Lutheran Youth of Queensland (LYQ)
DESCRIPTION:2nd Wednesday Every Month
URL:https://qld.lca.org.au/event/council-for-lutheran-youth-of-queensland-lyq-2022-07-13/
LOCATION:24 McDougall Street\, Milton\, 24 McDougall Street\, Milton\, Brisbane\, Queensland\, 4064\, Australia
CATEGORIES:Meeting
ORGANIZER;CN="Lutheran Youth Queensland":MAILTO:office@lyq.org.au
END:VEVENT
BEGIN:VEVENT
DTSTART;TZID=Australia/Brisbane:20220713T100000
DTEND;TZID=Australia/Brisbane:20220713T113000
DTSTAMP:20260420T001902
CREATED:20220609T073505Z
LAST-MODIFIED:20220621T063315Z
UID:14111-1657706400-1657711800@qld.lca.org.au
SUMMARY:Vital Connections Online Workshop
DESCRIPTION:An excellent online workshop that explores the themes identified in the Young Adult Ministry Report\, during July/Aug 2022.  Each 90 minute online session will be offered twice on consecutive Wednesdays\, at 10am and 7pm. \nDates: July 13th\, 20th\, 27th\, Aug 3rd. \nFind out more information by downloading this flyer or email tom.schmidt@qld.lca.org.au
URL:https://qld.lca.org.au/event/vital-connections-online-workshop1-am/
LOCATION:Online
CATEGORIES:Training & Development
END:VEVENT
BEGIN:VEVENT
DTSTART;TZID=Australia/Brisbane:20220711T150000
DTEND;TZID=Australia/Brisbane:20220711T150000
DTSTAMP:20260420T001902
CREATED:20211214T053725Z
LAST-MODIFIED:20211214T053725Z
UID:13347-1657551600-1657551600@qld.lca.org.au
SUMMARY:Council for QLECS
DESCRIPTION:
URL:https://qld.lca.org.au/event/council-for-qlecs-2022-07-11/
LOCATION:QLECS\, Level 2\, 24 McDougall St\, Brisbane\, QLD\, 4064\, Australia
CATEGORIES:Meeting
END:VEVENT
BEGIN:VEVENT
DTSTART;TZID=Australia/Brisbane:20220701T170000
DTEND;TZID=Australia/Brisbane:20220701T210000
DTSTAMP:20260420T001902
CREATED:20211214T051534Z
LAST-MODIFIED:20211214T051534Z
UID:13319-1656694800-1656709200@qld.lca.org.au
SUMMARY:Council for Lutheran Education Queensland (CLEQ)
DESCRIPTION:1st Tuesday of the month (with some exceptions)
URL:https://qld.lca.org.au/event/council-for-lutheran-education-queensland-cleq-2022-07-01/
LOCATION:Prenzler meeting room\, Level 2\, 24 McDougall Street Milton
CATEGORIES:Meeting
END:VEVENT
BEGIN:VEVENT
DTSTART;TZID=Australia/Brisbane:20220629T130000
DTEND;TZID=Australia/Brisbane:20220629T203000
DTSTAMP:20260420T001902
CREATED:20211214T043731Z
LAST-MODIFIED:20211214T043759Z
UID:13279-1656507600-1656534600@qld.lca.org.au
SUMMARY:District Church Board (DCB)
DESCRIPTION:DCB Exec meetings will be held as required to address matters referred from the full DCB.
URL:https://qld.lca.org.au/event/district-church-board-dcb-2022-06-29/
LOCATION:24 McDougall Street\, Milton\, 24 McDougall Street\, Milton\, Brisbane\, Queensland\, 4064\, Australia
CATEGORIES:Governance Council Meeting
ORGANIZER;CN="LCAQD":MAILTO:district@qld.lca.org.au
END:VEVENT
END:VCALENDAR