BEGIN:VCALENDAR
VERSION:2.0
PRODID:-//Qld District - ECPv6.6.2//NONSGML v1.0//EN
CALSCALE:GREGORIAN
METHOD:PUBLISH
X-ORIGINAL-URL:https://qld.lca.org.au
X-WR-CALDESC:Events for Qld District
REFRESH-INTERVAL;VALUE=DURATION:PT1H
X-Robots-Tag:noindex
X-PUBLISHED-TTL:PT1H
BEGIN:VTIMEZONE
TZID:Australia/Brisbane
BEGIN:STANDARD
TZOFFSETFROM:+1000
TZOFFSETTO:+1000
TZNAME:AEST
DTSTART:20210101T000000
END:STANDARD
END:VTIMEZONE
BEGIN:VEVENT
DTSTART;TZID=Australia/Brisbane:20231210T080000
DTEND;TZID=Australia/Brisbane:20231215T170000
DTSTAMP:20260423T135200
CREATED:20221109T015431Z
LAST-MODIFIED:20221109T015431Z
UID:15015-1702195200-1702659600@qld.lca.org.au
SUMMARY:LYQ Senior Blast Camp
DESCRIPTION:Details to come.
URL:https://qld.lca.org.au/event/lyq-senior-blast-camp/
CATEGORIES:Event
ORGANIZER;CN="Lutheran Youth Queensland":MAILTO:office@lyq.org.au
END:VEVENT
BEGIN:VEVENT
DTSTART;TZID=Australia/Brisbane:20231209T080000
DTEND;TZID=Australia/Brisbane:20231215T170000
DTSTAMP:20260423T135200
CREATED:20221109T015302Z
LAST-MODIFIED:20221109T015302Z
UID:15013-1702108800-1702659600@qld.lca.org.au
SUMMARY:LYQ Family Camp 2023
DESCRIPTION:Details to come.
URL:https://qld.lca.org.au/event/lyq-family-camp-2023/
CATEGORIES:Event
ORGANIZER;CN="Lutheran Youth Queensland":MAILTO:office@lyq.org.au
END:VEVENT
BEGIN:VEVENT
DTSTART;TZID=Australia/Brisbane:20231013T080000
DTEND;TZID=Australia/Brisbane:20231015T170000
DTSTAMP:20260423T135200
CREATED:20221109T015103Z
LAST-MODIFIED:20221109T015103Z
UID:15011-1697184000-1697389200@qld.lca.org.au
SUMMARY:Replenish Women's Retreat 2023
DESCRIPTION:Details to come.
URL:https://qld.lca.org.au/event/replenish-womens-retreat-2023/
CATEGORIES:Event
ORGANIZER;CN="Lutheran Youth Queensland":MAILTO:office@lyq.org.au
END:VEVENT
BEGIN:VEVENT
DTSTART;TZID=Australia/Brisbane:20230925T080000
DTEND;TZID=Australia/Brisbane:20230929T170000
DTSTAMP:20260423T135200
CREATED:20221109T014846Z
LAST-MODIFIED:20221109T014846Z
UID:15009-1695628800-1696006800@qld.lca.org.au
SUMMARY:LYQ Central QLD CLW Camp
DESCRIPTION:Details to come.
URL:https://qld.lca.org.au/event/lyq-central-qld-clw-camp/
CATEGORIES:Event
ORGANIZER;CN="Lutheran Youth Queensland":MAILTO:office@lyq.org.au
END:VEVENT
BEGIN:VEVENT
DTSTART;TZID=Australia/Brisbane:20230925T080000
DTEND;TZID=Australia/Brisbane:20230929T170000
DTSTAMP:20260423T135200
CREATED:20221109T014717Z
LAST-MODIFIED:20221109T014717Z
UID:15007-1695628800-1696006800@qld.lca.org.au
SUMMARY:LYQ Enthuse Development Program
DESCRIPTION:Enthuse is a faith-based leadership development program specifically designed for key student leaders entering year 12. The purpose of Enthuse is to develop Christ-centered leaders who recognise that leadership requires service.  Now in its eighteenth year\, Enthuse is recognised as a key component in equipping\, empowering and inspiring the leaders of Queensland Lutheran schools to servant leadership. Details to come.
URL:https://qld.lca.org.au/event/lyq-enthuse-development-program/
CATEGORIES:Event
ORGANIZER;CN="Lutheran Youth Queensland":MAILTO:office@lyq.org.au
END:VEVENT
BEGIN:VEVENT
DTSTART;TZID=Australia/Brisbane:20230920T080000
DTEND;TZID=Australia/Brisbane:20230922T170000
DTSTAMP:20260423T135200
CREATED:20221109T014431Z
LAST-MODIFIED:20221109T014431Z
UID:15005-1695196800-1695402000@qld.lca.org.au
SUMMARY:LYQ Springboard Camp
DESCRIPTION:Details to come.
URL:https://qld.lca.org.au/event/lyq-springboard-camp/
CATEGORIES:Event
ORGANIZER;CN="Lutheran Youth Queensland":MAILTO:office@lyq.org.au
END:VEVENT
BEGIN:VEVENT
DTSTART;TZID=Australia/Brisbane:20230728T080000
DTEND;TZID=Australia/Brisbane:20230730T170000
DTSTAMP:20260423T135200
CREATED:20221109T014034Z
LAST-MODIFIED:20221109T014034Z
UID:15003-1690531200-1690736400@qld.lca.org.au
SUMMARY:LYQ Work & Fellowship Camp - Luther Heights
DESCRIPTION:Details to come.
URL:https://qld.lca.org.au/event/lyq-work-fellowship-camp-luther-heights/
LOCATION:Luther Heights Youth Camp\, 1592-1606 David Low Way\, Coolum Beach\, Queensland\, 4573\, Australia
CATEGORIES:Event
ORGANIZER;CN="Lutheran Youth Queensland":MAILTO:office@lyq.org.au
END:VEVENT
BEGIN:VEVENT
DTSTART;TZID=Australia/Brisbane:20230703T080000
DTEND;TZID=Australia/Brisbane:20230707T170000
DTSTAMP:20260423T135200
CREATED:20221109T013324Z
LAST-MODIFIED:20221109T013324Z
UID:15001-1688371200-1688749200@qld.lca.org.au
SUMMARY:LYQ Coolum B CLW Camp
DESCRIPTION:Details to come.
URL:https://qld.lca.org.au/event/lyq-coolum-b-clw-camp/
LOCATION:Luther Heights Youth Camp\, 1592-1606 David Low Way\, Coolum Beach\, Queensland\, 4573\, Australia
CATEGORIES:Event
END:VEVENT
BEGIN:VEVENT
DTSTART;TZID=Australia/Brisbane:20230626T080000
DTEND;TZID=Australia/Brisbane:20230630T170000
DTSTAMP:20260423T135200
CREATED:20221109T010609Z
LAST-MODIFIED:20221109T011059Z
UID:14997-1687766400-1688144400@qld.lca.org.au
SUMMARY:LYQ Winter Kids' Camp/Coolum A CLW/Darling Downs CLW
DESCRIPTION:Held in two locations: Darling Downs and Coolum. Details to come.
URL:https://qld.lca.org.au/event/lyq-winter-clw-kids-camp/
CATEGORIES:Event
ORGANIZER;CN="Lutheran Youth Queensland":MAILTO:office@lyq.org.au
END:VEVENT
BEGIN:VEVENT
DTSTART;TZID=Australia/Brisbane:20230602T170000
DTEND;TZID=Australia/Brisbane:20230604T160000
DTSTAMP:20260423T135200
CREATED:20220929T061230Z
LAST-MODIFIED:20230412T060149Z
UID:14745-1685725200-1685894400@qld.lca.org.au
SUMMARY:55th Annual Convention of Synod
DESCRIPTION:The LCAQD District Church Board announces that the 2023 LCAQD Convention of Synod will be held at: \nBrisbane Technology Park (Map Location)\, 1 Clunies Ross Court\, Eight Mile Plains QLD 4113 \nOn: Friday evening 2nd June – Sunday 4th June 2023. \nThis year we gather under the theme of “Called according to God’s purpose”\, based on Romans 8:28: ‘We know that all things work together for good for those who love God\, who are called according to His purpose’. \nRegistrations are now open: https://qld.lca.org.au/events/synod/
URL:https://qld.lca.org.au/event/55th-annual-convention-of-synod/
LOCATION:Brisbane Technology Park\, Eight Mile Plains\, 3 Clunies Ross Ct\, Eight Mile Plains\, Queensland\, 4113\, Australia
CATEGORIES:Conference,Conferences & other events,Event
ATTACH;FMTTYPE=image/jpeg:https://qld.lca.org.au/wp-content/uploads/sites/16/2022/09/Synod-logo_v2_small-e1675751077492.jpg
ORGANIZER;CN="LCAQD":MAILTO:district@qld.lca.org.au
END:VEVENT
BEGIN:VEVENT
DTSTART;TZID=Australia/Brisbane:20230527T174500
DTEND;TZID=Australia/Brisbane:20230527T220000
DTSTAMP:20260423T135200
CREATED:20220824T055243Z
LAST-MODIFIED:20230412T053153Z
UID:14529-1685209500-1685224800@qld.lca.org.au
SUMMARY:LYQ Brisbane Appeal Dinner
DESCRIPTION:Young Lives – Shining Brighter\nWe invite you to join us on Saturday 27 May 2023 as we celebrate all that God is doing through our ministry and we partner in growing that influence further! The support we receive through our Brisbane Appeal Dinner plays a critical role in allowing us to share the Good News about Jesus with more than 14\,000 young lives every year. So register your attendance today\, invite your friends to fill a table of ten\, and join us as we help young lives to shine brighter! \nRegister here: http://www.lyq.org.au/appealdinner23
URL:https://qld.lca.org.au/event/lyq-brisbane-appeal-dinner/
LOCATION:The Marquee at Victoria Park\, 309 Herston Road\,\, Herston\, Qld\, 4006\, Australia
CATEGORIES:Event
ATTACH;FMTTYPE=image/png:https://qld.lca.org.au/wp-content/uploads/sites/16/2023/04/brisbane_appeal_dinner_a4_document_facebook_cover.png
ORGANIZER;CN="Lutheran Youth Queensland":MAILTO:office@lyq.org.au
END:VEVENT
BEGIN:VEVENT
DTSTART;TZID=Australia/Brisbane:20230505T080000
DTEND;TZID=Australia/Brisbane:20230507T170000
DTSTAMP:20260423T135200
CREATED:20221109T005934Z
LAST-MODIFIED:20221109T005934Z
UID:14995-1683273600-1683478800@qld.lca.org.au
SUMMARY:Koojarewon Work & Fellowship Camp
DESCRIPTION:Details to come.
URL:https://qld.lca.org.au/event/koojarewon-work-fellowship-camp/
LOCATION:Koojarewon Youth Camp\, 26 Borghardt Road\, Highfields\, QLD\, 4352\, Australia
CATEGORIES:Event
ORGANIZER;CN="Lutheran Youth Queensland":MAILTO:office@lyq.org.au
END:VEVENT
BEGIN:VEVENT
DTSTART;TZID=Australia/Brisbane:20230224T080000
DTEND;TZID=Australia/Brisbane:20230226T170000
DTSTAMP:20260423T135200
CREATED:20221109T005627Z
LAST-MODIFIED:20221129T051920Z
UID:14993-1677225600-1677430800@qld.lca.org.au
SUMMARY:The Gathering (LYQ)
DESCRIPTION:The Gathering is a state-wide event for young adults that brings together people ages 18-30 (or turning 18 this year) from all over QLD to grow\, be inspired and equipped to live faithfully in the way of Jesus and grow Vibrant\, healthy\, life-giving communities here and now. https://www.lyq.org.au/camps-events/2023/the-gathering-2023-firm-foundation
URL:https://qld.lca.org.au/event/the-gathering-lyq/
LOCATION:Luther Heights Youth Camp\, 1592-1606 David Low Way\, Coolum Beach\, Queensland\, 4573\, Australia
CATEGORIES:Event
ORGANIZER;CN="Lutheran Youth Queensland":MAILTO:office@lyq.org.au
END:VEVENT
BEGIN:VEVENT
DTSTART;VALUE=DATE:20230209
DTEND;VALUE=DATE:20230213
DTSTAMP:20260423T135200
CREATED:20220726T093047Z
LAST-MODIFIED:20220726T093047Z
UID:14341-1675900800-1676246399@qld.lca.org.au
SUMMARY:2023 Convention of General Synod In-Person Sessions
DESCRIPTION:Due to difficulties procuring a venue for late 2022\, in October 2021 the General Church Board approved moving the in-person sessions of the 20th Convention of General Synod to February 2023. Please check the website for the program and information for delegates.
URL:https://qld.lca.org.au/event/2023-convention-of-general-synod-in-person-sessions/
LOCATION:Melbourne Convention and Exhibition Centre\, Victoria\, 1 Convention Place\, South Wharf\, VICTORIA\, 3000\, Australia
CATEGORIES:Event
ATTACH;FMTTYPE=image/jpeg:https://qld.lca.org.au/wp-content/uploads/sites/16/2022/07/synod-2023-enews-promo1-38ceb42a9d053cbf-1.jpg
END:VEVENT
BEGIN:VEVENT
DTSTART;TZID=Australia/Brisbane:20230116T090000
DTEND;TZID=Australia/Brisbane:20230120T170000
DTSTAMP:20260423T135200
CREATED:20221027T011906Z
LAST-MODIFIED:20221027T011906Z
UID:14895-1673859600-1674234000@qld.lca.org.au
SUMMARY:Momentum 2023
DESCRIPTION:Momentum is a leadership experience specifically for Christian Colleges\, facilitated by Lutheran Youth Queensland.  More details to come.
URL:https://qld.lca.org.au/event/momentum-2023/
CATEGORIES:Event
ORGANIZER;CN="Lutheran Youth Queensland":MAILTO:office@lyq.org.au
END:VEVENT
BEGIN:VEVENT
DTSTART;TZID=Australia/Brisbane:20230109T103000
DTEND;TZID=Australia/Brisbane:20230113T133000
DTSTAMP:20260423T135200
CREATED:20221027T001546Z
LAST-MODIFIED:20221027T001654Z
UID:14890-1673260200-1673616600@qld.lca.org.au
SUMMARY:SUMMER CLW NEW Christian Life Week Camp
DESCRIPTION:Christian Life Week (CLW) is a five day camp for high school aged students that is centred on an unforgettable experience of faith\, friendship and fun. CLW is a chance for teenagers to escape the everyday\, have a stack of good clean fun and discover more about what it means to be a Christian. \nAge: Grades 7-11 in 2022 \nLocation: Luther Heights Youth Camp\n\n1592 David Low Way\n\nCoolum Beach QLD 4573\nLearn more here.
URL:https://qld.lca.org.au/event/summer-clw-new-christian-life-week-camp/
LOCATION:Luther Heights Youth Camp\, 1592-1606 David Low Way\, Coolum Beach\, Queensland\, 4573\, Australia
CATEGORIES:Event
ATTACH;FMTTYPE=image/png:https://qld.lca.org.au/wp-content/uploads/sites/16/2022/10/1_2.png
ORGANIZER;CN="Lutheran Youth Queensland":MAILTO:office@lyq.org.au
END:VEVENT
BEGIN:VEVENT
DTSTART;TZID=Australia/Brisbane:20230109T103000
DTEND;TZID=Australia/Brisbane:20230113T133000
DTSTAMP:20260423T135200
CREATED:20221027T000259Z
LAST-MODIFIED:20221027T001624Z
UID:14887-1673260200-1673616600@qld.lca.org.au
SUMMARY:LYQ Summer Kids Camp
DESCRIPTION:Kids Camp is a five day adventure for children in Grades 3-6 (in 2022) at our spectacular Luther Heights Youth Camp\, Coolum Beach. \nThe Kids Camp program is a beautiful mix of learning about God\, spending time outdoors and enjoying games with friends… lots of good clean fun and laughter! \nAge: Grades 3-6 in 2022 \nLocation: Luther Heights Youth Camp\n\n1592 David Low Way\n\nCoolum Beach QLD 4573\nLearn more here.
URL:https://qld.lca.org.au/event/lyq-summer-kids-camp/
LOCATION:Luther Heights Youth Camp\, 1592-1606 David Low Way\, Coolum Beach\, Queensland\, 4573\, Australia
CATEGORIES:Event
ATTACH;FMTTYPE=image/png:https://qld.lca.org.au/wp-content/uploads/sites/16/2022/10/1_1.png
ORGANIZER;CN="Lutheran Youth Queensland":MAILTO:office@lyq.org.au
END:VEVENT
BEGIN:VEVENT
DTSTART;TZID=Australia/Brisbane:20221021T180000
DTEND;TZID=Australia/Brisbane:20221021T220000
DTSTAMP:20260423T135200
CREATED:20211214T054534Z
LAST-MODIFIED:20211214T054534Z
UID:13373-1666375200-1666389600@qld.lca.org.au
SUMMARY:LEQ Annual Dinner
DESCRIPTION:
URL:https://qld.lca.org.au/event/leq-annual-dinner-2/
CATEGORIES:Event
END:VEVENT
BEGIN:VEVENT
DTSTART;TZID=Australia/Brisbane:20220521T080000
DTEND;TZID=Australia/Brisbane:20220521T170000
DTSTAMP:20260423T135200
CREATED:20220420T224554Z
LAST-MODIFIED:20220420T224554Z
UID:13873-1653120000-1653152400@qld.lca.org.au
SUMMARY:LWQ Friendship Day
DESCRIPTION:The Darling Downs Zone of Lutheran Women on behalf of LWQ (Lutheran Women of Qld)\, are hosting Friendship Day on Saturday 21 May 2022 from 8.45am at St Paul’s Lutheran Church\, Phillip St\, East Toowoomba.\n\n\nThis Friendship Day is a one day event in lieu of our previous annual weekend Retreats.\n\n\nMore information plus the Draft Program and Registration form are available from the Retreats page on our LWQ web page (lwq.org.au) or available from Avalon (no_lava2010@hotmail.com)
URL:https://qld.lca.org.au/event/lwq-friendship-day/
CATEGORIES:Event
END:VEVENT
BEGIN:VEVENT
DTSTART;TZID=Australia/Brisbane:20220314T090000
DTEND;TZID=Australia/Brisbane:20220314T103000
DTSTAMP:20260423T135200
CREATED:20211130T055013Z
LAST-MODIFIED:20220209T013408Z
UID:13215-1647248400-1647253800@qld.lca.org.au
SUMMARY:LCAQD: Navigating our Future together
DESCRIPTION:Monday March 14\, 2022\,  9:00-10:30am \nThis event is for anyone involved in service & ministry (voluntary or paid) in an LCAQD congregation or agency: \n\nAn online gathering ahead of our LCAQD Ministry Summit on September 12\, 2022.\nHear Bishop Mark Vainikka share his thoughts on the future of our church and its agencies.\nMeet and build connections with people from other LCAQD agencies.\nReflect on what might be possible as God’s family together.\n\nKeynote speaker: Rev. Dr Bishop Mark Vainikka\, Bishop LCAQD\nBorn in Finland\, Mark is an immigrant\, a family member and a marathon runner. In 2021 Mark completed a PhD and was also elected as LCAQD Bishop. \nMark passionately believes that mission is God’s work through us. As we join in God’s mission we begin to understand our identity as church. \nFor Mark\, the local congregations and agencies are the foundational mission entities of the LCAQD. Hence Mark’s invitation to join him as we navigate the future together! \n  \nRegister here by COB Thursday March 10: https://lca.ucareapp.com/events/13/booknow
URL:https://qld.lca.org.au/event/noft-2022/
CATEGORIES:Conference,Event,LCAQD Feature
ATTACH;FMTTYPE=image/png:https://qld.lca.org.au/wp-content/uploads/sites/16/2021/11/Online-Ministry-Summit-event-banner-1055-x-350px.png
ORGANIZER;CN="LCAQD":MAILTO:district@qld.lca.org.au
END:VEVENT
BEGIN:VEVENT
DTSTART;TZID=Australia/Brisbane:20220110T080000
DTEND;TZID=Australia/Brisbane:20220114T170000
DTSTAMP:20260423T135200
CREATED:20211012T002920Z
LAST-MODIFIED:20211019T020134Z
UID:12973-1641801600-1642179600@qld.lca.org.au
SUMMARY:Summer Kids Camp Darling Downs
DESCRIPTION:Date\n\n10-14 January 2022\n\n\n\n\n\nTime\n\n10:30AM Monday – 1:30PM Friday\n\n\n\n\n\nAge\n\nGrades 3-6 in 2021\n\n\n\n\n\nLocation\n\n\n\nKoojarewon Youth Camps\n\nBorghardt Rd\n\nHighfields QLD 4352
URL:https://qld.lca.org.au/event/summer-kids-camp-darling-downs/
CATEGORIES:Event
END:VEVENT
BEGIN:VEVENT
DTSTART;TZID=Australia/Brisbane:20220110T080000
DTEND;TZID=Australia/Brisbane:20220114T170000
DTSTAMP:20260423T135200
CREATED:20211012T002851Z
LAST-MODIFIED:20211012T002851Z
UID:12972-1641801600-1642179600@qld.lca.org.au
SUMMARY:Summer Kids Camp Coolum
DESCRIPTION:Date\n\n10-14 January 2022\n\n\n\n\n\nTime\n\n10:30AM Monday – 1:30PM Friday\n\n\n\n\n\nAge\n\nGrades 3-6 in 2021\n\n\n\n\n\nLocation\n\n\n\nLuther Heights Youth Camp\n\n1592 David Low Way\n\nCoolum Beach QLD 4573
URL:https://qld.lca.org.au/event/summer-kids-camp-coolum/
CATEGORIES:Event
END:VEVENT
BEGIN:VEVENT
DTSTART;TZID=Australia/Brisbane:20211227T080000
DTEND;TZID=Australia/Brisbane:20220101T170000
DTSTAMP:20260423T135200
CREATED:20211019T003535Z
LAST-MODIFIED:20211019T003535Z
UID:12994-1640592000-1641056400@qld.lca.org.au
SUMMARY:LYQ Family Camp 2021 – 2022
DESCRIPTION:Family Camp Weekend – Friday 12 – Sunday 14 November\nFamily Camp Week 1 (6 nights) – Saturday 11 – Friday 17 December\nFamily Camp Week 2 (5 nights) – Monday 27 December – Saturday 1 January
URL:https://qld.lca.org.au/event/lyq-family-camp-2021-2022-2/
CATEGORIES:Event
ORGANIZER;CN="Lutheran Youth Queensland":MAILTO:office@lyq.org.au
END:VEVENT
BEGIN:VEVENT
DTSTART;TZID=Australia/Brisbane:20211212T080000
DTEND;TZID=Australia/Brisbane:20211217T170000
DTSTAMP:20260423T135200
CREATED:20211012T002727Z
LAST-MODIFIED:20211012T002727Z
UID:12966-1639296000-1639760400@qld.lca.org.au
SUMMARY:SENIOR BLAST 2021
DESCRIPTION:Date\n\n12-17 December 2021\n\n\n\n\n\nTime\n\n10:30am arrival on Sunday and 1:30pm departure on Friday.\n\n\n\n\n\nAge\n\nGrades 7-12\n\n\n\n\n\nLocation\n\n\n\nLuther Heights Youth Camp\n\n1592 David Low Way\n\nCoolum Beach QLD 4573
URL:https://qld.lca.org.au/event/senior-blast-2021/
CATEGORIES:Event
END:VEVENT
BEGIN:VEVENT
DTSTART;TZID=Australia/Brisbane:20211211T080000
DTEND;TZID=Australia/Brisbane:20211217T170000
DTSTAMP:20260423T135200
CREATED:20211019T003608Z
LAST-MODIFIED:20211019T003608Z
UID:12995-1639209600-1639760400@qld.lca.org.au
SUMMARY:LYQ Family Camp 2021 – 2022
DESCRIPTION:Family Camp Weekend – Friday 12 – Sunday 14 November\nFamily Camp Week 1 (6 nights) – Saturday 11 – Friday 17 December\nFamily Camp Week 2 (5 nights) – Monday 27 December – Saturday 1 January
URL:https://qld.lca.org.au/event/lyq-family-camp-2021-2022-3/
CATEGORIES:Event
END:VEVENT
BEGIN:VEVENT
DTSTART;TZID=Australia/Brisbane:20211121T080000
DTEND;TZID=Australia/Brisbane:20211130T170000
DTSTAMP:20260423T135200
CREATED:20211012T002533Z
LAST-MODIFIED:20211012T002533Z
UID:12964-1637481600-1638291600@qld.lca.org.au
SUMMARY:Young Adult Discipleship Retreat 2021
DESCRIPTION:Encounter God\, Know yourself\, Live for change\n\nDate 21-30 November 2021 \n\nAge 18 – 27 yrs old \n\nLocation QCCC Brookfield \n\n179 Gold Creek Road\nBrookfield QLD 4069
URL:https://qld.lca.org.au/event/young-adult-discipleship-retreat-2021/
CATEGORIES:Event
END:VEVENT
BEGIN:VEVENT
DTSTART;TZID=Australia/Brisbane:20211112T080000
DTEND;TZID=Australia/Brisbane:20211114T170000
DTSTAMP:20260423T135200
CREATED:20211012T004233Z
LAST-MODIFIED:20211012T004233Z
UID:12976-1636704000-1636909200@qld.lca.org.au
SUMMARY:LYQ Family Camp 2021 - 2022
DESCRIPTION:Family Camp Weekend – Friday 12 – Sunday 14 November\nFamily Camp Week 1 (6 nights) – Saturday 11 – Friday 17 December\nFamily Camp Week 2 (5 nights) – Monday 27 December – Saturday 1 January
URL:https://qld.lca.org.au/event/lyq-family-camp-2021-2022/
LOCATION:Luther Heights Youth Camp\, 1592-1606 David Low Way\, Coolum Beach\, Queensland\, 4573\, Australia
CATEGORIES:Event
ORGANIZER;CN="Lutheran Youth Queensland":MAILTO:office@lyq.org.au
END:VEVENT
BEGIN:VEVENT
DTSTART;TZID=Australia/Brisbane:20211017T080000
DTEND;TZID=Australia/Brisbane:20211017T170000
DTSTAMP:20260423T135200
CREATED:20211012T002354Z
LAST-MODIFIED:20211012T002354Z
UID:12963-1634457600-1634490000@qld.lca.org.au
SUMMARY:75th Anniversary Service for Grace Lutheran Church\, Redcliffe
DESCRIPTION:75th Anniversary of Grace Lutheran Church Congregation \nSunday 17th October 2021\n9am at Grace Lutheran College Chapel \nPlease RSVP by 15th October 2021
URL:https://qld.lca.org.au/event/75th-anniversary-service-for-grace-lutheran-church-redcliffe/
CATEGORIES:Event
END:VEVENT
BEGIN:VEVENT
DTSTART;TZID=Australia/Brisbane:20211012T080000
DTEND;TZID=Australia/Brisbane:20211012T170000
DTSTAMP:20260423T135200
CREATED:20211012T002800Z
LAST-MODIFIED:20211012T002800Z
UID:12965-1634025600-1634058000@qld.lca.org.au
SUMMARY:Junior Blast 2021
DESCRIPTION:Date\n\n12-17 December 2021\n\n\n\n\n\nTime\n\n10:30am arrival on Sunday and 1:30pm departure on Friday.\n\n\n\n\n\nAge\n\nGrades 3-6\n\n\n\n\n\nLocation\n\n\n\nLuther Heights Youth Camp\n\n1592 David Low Way\n\nCoolum Beach QLD 4573
URL:https://qld.lca.org.au/event/junior-blast-2021/
CATEGORIES:Event
END:VEVENT
BEGIN:VEVENT
DTSTART;TZID=Australia/Brisbane:20211010T080000
DTEND;TZID=Australia/Brisbane:20211010T170000
DTSTAMP:20260423T135200
CREATED:20211012T002258Z
LAST-MODIFIED:20211012T002258Z
UID:12962-1633852800-1633885200@qld.lca.org.au
SUMMARY:Walk Sterny's Way Hervey Bay
DESCRIPTION:Walk Sterny’s Way Hervey Bay
URL:https://qld.lca.org.au/event/walk-sternys-way-hervey-bay/
CATEGORIES:Event
END:VEVENT
END:VCALENDAR