BEGIN:VCALENDAR
VERSION:2.0
PRODID:-//Qld District - ECPv6.6.2//NONSGML v1.0//EN
CALSCALE:GREGORIAN
METHOD:PUBLISH
X-ORIGINAL-URL:https://qld.lca.org.au
X-WR-CALDESC:Events for Qld District
REFRESH-INTERVAL;VALUE=DURATION:PT1H
X-Robots-Tag:noindex
X-PUBLISHED-TTL:PT1H
BEGIN:VTIMEZONE
TZID:Australia/Brisbane
BEGIN:STANDARD
TZOFFSETFROM:+1000
TZOFFSETTO:+1000
TZNAME:AEST
DTSTART:20240101T000000
END:STANDARD
END:VTIMEZONE
BEGIN:VEVENT
DTSTART;TZID=Australia/Brisbane:20240907T103000
DTEND;TZID=Australia/Brisbane:20240907T123000
DTSTAMP:20260420T224336
CREATED:20240911T064800Z
LAST-MODIFIED:20240911T064800Z
UID:18473-1725705000-1725712200@qld.lca.org.au
SUMMARY:Way Forward Face-to-face Gathering
DESCRIPTION:7th September\, 10.30am – 12.30pm – Bethania Lutheran Church \n5-17 Church Road\nBethania Qld 4205\n07 3200 5357 \nRefreshments available.
URL:https://qld.lca.org.au/event/way-forward-face-to-face-gathering/
LOCATION:Bethania Lutheran Church\, 5-17 Church Road\, Bethania\, QLD\, 4205\, Australia
CATEGORIES:Meeting
END:VEVENT
END:VCALENDAR