BEGIN:VCALENDAR
VERSION:2.0
PRODID:-//Qld District - ECPv6.6.2//NONSGML v1.0//EN
CALSCALE:GREGORIAN
METHOD:PUBLISH
X-ORIGINAL-URL:https://qld.lca.org.au
X-WR-CALDESC:Events for Qld District
REFRESH-INTERVAL;VALUE=DURATION:PT1H
X-Robots-Tag:noindex
X-PUBLISHED-TTL:PT1H
BEGIN:VTIMEZONE
TZID:Australia/Brisbane
BEGIN:STANDARD
TZOFFSETFROM:+1000
TZOFFSETTO:+1000
TZNAME:AEST
DTSTART:20240101T000000
END:STANDARD
END:VTIMEZONE
BEGIN:VEVENT
DTSTART;VALUE=DATE:20240824
DTEND;VALUE=DATE:20240825
DTSTAMP:20260421T002835
CREATED:20231108T014143Z
LAST-MODIFIED:20231108T014143Z
UID:17131-1724457600-1724543999@qld.lca.org.au
SUMMARY:Ipswich Parish Prayer Conference Save-the-Date
DESCRIPTION:Save the date – more details to come.
URL:https://qld.lca.org.au/event/ipswich-parish-prayer-conference-save-the-date/
CATEGORIES:Conference
ORGANIZER;CN="Ipswich Lutheran Parish":MAILTO:chair@ipswich.church
END:VEVENT
END:VCALENDAR