BEGIN:VCALENDAR
VERSION:2.0
PRODID:-//Qld District - ECPv6.6.2//NONSGML v1.0//EN
CALSCALE:GREGORIAN
METHOD:PUBLISH
X-ORIGINAL-URL:https://qld.lca.org.au
X-WR-CALDESC:Events for Qld District
REFRESH-INTERVAL;VALUE=DURATION:PT1H
X-Robots-Tag:noindex
X-PUBLISHED-TTL:PT1H
BEGIN:VTIMEZONE
TZID:Australia/Brisbane
BEGIN:STANDARD
TZOFFSETFROM:+1000
TZOFFSETTO:+1000
TZNAME:AEST
DTSTART:20240101T000000
END:STANDARD
END:VTIMEZONE
BEGIN:VEVENT
DTSTART;TZID=Australia/Brisbane:20240308T080000
DTEND;TZID=Australia/Brisbane:20240310T170000
DTSTAMP:20260421T092554
CREATED:20230706T001843Z
LAST-MODIFIED:20230706T005125Z
UID:16396-1709884800-1710090000@qld.lca.org.au
SUMMARY:LWQ Retreat
DESCRIPTION:Date Claimer: \nLWQ RETREAT: 2nd weekend in March 8th 9th 10th 2024 \nVenue: Maroochy Waterfront Camp and Conference Centre
URL:https://qld.lca.org.au/event/lwq-retreat/
LOCATION:Maroochy Waterfront Camp and Conference Centre\, 42 David Low Way\, Diddilibah\, Queensland\, 4559\, Australia
CATEGORIES:Conferences & other events
END:VEVENT
END:VCALENDAR