BEGIN:VCALENDAR
VERSION:2.0
PRODID:-//Qld District - ECPv6.6.2//NONSGML v1.0//EN
CALSCALE:GREGORIAN
METHOD:PUBLISH
X-ORIGINAL-URL:https://qld.lca.org.au
X-WR-CALDESC:Events for Qld District
REFRESH-INTERVAL;VALUE=DURATION:PT1H
X-Robots-Tag:noindex
X-PUBLISHED-TTL:PT1H
BEGIN:VTIMEZONE
TZID:Australia/Brisbane
BEGIN:STANDARD
TZOFFSETFROM:+1000
TZOFFSETTO:+1000
TZNAME:AEST
DTSTART:20230101T000000
END:STANDARD
END:VTIMEZONE
BEGIN:VEVENT
DTSTART;TZID=Australia/Brisbane:20231113T190000
DTEND;TZID=Australia/Brisbane:20231113T223000
DTSTAMP:20260421T164348
CREATED:20221220T051230Z
LAST-MODIFIED:20221220T051230Z
UID:15235-1699902000-1699914600@qld.lca.org.au
SUMMARY:Council for Lutheran Services Meeting
DESCRIPTION:For Council for Lutheran Services members\nSupport Centre Prenzler Meeting Room\nLutheran Services Governance Administration
URL:https://qld.lca.org.au/event/council-for-lutheran-services-meeting-10/
CATEGORIES:Meeting
END:VEVENT
END:VCALENDAR