BEGIN:VCALENDAR
VERSION:2.0
PRODID:-//Qld District - ECPv6.6.2//NONSGML v1.0//EN
CALSCALE:GREGORIAN
METHOD:PUBLISH
X-ORIGINAL-URL:https://qld.lca.org.au
X-WR-CALDESC:Events for Qld District
REFRESH-INTERVAL;VALUE=DURATION:PT1H
X-Robots-Tag:noindex
X-PUBLISHED-TTL:PT1H
BEGIN:VTIMEZONE
TZID:Australia/Brisbane
BEGIN:STANDARD
TZOFFSETFROM:+1000
TZOFFSETTO:+1000
TZNAME:AEST
DTSTART:20230101T000000
END:STANDARD
END:VTIMEZONE
BEGIN:VEVENT
DTSTART;VALUE=DATE:20231021
DTEND;VALUE=DATE:20231022
DTSTAMP:20260421T190700
CREATED:20230802T000621Z
LAST-MODIFIED:20230912T222021Z
UID:16541-1697846400-1697932799@qld.lca.org.au
SUMMARY:DEFERRED: LCAQD Synod 2023 Online Session
DESCRIPTION:Update: this event has been deferred. Please go to https://qld.lca.org.au/events/synod/ for more details.\nOnline Synod session date announced: Saturday October 21\, 2023\nWhen the LCAQD Convention of Synod 2023 gathered in June\, the need for an additional 2023 session was foreshadowed. This online session will take place on October 21. \nDelegates: please keep this date free. You will receive a direct email with further details in due course. \nPlease go to https://qld.lca.org.au/events/synod/ for the latest Synod news. \nPlease wrap up any Synod Offering payments ASAP (this year they are in support of Far North Qld mission and ministry.) See the ‘Synod Offering’ tab on the Synod web page for EFT and credit card details.
URL:https://qld.lca.org.au/event/lcaqd-synod-2023-online-session/
LOCATION:Online
CATEGORIES:Conferences & other events
ORGANIZER;CN="LCAQD":MAILTO:district@qld.lca.org.au
END:VEVENT
END:VCALENDAR