BEGIN:VCALENDAR
VERSION:2.0
PRODID:-//Qld District - ECPv6.6.2//NONSGML v1.0//EN
CALSCALE:GREGORIAN
METHOD:PUBLISH
X-WR-CALNAME:Qld District
X-ORIGINAL-URL:https://qld.lca.org.au
X-WR-CALDESC:Events for Qld District
REFRESH-INTERVAL;VALUE=DURATION:PT1H
X-Robots-Tag:noindex
X-PUBLISHED-TTL:PT1H
BEGIN:VTIMEZONE
TZID:UTC
BEGIN:STANDARD
TZOFFSETFROM:+0000
TZOFFSETTO:+0000
TZNAME:UTC
DTSTART:20210101T000000
END:STANDARD
END:VTIMEZONE
BEGIN:VEVENT
DTSTART;TZID=UTC:20210604T170000
DTEND;TZID=UTC:20210606T153000
DTSTAMP:20260425T052221
CREATED:20190710T135253Z
LAST-MODIFIED:20210406T053810Z
UID:9671-1622826000-1622993400@qld.lca.org.au
SUMMARY:LCAQD Synod 2021
DESCRIPTION:Lutheran Church of Australia Queensland District Synod Conference: Friday 4 June 2021 to Sunday 6 June 2021 at Brisbane Technology Park Conference and Exhibition Centre\, 1 Clunies Ross Ct\, Eight Mile Plains. \nTheme: ‘Clothed in Christ’ \nTheme passage: “for all of you who were baptized into Christ have clothed yourselves with Christ.”’ (Gal.3:37). \nAccommodation\nSee Brisbane Technology Park’s list of nearby accommodation options. \nQuest Eight Mile Plains has kindly offered a 15% discount for the LCAQD Pastors conference and Synod. Please ensure you book your accommodation early to avoid disappointment \n\n\n\nLCAQD Pastors Conference and Synod \nQuest apartment hotels discount offer \n\nwww.questeightmileplains.com.au\nSelect stay dates\nClick “Promo/Corporate Code Button”\nEnter Promo code *Contact district@qld.lca.org.au for the promo code\nComplete the booking by choosing the room type/s\n\n15% OFF All Apartment Types \nStudio | One Bedroom | Two Bedroom | Three Bedroom \nPhone Bookings – 07 3736 2800 \nNo payment required until arrival \n24 hour cancellation
URL:https://qld.lca.org.au/event/lcaqd-synod-2021/
LOCATION:Brisbane Technology Park\, Eight Mile Plains\, 3 Clunies Ross Ct\, Eight Mile Plains\, Queensland\, 4113\, Australia
CATEGORIES:Conference,LCAQD Feature
ATTACH;FMTTYPE=image/png:https://qld.lca.org.au/wp-content/uploads/sites/16/2021/03/website-banner-1055-x-350px-5.png
ORGANIZER;CN="LCAQD":MAILTO:district@qld.lca.org.au
END:VEVENT
END:VCALENDAR