BEGIN:VCALENDAR
VERSION:2.0
PRODID:-//Qld District - ECPv6.6.2//NONSGML v1.0//EN
CALSCALE:GREGORIAN
METHOD:PUBLISH
X-WR-CALNAME:Qld District
X-ORIGINAL-URL:https://qld.lca.org.au
X-WR-CALDESC:Events for Qld District
REFRESH-INTERVAL;VALUE=DURATION:PT1H
X-Robots-Tag:noindex
X-PUBLISHED-TTL:PT1H
BEGIN:VTIMEZONE
TZID:UTC
BEGIN:STANDARD
TZOFFSETFROM:+0000
TZOFFSETTO:+0000
TZNAME:UTC
DTSTART:20210101T000000
END:STANDARD
END:VTIMEZONE
BEGIN:VEVENT
DTSTART;TZID=UTC:20210202T170000
DTEND;TZID=UTC:20210202T190000
DTSTAMP:20260425T033803
CREATED:20210118T152552Z
LAST-MODIFIED:20210118T152552Z
UID:11799-1612285200-1612292400@qld.lca.org.au
SUMMARY:Council of Lutheran Education Queensland (CLEQ) Meeting
DESCRIPTION:LEQ\, Level 2\, 24 McDougall Street\, Milton \nContact: Sandra McCullough <Sandra.McCullough@leq.lutheran.edu.au>
URL:https://qld.lca.org.au/event/council-of-lutheran-education-queensland-cleq-meeting/
LOCATION:24 McDougall Street\, Milton\, 24 McDougall Street\, Milton\, Brisbane\, Queensland\, 4064\, Australia
CATEGORIES:Governance Council Meeting
END:VEVENT
END:VCALENDAR